BEGIN:VCALENDAR
VERSION:2.0
PRODID:-//Kulturföreningen Lyktan - ECPv6.15.17.1//NONSGML v1.0//EN
CALSCALE:GREGORIAN
METHOD:PUBLISH
X-WR-CALNAME:Kulturföreningen Lyktan
X-ORIGINAL-URL:https://www.lyktan.net
X-WR-CALDESC:Händelser för Kulturföreningen Lyktan
REFRESH-INTERVAL;VALUE=DURATION:PT1H
X-Robots-Tag:noindex
X-PUBLISHED-TTL:PT1H
BEGIN:VTIMEZONE
TZID:Europe/Stockholm
BEGIN:DAYLIGHT
TZOFFSETFROM:+0100
TZOFFSETTO:+0200
TZNAME:CEST
DTSTART:20250330T010000
END:DAYLIGHT
BEGIN:STANDARD
TZOFFSETFROM:+0200
TZOFFSETTO:+0100
TZNAME:CET
DTSTART:20251026T010000
END:STANDARD
BEGIN:DAYLIGHT
TZOFFSETFROM:+0100
TZOFFSETTO:+0200
TZNAME:CEST
DTSTART:20260329T010000
END:DAYLIGHT
BEGIN:STANDARD
TZOFFSETFROM:+0200
TZOFFSETTO:+0100
TZNAME:CET
DTSTART:20261025T010000
END:STANDARD
BEGIN:DAYLIGHT
TZOFFSETFROM:+0100
TZOFFSETTO:+0200
TZNAME:CEST
DTSTART:20270328T010000
END:DAYLIGHT
BEGIN:STANDARD
TZOFFSETFROM:+0200
TZOFFSETTO:+0100
TZNAME:CET
DTSTART:20271031T010000
END:STANDARD
END:VTIMEZONE
BEGIN:VEVENT
DTSTART;VALUE=DATE:20260427
DTEND;VALUE=DATE:20260428
DTSTAMP:20260426T061557
CREATED:20250907T085224Z
LAST-MODIFIED:20260131T045303Z
UID:10005818-1777248000-1777334399@www.lyktan.net
SUMMARY:STÄNGT
DESCRIPTION:Denna dagen har vi stängt
URL:https://www.lyktan.net/event/stangt/2026-04-27/
CATEGORIES:Stängd
ATTACH;FMTTYPE=image/jpeg:https://www.lyktan.net/wp-content/uploads/2025/09/R.jpeg
END:VEVENT
BEGIN:VEVENT
DTSTART;TZID=Europe/Stockholm:20260427T120000
DTEND;TZID=Europe/Stockholm:20260427T180000
DTSTAMP:20260426T061557
CREATED:20260313T024104Z
LAST-MODIFIED:20260313T024107Z
UID:10009074-1777291200-1777312800@www.lyktan.net
SUMMARY:Anita Wernström - Cirkelns mitt - Mötesplatser
DESCRIPTION:Cirkelns mitt – Mötesplatser\n\n\n\nJag söker mig till fornminnen.Inte de stora lämningarna som berättar om rikedom och erövring\, utan de andra platserna i historien – människors mötesplatser. \n\n\n\nJag söker människans relation till naturen och tanken om ett cirkulärt sätt att leva\, som en gemensam samhällskropp. \n\n\n\nUnder en vandring i norra Italien sommaren 2025 besöker jag en neolitisk stencirkel. Solen värmer. Gräset är mjukt. Stenarna glittrar i ljuset. På platsen samlar jag också kolbitar – rester av träd som eldhärjats. Med kolbitarna tecknar jag. \n\n\n\nNio fotografier är tagna på platsen med en enkel analog kamera. Bilderna är inte efterarbetade digitalt. Det du ser är det som den ljuskänsliga filmen registrerade där och då. Kameran kan inte zooma in – motivet är demokratiskt inför linsen. \n\n\n\nVi vet inte säkert hur stencirklar användes under neolitikum. Kanske för ritualer. Kanske för att följa solens och stjärnornas rörelser. Kanske var det ojämna antalet stenar ett sätt att mötas\, rösta och samtala om det som var viktigt. \n\n\n\nVilka mötesplatser är viktiga för dig?Vad kan ett möte vara? Vad är att leva cirkulärt?Hur hänger mötesplatser och demokrati ihop?
URL:https://www.lyktan.net/event/anita-wernstrom-cirkelns-mitt-motesplatser-2/2026-04-27/
LOCATION:Östra Gymnasiet\, Kvartettvägen 2-6\, Trångsund\, 14263\, Sweden
CATEGORIES:Utställning
ATTACH;FMTTYPE=image/jpeg:https://www.lyktan.net/wp-content/uploads/2026/03/OG_web-anita_Wernstrom.jpg
GEO:59.2226737048;18.150960373
X-APPLE-STRUCTURED-LOCATION;VALUE=URI;X-ADDRESS=Östra Gymnasiet Kvartettvägen 2-6 Trångsund 14263 Sweden;X-APPLE-RADIUS=500;X-TITLE=Kvartettvägen 2-6:geo:18.150960373,59.2226737048
END:VEVENT
BEGIN:VEVENT
DTSTART;TZID=Europe/Stockholm:20260428T120000
DTEND;TZID=Europe/Stockholm:20260428T180000
DTSTAMP:20260426T061557
CREATED:20260131T043356Z
LAST-MODIFIED:20260131T043359Z
UID:10008397-1777377600-1777399200@www.lyktan.net
SUMMARY:Keramik
DESCRIPTION:Keramik (av grekiska: keramos\, krukmakarlera) betecknar såväl framställningen\, som själva godsen av bränd plastisk lera\, såsom lergods\, stengods\, flintgods\, porslin\, fajans med mera. Ett av de äldsta kända föremålen i keramik är Venus från Dolní Věstonice\, omkring 26 000 år gammal\, tillverkad av lera magrad med benmjöl.Under utställningen ordnas en föreläsning om keramik.
URL:https://www.lyktan.net/event/keramik/2026-04-28/
LOCATION:Galleri Lyktan\, Skogåstorget 7-9\, Skogås\, 142 30\, Sweden
CATEGORIES:Utställning,Vernissage
END:VEVENT
BEGIN:VEVENT
DTSTART;TZID=Europe/Stockholm:20260428T120000
DTEND;TZID=Europe/Stockholm:20260428T180000
DTSTAMP:20260426T061557
CREATED:20260313T024104Z
LAST-MODIFIED:20260313T024107Z
UID:10009075-1777377600-1777399200@www.lyktan.net
SUMMARY:Anita Wernström - Cirkelns mitt - Mötesplatser
DESCRIPTION:Cirkelns mitt – Mötesplatser\n\n\n\nJag söker mig till fornminnen.Inte de stora lämningarna som berättar om rikedom och erövring\, utan de andra platserna i historien – människors mötesplatser. \n\n\n\nJag söker människans relation till naturen och tanken om ett cirkulärt sätt att leva\, som en gemensam samhällskropp. \n\n\n\nUnder en vandring i norra Italien sommaren 2025 besöker jag en neolitisk stencirkel. Solen värmer. Gräset är mjukt. Stenarna glittrar i ljuset. På platsen samlar jag också kolbitar – rester av träd som eldhärjats. Med kolbitarna tecknar jag. \n\n\n\nNio fotografier är tagna på platsen med en enkel analog kamera. Bilderna är inte efterarbetade digitalt. Det du ser är det som den ljuskänsliga filmen registrerade där och då. Kameran kan inte zooma in – motivet är demokratiskt inför linsen. \n\n\n\nVi vet inte säkert hur stencirklar användes under neolitikum. Kanske för ritualer. Kanske för att följa solens och stjärnornas rörelser. Kanske var det ojämna antalet stenar ett sätt att mötas\, rösta och samtala om det som var viktigt. \n\n\n\nVilka mötesplatser är viktiga för dig?Vad kan ett möte vara? Vad är att leva cirkulärt?Hur hänger mötesplatser och demokrati ihop?
URL:https://www.lyktan.net/event/anita-wernstrom-cirkelns-mitt-motesplatser-2/2026-04-28/
LOCATION:Östra Gymnasiet\, Kvartettvägen 2-6\, Trångsund\, 14263\, Sweden
CATEGORIES:Utställning
ATTACH;FMTTYPE=image/jpeg:https://www.lyktan.net/wp-content/uploads/2026/03/OG_web-anita_Wernstrom.jpg
GEO:59.2226737048;18.150960373
X-APPLE-STRUCTURED-LOCATION;VALUE=URI;X-ADDRESS=Östra Gymnasiet Kvartettvägen 2-6 Trångsund 14263 Sweden;X-APPLE-RADIUS=500;X-TITLE=Kvartettvägen 2-6:geo:18.150960373,59.2226737048
END:VEVENT
BEGIN:VEVENT
DTSTART;TZID=Europe/Stockholm:20260429T120000
DTEND;TZID=Europe/Stockholm:20260429T160000
DTSTAMP:20260426T061557
CREATED:20250902T000248Z
LAST-MODIFIED:20260131T042930Z
UID:10005112-1777464000-1777478400@www.lyktan.net
SUMMARY:Hantverk med Kathrine
DESCRIPTION:
URL:https://www.lyktan.net/event/hantverk-med-kathrine/2026-04-29/
LOCATION:Galleri Lyktan\, Skogåstorget 7-9\, Skogås\, 142 30\, Sweden
CATEGORIES:Workshop
ATTACH;FMTTYPE=image/jpeg:https://www.lyktan.net/wp-content/uploads/2025/05/OIP-1.jpeg
END:VEVENT
BEGIN:VEVENT
DTSTART;TZID=Europe/Stockholm:20260429T120000
DTEND;TZID=Europe/Stockholm:20260429T180000
DTSTAMP:20260426T061557
CREATED:20260131T043356Z
LAST-MODIFIED:20260131T043359Z
UID:10008398-1777464000-1777485600@www.lyktan.net
SUMMARY:Keramik
DESCRIPTION:Keramik (av grekiska: keramos\, krukmakarlera) betecknar såväl framställningen\, som själva godsen av bränd plastisk lera\, såsom lergods\, stengods\, flintgods\, porslin\, fajans med mera. Ett av de äldsta kända föremålen i keramik är Venus från Dolní Věstonice\, omkring 26 000 år gammal\, tillverkad av lera magrad med benmjöl.Under utställningen ordnas en föreläsning om keramik.
URL:https://www.lyktan.net/event/keramik/2026-04-29/
LOCATION:Galleri Lyktan\, Skogåstorget 7-9\, Skogås\, 142 30\, Sweden
CATEGORIES:Utställning,Vernissage
END:VEVENT
BEGIN:VEVENT
DTSTART;TZID=Europe/Stockholm:20260429T120000
DTEND;TZID=Europe/Stockholm:20260429T180000
DTSTAMP:20260426T061557
CREATED:20260313T024104Z
LAST-MODIFIED:20260313T024107Z
UID:10009076-1777464000-1777485600@www.lyktan.net
SUMMARY:Anita Wernström - Cirkelns mitt - Mötesplatser
DESCRIPTION:Cirkelns mitt – Mötesplatser\n\n\n\nJag söker mig till fornminnen.Inte de stora lämningarna som berättar om rikedom och erövring\, utan de andra platserna i historien – människors mötesplatser. \n\n\n\nJag söker människans relation till naturen och tanken om ett cirkulärt sätt att leva\, som en gemensam samhällskropp. \n\n\n\nUnder en vandring i norra Italien sommaren 2025 besöker jag en neolitisk stencirkel. Solen värmer. Gräset är mjukt. Stenarna glittrar i ljuset. På platsen samlar jag också kolbitar – rester av träd som eldhärjats. Med kolbitarna tecknar jag. \n\n\n\nNio fotografier är tagna på platsen med en enkel analog kamera. Bilderna är inte efterarbetade digitalt. Det du ser är det som den ljuskänsliga filmen registrerade där och då. Kameran kan inte zooma in – motivet är demokratiskt inför linsen. \n\n\n\nVi vet inte säkert hur stencirklar användes under neolitikum. Kanske för ritualer. Kanske för att följa solens och stjärnornas rörelser. Kanske var det ojämna antalet stenar ett sätt att mötas\, rösta och samtala om det som var viktigt. \n\n\n\nVilka mötesplatser är viktiga för dig?Vad kan ett möte vara? Vad är att leva cirkulärt?Hur hänger mötesplatser och demokrati ihop?
URL:https://www.lyktan.net/event/anita-wernstrom-cirkelns-mitt-motesplatser-2/2026-04-29/
LOCATION:Östra Gymnasiet\, Kvartettvägen 2-6\, Trångsund\, 14263\, Sweden
CATEGORIES:Utställning
ATTACH;FMTTYPE=image/jpeg:https://www.lyktan.net/wp-content/uploads/2026/03/OG_web-anita_Wernstrom.jpg
GEO:59.2226737048;18.150960373
X-APPLE-STRUCTURED-LOCATION;VALUE=URI;X-ADDRESS=Östra Gymnasiet Kvartettvägen 2-6 Trångsund 14263 Sweden;X-APPLE-RADIUS=500;X-TITLE=Kvartettvägen 2-6:geo:18.150960373,59.2226737048
END:VEVENT
BEGIN:VEVENT
DTSTART;TZID=Europe/Stockholm:20260430T120000
DTEND;TZID=Europe/Stockholm:20260430T180000
DTSTAMP:20260426T061557
CREATED:20260131T043356Z
LAST-MODIFIED:20260131T043359Z
UID:10008399-1777550400-1777572000@www.lyktan.net
SUMMARY:Keramik
DESCRIPTION:Keramik (av grekiska: keramos\, krukmakarlera) betecknar såväl framställningen\, som själva godsen av bränd plastisk lera\, såsom lergods\, stengods\, flintgods\, porslin\, fajans med mera. Ett av de äldsta kända föremålen i keramik är Venus från Dolní Věstonice\, omkring 26 000 år gammal\, tillverkad av lera magrad med benmjöl.Under utställningen ordnas en föreläsning om keramik.
URL:https://www.lyktan.net/event/keramik/2026-04-30/
LOCATION:Galleri Lyktan\, Skogåstorget 7-9\, Skogås\, 142 30\, Sweden
CATEGORIES:Utställning,Vernissage
END:VEVENT
BEGIN:VEVENT
DTSTART;TZID=Europe/Stockholm:20260430T120000
DTEND;TZID=Europe/Stockholm:20260430T180000
DTSTAMP:20260426T061557
CREATED:20260313T024104Z
LAST-MODIFIED:20260313T024107Z
UID:10009077-1777550400-1777572000@www.lyktan.net
SUMMARY:Anita Wernström - Cirkelns mitt - Mötesplatser
DESCRIPTION:Cirkelns mitt – Mötesplatser\n\n\n\nJag söker mig till fornminnen.Inte de stora lämningarna som berättar om rikedom och erövring\, utan de andra platserna i historien – människors mötesplatser. \n\n\n\nJag söker människans relation till naturen och tanken om ett cirkulärt sätt att leva\, som en gemensam samhällskropp. \n\n\n\nUnder en vandring i norra Italien sommaren 2025 besöker jag en neolitisk stencirkel. Solen värmer. Gräset är mjukt. Stenarna glittrar i ljuset. På platsen samlar jag också kolbitar – rester av träd som eldhärjats. Med kolbitarna tecknar jag. \n\n\n\nNio fotografier är tagna på platsen med en enkel analog kamera. Bilderna är inte efterarbetade digitalt. Det du ser är det som den ljuskänsliga filmen registrerade där och då. Kameran kan inte zooma in – motivet är demokratiskt inför linsen. \n\n\n\nVi vet inte säkert hur stencirklar användes under neolitikum. Kanske för ritualer. Kanske för att följa solens och stjärnornas rörelser. Kanske var det ojämna antalet stenar ett sätt att mötas\, rösta och samtala om det som var viktigt. \n\n\n\nVilka mötesplatser är viktiga för dig?Vad kan ett möte vara? Vad är att leva cirkulärt?Hur hänger mötesplatser och demokrati ihop?
URL:https://www.lyktan.net/event/anita-wernstrom-cirkelns-mitt-motesplatser-2/2026-04-30/
LOCATION:Östra Gymnasiet\, Kvartettvägen 2-6\, Trångsund\, 14263\, Sweden
CATEGORIES:Utställning
ATTACH;FMTTYPE=image/jpeg:https://www.lyktan.net/wp-content/uploads/2026/03/OG_web-anita_Wernstrom.jpg
GEO:59.2226737048;18.150960373
X-APPLE-STRUCTURED-LOCATION;VALUE=URI;X-ADDRESS=Östra Gymnasiet Kvartettvägen 2-6 Trångsund 14263 Sweden;X-APPLE-RADIUS=500;X-TITLE=Kvartettvägen 2-6:geo:18.150960373,59.2226737048
END:VEVENT
BEGIN:VEVENT
DTSTART;TZID=Europe/Stockholm:20260430T180000
DTEND;TZID=Europe/Stockholm:20260430T200000
DTSTAMP:20260426T061557
CREATED:20250902T000603Z
LAST-MODIFIED:20250902T000603Z
UID:10005504-1777572000-1777579200@www.lyktan.net
SUMMARY:Torsdagsträffar
DESCRIPTION:
URL:https://www.lyktan.net/event/torsdagstraffar/2026-04-30/
CATEGORIES:Samtal
END:VEVENT
BEGIN:VEVENT
DTSTART;TZID=Europe/Stockholm:20260501T120000
DTEND;TZID=Europe/Stockholm:20260501T180000
DTSTAMP:20260426T061557
CREATED:20260131T043356Z
LAST-MODIFIED:20260131T043359Z
UID:10008400-1777636800-1777658400@www.lyktan.net
SUMMARY:Keramik
DESCRIPTION:Keramik (av grekiska: keramos\, krukmakarlera) betecknar såväl framställningen\, som själva godsen av bränd plastisk lera\, såsom lergods\, stengods\, flintgods\, porslin\, fajans med mera. Ett av de äldsta kända föremålen i keramik är Venus från Dolní Věstonice\, omkring 26 000 år gammal\, tillverkad av lera magrad med benmjöl.Under utställningen ordnas en föreläsning om keramik.
URL:https://www.lyktan.net/event/keramik/2026-05-01/
LOCATION:Galleri Lyktan\, Skogåstorget 7-9\, Skogås\, 142 30\, Sweden
CATEGORIES:Utställning,Vernissage
END:VEVENT
BEGIN:VEVENT
DTSTART;TZID=Europe/Stockholm:20260501T120000
DTEND;TZID=Europe/Stockholm:20260501T180000
DTSTAMP:20260426T061557
CREATED:20260313T024104Z
LAST-MODIFIED:20260313T024107Z
UID:10009078-1777636800-1777658400@www.lyktan.net
SUMMARY:Anita Wernström - Cirkelns mitt - Mötesplatser
DESCRIPTION:Cirkelns mitt – Mötesplatser\n\n\n\nJag söker mig till fornminnen.Inte de stora lämningarna som berättar om rikedom och erövring\, utan de andra platserna i historien – människors mötesplatser. \n\n\n\nJag söker människans relation till naturen och tanken om ett cirkulärt sätt att leva\, som en gemensam samhällskropp. \n\n\n\nUnder en vandring i norra Italien sommaren 2025 besöker jag en neolitisk stencirkel. Solen värmer. Gräset är mjukt. Stenarna glittrar i ljuset. På platsen samlar jag också kolbitar – rester av träd som eldhärjats. Med kolbitarna tecknar jag. \n\n\n\nNio fotografier är tagna på platsen med en enkel analog kamera. Bilderna är inte efterarbetade digitalt. Det du ser är det som den ljuskänsliga filmen registrerade där och då. Kameran kan inte zooma in – motivet är demokratiskt inför linsen. \n\n\n\nVi vet inte säkert hur stencirklar användes under neolitikum. Kanske för ritualer. Kanske för att följa solens och stjärnornas rörelser. Kanske var det ojämna antalet stenar ett sätt att mötas\, rösta och samtala om det som var viktigt. \n\n\n\nVilka mötesplatser är viktiga för dig?Vad kan ett möte vara? Vad är att leva cirkulärt?Hur hänger mötesplatser och demokrati ihop?
URL:https://www.lyktan.net/event/anita-wernstrom-cirkelns-mitt-motesplatser-2/2026-05-01/
LOCATION:Östra Gymnasiet\, Kvartettvägen 2-6\, Trångsund\, 14263\, Sweden
CATEGORIES:Utställning
ATTACH;FMTTYPE=image/jpeg:https://www.lyktan.net/wp-content/uploads/2026/03/OG_web-anita_Wernstrom.jpg
GEO:59.2226737048;18.150960373
X-APPLE-STRUCTURED-LOCATION;VALUE=URI;X-ADDRESS=Östra Gymnasiet Kvartettvägen 2-6 Trångsund 14263 Sweden;X-APPLE-RADIUS=500;X-TITLE=Kvartettvägen 2-6:geo:18.150960373,59.2226737048
END:VEVENT
BEGIN:VEVENT
DTSTART;TZID=Europe/Stockholm:20260502T120000
DTEND;TZID=Europe/Stockholm:20260502T180000
DTSTAMP:20260426T061557
CREATED:20260131T043356Z
LAST-MODIFIED:20260131T043359Z
UID:10008401-1777723200-1777744800@www.lyktan.net
SUMMARY:Keramik
DESCRIPTION:Keramik (av grekiska: keramos\, krukmakarlera) betecknar såväl framställningen\, som själva godsen av bränd plastisk lera\, såsom lergods\, stengods\, flintgods\, porslin\, fajans med mera. Ett av de äldsta kända föremålen i keramik är Venus från Dolní Věstonice\, omkring 26 000 år gammal\, tillverkad av lera magrad med benmjöl.Under utställningen ordnas en föreläsning om keramik.
URL:https://www.lyktan.net/event/keramik/2026-05-02/
LOCATION:Galleri Lyktan\, Skogåstorget 7-9\, Skogås\, 142 30\, Sweden
CATEGORIES:Utställning,Vernissage
END:VEVENT
BEGIN:VEVENT
DTSTART;VALUE=DATE:20260503
DTEND;VALUE=DATE:20260504
DTSTAMP:20260426T061557
CREATED:20250907T085224Z
LAST-MODIFIED:20260131T045303Z
UID:10005819-1777766400-1777852799@www.lyktan.net
SUMMARY:STÄNGT
DESCRIPTION:Denna dagen har vi stängt
URL:https://www.lyktan.net/event/stangt/2026-05-03/
CATEGORIES:Stängd
ATTACH;FMTTYPE=image/jpeg:https://www.lyktan.net/wp-content/uploads/2025/09/R.jpeg
END:VEVENT
END:VCALENDAR