BEGIN:VCALENDAR
VERSION:2.0
PRODID:-//Kulturföreningen Lyktan - ECPv6.15.17.1//NONSGML v1.0//EN
CALSCALE:GREGORIAN
METHOD:PUBLISH
X-ORIGINAL-URL:https://www.lyktan.net
X-WR-CALDESC:Händelser för Kulturföreningen Lyktan
REFRESH-INTERVAL;VALUE=DURATION:PT1H
X-Robots-Tag:noindex
X-PUBLISHED-TTL:PT1H
BEGIN:VTIMEZONE
TZID:Europe/Stockholm
BEGIN:DAYLIGHT
TZOFFSETFROM:+0100
TZOFFSETTO:+0200
TZNAME:CEST
DTSTART:20240331T010000
END:DAYLIGHT
BEGIN:STANDARD
TZOFFSETFROM:+0200
TZOFFSETTO:+0100
TZNAME:CET
DTSTART:20241027T010000
END:STANDARD
BEGIN:DAYLIGHT
TZOFFSETFROM:+0100
TZOFFSETTO:+0200
TZNAME:CEST
DTSTART:20250330T010000
END:DAYLIGHT
BEGIN:STANDARD
TZOFFSETFROM:+0200
TZOFFSETTO:+0100
TZNAME:CET
DTSTART:20251026T010000
END:STANDARD
BEGIN:DAYLIGHT
TZOFFSETFROM:+0100
TZOFFSETTO:+0200
TZNAME:CEST
DTSTART:20260329T010000
END:DAYLIGHT
BEGIN:STANDARD
TZOFFSETFROM:+0200
TZOFFSETTO:+0100
TZNAME:CET
DTSTART:20261025T010000
END:STANDARD
END:VTIMEZONE
BEGIN:VEVENT
DTSTART;VALUE=DATE:20251117
DTEND;VALUE=DATE:20251118
DTSTAMP:20260426T060736
CREATED:20250907T085224Z
LAST-MODIFIED:20260131T045303Z
UID:10008229-1763337600-1763423999@www.lyktan.net
SUMMARY:STÄNGT
DESCRIPTION:Denna dagen har vi stängt
URL:https://www.lyktan.net/event/stangt/2025-11-17/
CATEGORIES:Stängd
ATTACH;FMTTYPE=image/jpeg:https://www.lyktan.net/wp-content/uploads/2025/09/R.jpeg
END:VEVENT
BEGIN:VEVENT
DTSTART;TZID=Europe/Stockholm:20251117T120000
DTEND;TZID=Europe/Stockholm:20251117T170000
DTSTAMP:20260426T060736
CREATED:20251030T014111Z
LAST-MODIFIED:20251117T040512Z
UID:10006279-1763380800-1763398800@www.lyktan.net
SUMMARY:Prärievargen i Mexico City
DESCRIPTION:Fotoutställning om en megastad av Ulrika Hembjer
URL:https://www.lyktan.net/event/prarievargen-i-mexico-city/2025-11-17/
LOCATION:Östra Gymnasiet\, Kvartettvägen 2-6\, Trångsund\, 14263\, Sweden
CATEGORIES:Författarträff,Utställning
ATTACH;FMTTYPE=image/jpeg:https://www.lyktan.net/wp-content/uploads/2025/10/Prarievargen_Ostra2025-Affisch.jpg
GEO:59.2226737048;18.150960373
X-APPLE-STRUCTURED-LOCATION;VALUE=URI;X-ADDRESS=Östra Gymnasiet Kvartettvägen 2-6 Trångsund 14263 Sweden;X-APPLE-RADIUS=500;X-TITLE=Kvartettvägen 2-6:geo:18.150960373,59.2226737048
END:VEVENT
BEGIN:VEVENT
DTSTART;TZID=Europe/Stockholm:20251118T120000
DTEND;TZID=Europe/Stockholm:20251118T170000
DTSTAMP:20260426T060736
CREATED:20251030T014111Z
LAST-MODIFIED:20251117T040512Z
UID:10006280-1763467200-1763485200@www.lyktan.net
SUMMARY:Prärievargen i Mexico City
DESCRIPTION:Fotoutställning om en megastad av Ulrika Hembjer
URL:https://www.lyktan.net/event/prarievargen-i-mexico-city/2025-11-18/
LOCATION:Östra Gymnasiet\, Kvartettvägen 2-6\, Trångsund\, 14263\, Sweden
CATEGORIES:Författarträff,Utställning
ATTACH;FMTTYPE=image/jpeg:https://www.lyktan.net/wp-content/uploads/2025/10/Prarievargen_Ostra2025-Affisch.jpg
GEO:59.2226737048;18.150960373
X-APPLE-STRUCTURED-LOCATION;VALUE=URI;X-ADDRESS=Östra Gymnasiet Kvartettvägen 2-6 Trångsund 14263 Sweden;X-APPLE-RADIUS=500;X-TITLE=Kvartettvägen 2-6:geo:18.150960373,59.2226737048
END:VEVENT
BEGIN:VEVENT
DTSTART;TZID=Europe/Stockholm:20251118T160000
DTEND;TZID=Europe/Stockholm:20251118T180000
DTSTAMP:20260426T060736
CREATED:20251117T035212Z
LAST-MODIFIED:20251117T045435Z
UID:10006339-1763481600-1763488800@www.lyktan.net
SUMMARY:Sagoläsning på arabiska
DESCRIPTION:
URL:https://www.lyktan.net/event/sagolasning-pa-arabiska/
LOCATION:Galleri Lyktan\, Skogåstorget 7-9\, Skogås\, 142 30\, Sweden
CATEGORIES:Författarträff
ATTACH;FMTTYPE=image/jpeg:https://www.lyktan.net/wp-content/uploads/2025/09/Sagoland-2025-scaled.jpg
END:VEVENT
BEGIN:VEVENT
DTSTART;TZID=Europe/Stockholm:20251119T120000
DTEND;TZID=Europe/Stockholm:20251119T160000
DTSTAMP:20260426T060736
CREATED:20250902T000248Z
LAST-MODIFIED:20260131T042930Z
UID:10005089-1763553600-1763568000@www.lyktan.net
SUMMARY:Hantverk med Kathrine
DESCRIPTION:
URL:https://www.lyktan.net/event/hantverk-med-kathrine/2025-11-19/
LOCATION:Galleri Lyktan\, Skogåstorget 7-9\, Skogås\, 142 30\, Sweden
CATEGORIES:Workshop
ATTACH;FMTTYPE=image/jpeg:https://www.lyktan.net/wp-content/uploads/2025/05/OIP-1.jpeg
END:VEVENT
BEGIN:VEVENT
DTSTART;TZID=Europe/Stockholm:20251119T120000
DTEND;TZID=Europe/Stockholm:20251119T170000
DTSTAMP:20260426T060736
CREATED:20251030T014111Z
LAST-MODIFIED:20251117T040512Z
UID:10006281-1763553600-1763571600@www.lyktan.net
SUMMARY:Prärievargen i Mexico City
DESCRIPTION:Fotoutställning om en megastad av Ulrika Hembjer
URL:https://www.lyktan.net/event/prarievargen-i-mexico-city/2025-11-19/
LOCATION:Östra Gymnasiet\, Kvartettvägen 2-6\, Trångsund\, 14263\, Sweden
CATEGORIES:Författarträff,Utställning
ATTACH;FMTTYPE=image/jpeg:https://www.lyktan.net/wp-content/uploads/2025/10/Prarievargen_Ostra2025-Affisch.jpg
GEO:59.2226737048;18.150960373
X-APPLE-STRUCTURED-LOCATION;VALUE=URI;X-ADDRESS=Östra Gymnasiet Kvartettvägen 2-6 Trångsund 14263 Sweden;X-APPLE-RADIUS=500;X-TITLE=Kvartettvägen 2-6:geo:18.150960373,59.2226737048
END:VEVENT
BEGIN:VEVENT
DTSTART;TZID=Europe/Stockholm:20251119T120000
DTEND;TZID=Europe/Stockholm:20251119T170000
DTSTAMP:20260426T060736
CREATED:20251117T032255Z
LAST-MODIFIED:20251117T040806Z
UID:10006332-1763553600-1763571600@www.lyktan.net
SUMMARY:Sagoland
DESCRIPTION:
URL:https://www.lyktan.net/event/sagoland-2/2025-11-19/
LOCATION:Galleri Lyktan\, Skogåstorget 7-9\, Skogås\, 142 30\, Sweden
CATEGORIES:Utställning,Vernissage
ATTACH;FMTTYPE=image/jpeg:https://www.lyktan.net/wp-content/uploads/2025/09/Sagoland-2025-scaled.jpg
END:VEVENT
BEGIN:VEVENT
DTSTART;TZID=Europe/Stockholm:20251119T160000
DTEND;TZID=Europe/Stockholm:20251119T180000
DTSTAMP:20260426T060736
CREATED:20251117T035803Z
LAST-MODIFIED:20251117T035805Z
UID:10006340-1763568000-1763575200@www.lyktan.net
SUMMARY:Yvonne Pettersson läser egna sagor
DESCRIPTION:
URL:https://www.lyktan.net/event/yvonne-pettersson-laser-egna-sagor/
LOCATION:Galleri Lyktan\, Skogåstorget 7-9\, Skogås\, 142 30\, Sweden
END:VEVENT
BEGIN:VEVENT
DTSTART;TZID=Europe/Stockholm:20251120T120000
DTEND;TZID=Europe/Stockholm:20251120T170000
DTSTAMP:20260426T060736
CREATED:20251030T014111Z
LAST-MODIFIED:20251117T040512Z
UID:10006282-1763640000-1763658000@www.lyktan.net
SUMMARY:Prärievargen i Mexico City
DESCRIPTION:Fotoutställning om en megastad av Ulrika Hembjer
URL:https://www.lyktan.net/event/prarievargen-i-mexico-city/2025-11-20/
LOCATION:Östra Gymnasiet\, Kvartettvägen 2-6\, Trångsund\, 14263\, Sweden
CATEGORIES:Författarträff,Utställning
ATTACH;FMTTYPE=image/jpeg:https://www.lyktan.net/wp-content/uploads/2025/10/Prarievargen_Ostra2025-Affisch.jpg
GEO:59.2226737048;18.150960373
X-APPLE-STRUCTURED-LOCATION;VALUE=URI;X-ADDRESS=Östra Gymnasiet Kvartettvägen 2-6 Trångsund 14263 Sweden;X-APPLE-RADIUS=500;X-TITLE=Kvartettvägen 2-6:geo:18.150960373,59.2226737048
END:VEVENT
BEGIN:VEVENT
DTSTART;TZID=Europe/Stockholm:20251120T120000
DTEND;TZID=Europe/Stockholm:20251120T170000
DTSTAMP:20260426T060736
CREATED:20251117T040349Z
LAST-MODIFIED:20251117T040352Z
UID:10006316-1763640000-1763658000@www.lyktan.net
SUMMARY:Sagoland
DESCRIPTION:
URL:https://www.lyktan.net/event/sagoland-3/2025-11-20/
LOCATION:Galleri Lyktan\, Skogåstorget 7-9\, Skogås\, 142 30\, Sweden
CATEGORIES:Utställning,Vernissage
ATTACH;FMTTYPE=image/jpeg:https://www.lyktan.net/wp-content/uploads/2025/09/Sagoland-2025-scaled.jpg
END:VEVENT
BEGIN:VEVENT
DTSTART;TZID=Europe/Stockholm:20251120T150000
DTEND;TZID=Europe/Stockholm:20251120T170000
DTSTAMP:20260426T060736
CREATED:20251117T042605Z
LAST-MODIFIED:20251117T044048Z
UID:10006366-1763650800-1763658000@www.lyktan.net
SUMMARY:Tusen och en natt
DESCRIPTION:diskussion om ”Tusen och ett natt” \n\n\n\nVi visar Disney animations filmer som Gustaf Tenggren ritade på 20 – talet.
URL:https://www.lyktan.net/event/tusen-och-en-natt/
LOCATION:Galleri Lyktan\, Skogåstorget 7-9\, Skogås\, 142 30\, Sweden
ATTACH;FMTTYPE=image/jpeg:https://www.lyktan.net/wp-content/uploads/2025/09/Sagoland-2025-scaled.jpg
END:VEVENT
BEGIN:VEVENT
DTSTART;TZID=Europe/Stockholm:20251120T180000
DTEND;TZID=Europe/Stockholm:20251120T200000
DTSTAMP:20260426T060736
CREATED:20250902T000603Z
LAST-MODIFIED:20250902T000603Z
UID:10005481-1763661600-1763668800@www.lyktan.net
SUMMARY:Torsdagsträffar
DESCRIPTION:
URL:https://www.lyktan.net/event/torsdagstraffar/2025-11-20/
CATEGORIES:Samtal
END:VEVENT
BEGIN:VEVENT
DTSTART;TZID=Europe/Stockholm:20251121T120000
DTEND;TZID=Europe/Stockholm:20251121T170000
DTSTAMP:20260426T060736
CREATED:20251030T014111Z
LAST-MODIFIED:20251117T040512Z
UID:10006283-1763726400-1763744400@www.lyktan.net
SUMMARY:Prärievargen i Mexico City
DESCRIPTION:Fotoutställning om en megastad av Ulrika Hembjer
URL:https://www.lyktan.net/event/prarievargen-i-mexico-city/2025-11-21/
LOCATION:Östra Gymnasiet\, Kvartettvägen 2-6\, Trångsund\, 14263\, Sweden
CATEGORIES:Författarträff,Utställning
ATTACH;FMTTYPE=image/jpeg:https://www.lyktan.net/wp-content/uploads/2025/10/Prarievargen_Ostra2025-Affisch.jpg
GEO:59.2226737048;18.150960373
X-APPLE-STRUCTURED-LOCATION;VALUE=URI;X-ADDRESS=Östra Gymnasiet Kvartettvägen 2-6 Trångsund 14263 Sweden;X-APPLE-RADIUS=500;X-TITLE=Kvartettvägen 2-6:geo:18.150960373,59.2226737048
END:VEVENT
BEGIN:VEVENT
DTSTART;TZID=Europe/Stockholm:20251121T120000
DTEND;TZID=Europe/Stockholm:20251121T170000
DTSTAMP:20260426T060736
CREATED:20251117T032255Z
LAST-MODIFIED:20251117T040806Z
UID:10006334-1763726400-1763744400@www.lyktan.net
SUMMARY:Sagoland
DESCRIPTION:
URL:https://www.lyktan.net/event/sagoland-2/2025-11-21/
LOCATION:Galleri Lyktan\, Skogåstorget 7-9\, Skogås\, 142 30\, Sweden
CATEGORIES:Utställning,Vernissage
ATTACH;FMTTYPE=image/jpeg:https://www.lyktan.net/wp-content/uploads/2025/09/Sagoland-2025-scaled.jpg
END:VEVENT
BEGIN:VEVENT
DTSTART;TZID=Europe/Stockholm:20251122T120000
DTEND;TZID=Europe/Stockholm:20251122T170000
DTSTAMP:20260426T060736
CREATED:20251117T040349Z
LAST-MODIFIED:20251117T040352Z
UID:10006318-1763812800-1763830800@www.lyktan.net
SUMMARY:Sagoland
DESCRIPTION:
URL:https://www.lyktan.net/event/sagoland-3/2025-11-22/
LOCATION:Galleri Lyktan\, Skogåstorget 7-9\, Skogås\, 142 30\, Sweden
CATEGORIES:Utställning,Vernissage
ATTACH;FMTTYPE=image/jpeg:https://www.lyktan.net/wp-content/uploads/2025/09/Sagoland-2025-scaled.jpg
END:VEVENT
BEGIN:VEVENT
DTSTART;TZID=Europe/Stockholm:20251122T130000
DTEND;TZID=Europe/Stockholm:20251122T170000
DTSTAMP:20260426T060736
CREATED:20251117T041451Z
LAST-MODIFIED:20251117T044601Z
UID:10006364-1763816400-1763830800@www.lyktan.net
SUMMARY:Dockteater Tittut
DESCRIPTION:
URL:https://www.lyktan.net/event/dockteater-tittut/
LOCATION:Galleri Lyktan\, Skogåstorget 7-9\, Skogås\, 142 30\, Sweden
CATEGORIES:Författarträff,Utställning
END:VEVENT
BEGIN:VEVENT
DTSTART;TZID=Europe/Stockholm:20251123T120000
DTEND;TZID=Europe/Stockholm:20251123T170000
DTSTAMP:20260426T060736
CREATED:20251117T032255Z
LAST-MODIFIED:20251117T040806Z
UID:10006336-1763899200-1763917200@www.lyktan.net
SUMMARY:Sagoland
DESCRIPTION:
URL:https://www.lyktan.net/event/sagoland-2/2025-11-23/
LOCATION:Galleri Lyktan\, Skogåstorget 7-9\, Skogås\, 142 30\, Sweden
CATEGORIES:Utställning,Vernissage
ATTACH;FMTTYPE=image/jpeg:https://www.lyktan.net/wp-content/uploads/2025/09/Sagoland-2025-scaled.jpg
END:VEVENT
END:VCALENDAR