BEGIN:VCALENDAR
VERSION:2.0
PRODID:-//Kulturföreningen Lyktan - ECPv6.15.17.1//NONSGML v1.0//EN
CALSCALE:GREGORIAN
METHOD:PUBLISH
X-WR-CALNAME:Kulturföreningen Lyktan
X-ORIGINAL-URL:https://www.lyktan.net
X-WR-CALDESC:Händelser för Kulturföreningen Lyktan
REFRESH-INTERVAL;VALUE=DURATION:PT1H
X-Robots-Tag:noindex
X-PUBLISHED-TTL:PT1H
BEGIN:VTIMEZONE
TZID:Europe/Stockholm
BEGIN:DAYLIGHT
TZOFFSETFROM:+0100
TZOFFSETTO:+0200
TZNAME:CEST
DTSTART:20240331T010000
END:DAYLIGHT
BEGIN:STANDARD
TZOFFSETFROM:+0200
TZOFFSETTO:+0100
TZNAME:CET
DTSTART:20241027T010000
END:STANDARD
BEGIN:DAYLIGHT
TZOFFSETFROM:+0100
TZOFFSETTO:+0200
TZNAME:CEST
DTSTART:20250330T010000
END:DAYLIGHT
BEGIN:STANDARD
TZOFFSETFROM:+0200
TZOFFSETTO:+0100
TZNAME:CET
DTSTART:20251026T010000
END:STANDARD
BEGIN:DAYLIGHT
TZOFFSETFROM:+0100
TZOFFSETTO:+0200
TZNAME:CEST
DTSTART:20260329T010000
END:DAYLIGHT
BEGIN:STANDARD
TZOFFSETFROM:+0200
TZOFFSETTO:+0100
TZNAME:CET
DTSTART:20261025T010000
END:STANDARD
END:VTIMEZONE
BEGIN:VEVENT
DTSTART;TZID=Europe/Stockholm:20250814T093000
DTEND;TZID=Europe/Stockholm:20251102T180000
DTSTAMP:20260426T044744
CREATED:20250821T074940Z
LAST-MODIFIED:20250907T073342Z
UID:10005070-1755163800-1762106400@www.lyktan.net
SUMMARY:Eivor Pettersson  och  Juha Vilppunen
DESCRIPTION:Eivor Pettersson och Juha Vilppunen\nKulturföreningen Lyktans Fotoklubb\nställer ut fotokonst i\nMariakyrkan i Skogås\nUtställningen pågår under tiden \n14/8 och 2/11
URL:https://www.lyktan.net/event/eivor-pettersson-och-juha-vilppunen/
LOCATION:Mariakyrkan i Skogås\, Kommunalvägen 21\, Huddinge\, 14148\, Sweden
CATEGORIES:Utställning
ATTACH;FMTTYPE=image/jpeg:https://www.lyktan.net/wp-content/uploads/2025/09/Aff-Utst-i-Kyrkan-2025-scaled.jpg
END:VEVENT
BEGIN:VEVENT
DTSTART;TZID=Europe/Stockholm:20250906T120000
DTEND;TZID=Europe/Stockholm:20250924T170000
DTSTAMP:20260426T044744
CREATED:20250826T094721Z
LAST-MODIFIED:20250826T094729Z
UID:10005071-1757160000-1758733200@www.lyktan.net
SUMMARY:Tibor Jaeger "Mellan verklig och imäginär"
DESCRIPTION:När jag sitter framför en tom ark strävar jag efter att ladda så mycket idéer mellan kanterna som jag bara kan – inramade tankar\, som jag brukar säga.\nDet har blivit klart för mig\, att det mest spännande ämnet är människor. Mina grafiska verk går runt om den personer som rycks ur sina sociala situationer och sammanhang. Min avsikt det är\natt ta ut människan från sin omgivning och jag förändrar deras verkliga existens. På så sätt kan min verkstolkning ha en surrealistisk\, ibland grotesk känsla. Mina grafik har ingen historia och ingen berättelse. Till utseende jag gör nytolkning för den neutrala vardagslivet.
URL:https://www.lyktan.net/event/tibor-jaeger-mellan-verklig-och-imaginar/
CATEGORIES:Utställning
ATTACH;FMTTYPE=image/jpeg:https://www.lyktan.net/wp-content/uploads/2025/08/tibbor-Jaeger.jpg
END:VEVENT
BEGIN:VEVENT
DTSTART;TZID=Europe/Stockholm:20250915T120000
DTEND;TZID=Europe/Stockholm:20250930T170000
DTSTAMP:20260426T044744
CREATED:20250901T133341Z
LAST-MODIFIED:20250929T015228Z
UID:10005073-1757937600-1759251600@www.lyktan.net
SUMMARY:Medlemsutställning på Galleri Lyktan
DESCRIPTION:Medlemsutställning på Östra Gymnasiet
URL:https://www.lyktan.net/event/medlemsutstallning/
LOCATION:Östra Gymnasiet\, Kvartettvägen 2-6\, Trångsund\, 14263\, Sweden
CATEGORIES:Utställning
ATTACH;FMTTYPE=image/jpeg:https://www.lyktan.net/wp-content/uploads/2025/09/Medlemsutst_Lyktan-2025_ok.jpg
GEO:59.2226737048;18.150960373
X-APPLE-STRUCTURED-LOCATION;VALUE=URI;X-ADDRESS=Östra Gymnasiet Kvartettvägen 2-6 Trångsund 14263 Sweden;X-APPLE-RADIUS=500;X-TITLE=Kvartettvägen 2-6:geo:18.150960373,59.2226737048
END:VEVENT
BEGIN:VEVENT
DTSTART;TZID=Europe/Stockholm:20250920T120000
DTEND;TZID=Europe/Stockholm:20250920T170000
DTSTAMP:20260426T044744
CREATED:20250902T000732Z
LAST-MODIFIED:20250902T000732Z
UID:10005732-1758369600-1758387600@www.lyktan.net
SUMMARY:"M/S Cirrus" Barnteater
DESCRIPTION:
URL:https://www.lyktan.net/event/m-s-cirrus-barnteater/2025-09-20/
LOCATION:Galleri Lyktan\, Skogåstorget 7-9\, Skogås\, 142 30\, Sweden
CATEGORIES:Konsert
END:VEVENT
BEGIN:VEVENT
DTSTART;VALUE=DATE:20250921
DTEND;VALUE=DATE:20250922
DTSTAMP:20260426T044744
CREATED:20250907T085224Z
LAST-MODIFIED:20260131T045303Z
UID:10005755-1758412800-1758499199@www.lyktan.net
SUMMARY:STÄNGT
DESCRIPTION:Denna dagen har vi stängt
URL:https://www.lyktan.net/event/stangt/2025-09-21/
CATEGORIES:Stängd
ATTACH;FMTTYPE=image/jpeg:https://www.lyktan.net/wp-content/uploads/2025/09/R.jpeg
END:VEVENT
BEGIN:VEVENT
DTSTART;VALUE=DATE:20250922
DTEND;VALUE=DATE:20250923
DTSTAMP:20260426T044744
CREATED:20250907T085224Z
LAST-MODIFIED:20260131T045303Z
UID:10005756-1758499200-1758585599@www.lyktan.net
SUMMARY:STÄNGT
DESCRIPTION:Denna dagen har vi stängt
URL:https://www.lyktan.net/event/stangt/2025-09-22/
CATEGORIES:Stängd
ATTACH;FMTTYPE=image/jpeg:https://www.lyktan.net/wp-content/uploads/2025/09/R.jpeg
END:VEVENT
BEGIN:VEVENT
DTSTART;TZID=Europe/Stockholm:20250924T120000
DTEND;TZID=Europe/Stockholm:20250924T160000
DTSTAMP:20260426T044744
CREATED:20250902T000248Z
LAST-MODIFIED:20260131T042930Z
UID:10005081-1758715200-1758729600@www.lyktan.net
SUMMARY:Hantverk med Kathrine
DESCRIPTION:
URL:https://www.lyktan.net/event/hantverk-med-kathrine/2025-09-24/
LOCATION:Galleri Lyktan\, Skogåstorget 7-9\, Skogås\, 142 30\, Sweden
CATEGORIES:Workshop
ATTACH;FMTTYPE=image/jpeg:https://www.lyktan.net/wp-content/uploads/2025/05/OIP-1.jpeg
END:VEVENT
BEGIN:VEVENT
DTSTART;TZID=Europe/Stockholm:20250925T180000
DTEND;TZID=Europe/Stockholm:20250925T200000
DTSTAMP:20260426T044744
CREATED:20250902T000603Z
LAST-MODIFIED:20250902T000603Z
UID:10005473-1758823200-1758830400@www.lyktan.net
SUMMARY:Torsdagsträffar
DESCRIPTION:
URL:https://www.lyktan.net/event/torsdagstraffar/2025-09-25/
CATEGORIES:Samtal
END:VEVENT
BEGIN:VEVENT
DTSTART;TZID=Europe/Stockholm:20250927T120000
DTEND;TZID=Europe/Stockholm:20251030T170000
DTSTAMP:20260426T044744
CREATED:20250901T134056Z
LAST-MODIFIED:20250929T014940Z
UID:10005074-1758974400-1761843600@www.lyktan.net
SUMMARY:Medlemsutställning på Galleri Lyktan 2025
DESCRIPTION:Medlemsutställning på Galleri Lyktan 2025
URL:https://www.lyktan.net/event/medlemsutstallning-pa-galleri-lyktan-2025/
LOCATION:Galleri Lyktan\, Skogåstorget 7-9\, Skogås\, 142 30\, Sweden
CATEGORIES:Utställning
ATTACH;FMTTYPE=image/jpeg:https://www.lyktan.net/wp-content/uploads/2025/09/Medlemsutst_Lyktan-2025_ok.jpg
END:VEVENT
BEGIN:VEVENT
DTSTART;VALUE=DATE:20250928
DTEND;VALUE=DATE:20250929
DTSTAMP:20260426T044744
CREATED:20250907T085224Z
LAST-MODIFIED:20260131T045303Z
UID:10005757-1759017600-1759103999@www.lyktan.net
SUMMARY:STÄNGT
DESCRIPTION:Denna dagen har vi stängt
URL:https://www.lyktan.net/event/stangt/2025-09-28/
CATEGORIES:Stängd
ATTACH;FMTTYPE=image/jpeg:https://www.lyktan.net/wp-content/uploads/2025/09/R.jpeg
END:VEVENT
BEGIN:VEVENT
DTSTART;VALUE=DATE:20250929
DTEND;VALUE=DATE:20250930
DTSTAMP:20260426T044744
CREATED:20250907T085224Z
LAST-MODIFIED:20260131T045303Z
UID:10005758-1759104000-1759190399@www.lyktan.net
SUMMARY:STÄNGT
DESCRIPTION:Denna dagen har vi stängt
URL:https://www.lyktan.net/event/stangt/2025-09-29/
CATEGORIES:Stängd
ATTACH;FMTTYPE=image/jpeg:https://www.lyktan.net/wp-content/uploads/2025/09/R.jpeg
END:VEVENT
BEGIN:VEVENT
DTSTART;TZID=Europe/Stockholm:20250929T170000
DTEND;TZID=Europe/Stockholm:20250929T190000
DTSTAMP:20260426T044744
CREATED:20250902T000443Z
LAST-MODIFIED:20250905T174823Z
UID:10005742-1759165200-1759172400@www.lyktan.net
SUMMARY:Fotoklubben
DESCRIPTION:
URL:https://www.lyktan.net/event/fotoklubben/2025-09-29/
LOCATION:Galleri Lyktan\, Skogåstorget 7-9\, Skogås\, 142 30\, Sweden
CATEGORIES:Samtal
END:VEVENT
BEGIN:VEVENT
DTSTART;TZID=Europe/Stockholm:20251001T120000
DTEND;TZID=Europe/Stockholm:20251001T160000
DTSTAMP:20260426T044744
CREATED:20250902T000248Z
LAST-MODIFIED:20260131T042930Z
UID:10005082-1759320000-1759334400@www.lyktan.net
SUMMARY:Hantverk med Kathrine
DESCRIPTION:
URL:https://www.lyktan.net/event/hantverk-med-kathrine/2025-10-01/
LOCATION:Galleri Lyktan\, Skogåstorget 7-9\, Skogås\, 142 30\, Sweden
CATEGORIES:Workshop
ATTACH;FMTTYPE=image/jpeg:https://www.lyktan.net/wp-content/uploads/2025/05/OIP-1.jpeg
END:VEVENT
BEGIN:VEVENT
DTSTART;TZID=Europe/Stockholm:20251002T120000
DTEND;TZID=Europe/Stockholm:20251002T170000
DTSTAMP:20260426T044744
CREATED:20250902T000940Z
LAST-MODIFIED:20250902T000940Z
UID:10005733-1759406400-1759424400@www.lyktan.net
SUMMARY:Workshop. Introduction i läderhantverk
DESCRIPTION:
URL:https://www.lyktan.net/event/workshop-introduction-i-laderhantverk/2025-10-02/
LOCATION:Galleri Lyktan\, Skogåstorget 7-9\, Skogås\, 142 30\, Sweden
CATEGORIES:Workshop
END:VEVENT
BEGIN:VEVENT
DTSTART;TZID=Europe/Stockholm:20251002T180000
DTEND;TZID=Europe/Stockholm:20251002T200000
DTSTAMP:20260426T044744
CREATED:20250902T000603Z
LAST-MODIFIED:20250902T000603Z
UID:10005474-1759428000-1759435200@www.lyktan.net
SUMMARY:Torsdagsträffar
DESCRIPTION:
URL:https://www.lyktan.net/event/torsdagstraffar/2025-10-02/
CATEGORIES:Samtal
END:VEVENT
BEGIN:VEVENT
DTSTART;TZID=Europe/Stockholm:20251003T120000
DTEND;TZID=Europe/Stockholm:20251003T170000
DTSTAMP:20260426T044744
CREATED:20250902T000940Z
LAST-MODIFIED:20250902T000940Z
UID:10005734-1759492800-1759510800@www.lyktan.net
SUMMARY:Workshop. Introduction i läderhantverk
DESCRIPTION:
URL:https://www.lyktan.net/event/workshop-introduction-i-laderhantverk/2025-10-03/
LOCATION:Galleri Lyktan\, Skogåstorget 7-9\, Skogås\, 142 30\, Sweden
CATEGORIES:Workshop
END:VEVENT
BEGIN:VEVENT
DTSTART;TZID=Europe/Stockholm:20251004T120000
DTEND;TZID=Europe/Stockholm:20251004T170000
DTSTAMP:20260426T044744
CREATED:20250902T000940Z
LAST-MODIFIED:20250902T000940Z
UID:10005735-1759579200-1759597200@www.lyktan.net
SUMMARY:Workshop. Introduction i läderhantverk
DESCRIPTION:
URL:https://www.lyktan.net/event/workshop-introduction-i-laderhantverk/2025-10-04/
LOCATION:Galleri Lyktan\, Skogåstorget 7-9\, Skogås\, 142 30\, Sweden
CATEGORIES:Workshop
END:VEVENT
BEGIN:VEVENT
DTSTART;VALUE=DATE:20251005
DTEND;VALUE=DATE:20251006
DTSTAMP:20260426T044744
CREATED:20250907T085224Z
LAST-MODIFIED:20260131T045303Z
UID:10005759-1759622400-1759708799@www.lyktan.net
SUMMARY:STÄNGT
DESCRIPTION:Denna dagen har vi stängt
URL:https://www.lyktan.net/event/stangt/2025-10-05/
CATEGORIES:Stängd
ATTACH;FMTTYPE=image/jpeg:https://www.lyktan.net/wp-content/uploads/2025/09/R.jpeg
END:VEVENT
BEGIN:VEVENT
DTSTART;VALUE=DATE:20251006
DTEND;VALUE=DATE:20251007
DTSTAMP:20260426T044744
CREATED:20250907T085224Z
LAST-MODIFIED:20260131T045303Z
UID:10005760-1759708800-1759795199@www.lyktan.net
SUMMARY:STÄNGT
DESCRIPTION:Denna dagen har vi stängt
URL:https://www.lyktan.net/event/stangt/2025-10-06/
CATEGORIES:Stängd
ATTACH;FMTTYPE=image/jpeg:https://www.lyktan.net/wp-content/uploads/2025/09/R.jpeg
END:VEVENT
BEGIN:VEVENT
DTSTART;TZID=Europe/Stockholm:20251008T120000
DTEND;TZID=Europe/Stockholm:20251008T160000
DTSTAMP:20260426T044744
CREATED:20250902T000248Z
LAST-MODIFIED:20260131T042930Z
UID:10005083-1759924800-1759939200@www.lyktan.net
SUMMARY:Hantverk med Kathrine
DESCRIPTION:
URL:https://www.lyktan.net/event/hantverk-med-kathrine/2025-10-08/
LOCATION:Galleri Lyktan\, Skogåstorget 7-9\, Skogås\, 142 30\, Sweden
CATEGORIES:Workshop
ATTACH;FMTTYPE=image/jpeg:https://www.lyktan.net/wp-content/uploads/2025/05/OIP-1.jpeg
END:VEVENT
BEGIN:VEVENT
DTSTART;TZID=Europe/Stockholm:20251009T180000
DTEND;TZID=Europe/Stockholm:20251009T200000
DTSTAMP:20260426T044744
CREATED:20250902T000603Z
LAST-MODIFIED:20250902T000603Z
UID:10005475-1760032800-1760040000@www.lyktan.net
SUMMARY:Torsdagsträffar
DESCRIPTION:
URL:https://www.lyktan.net/event/torsdagstraffar/2025-10-09/
CATEGORIES:Samtal
END:VEVENT
BEGIN:VEVENT
DTSTART;TZID=Europe/Stockholm:20251011T120000
DTEND;TZID=Europe/Stockholm:20251011T170000
DTSTAMP:20260426T044744
CREATED:20250902T001053Z
LAST-MODIFIED:20250902T001053Z
UID:10005736-1760184000-1760202000@www.lyktan.net
SUMMARY:Poesifestival och Bokmässa
DESCRIPTION:
URL:https://www.lyktan.net/event/poesifestival-och-bokmassa/
LOCATION:Galleri Lyktan\, Skogåstorget 7-9\, Skogås\, 142 30\, Sweden
CATEGORIES:Författarträff
END:VEVENT
BEGIN:VEVENT
DTSTART;VALUE=DATE:20251012
DTEND;VALUE=DATE:20251013
DTSTAMP:20260426T044744
CREATED:20250907T085224Z
LAST-MODIFIED:20260131T045303Z
UID:10005761-1760227200-1760313599@www.lyktan.net
SUMMARY:STÄNGT
DESCRIPTION:Denna dagen har vi stängt
URL:https://www.lyktan.net/event/stangt/2025-10-12/
CATEGORIES:Stängd
ATTACH;FMTTYPE=image/jpeg:https://www.lyktan.net/wp-content/uploads/2025/09/R.jpeg
END:VEVENT
BEGIN:VEVENT
DTSTART;VALUE=DATE:20251013
DTEND;VALUE=DATE:20251014
DTSTAMP:20260426T044744
CREATED:20250907T085224Z
LAST-MODIFIED:20260131T045303Z
UID:10005762-1760313600-1760399999@www.lyktan.net
SUMMARY:STÄNGT
DESCRIPTION:Denna dagen har vi stängt
URL:https://www.lyktan.net/event/stangt/2025-10-13/
CATEGORIES:Stängd
ATTACH;FMTTYPE=image/jpeg:https://www.lyktan.net/wp-content/uploads/2025/09/R.jpeg
END:VEVENT
BEGIN:VEVENT
DTSTART;TZID=Europe/Stockholm:20251013T170000
DTEND;TZID=Europe/Stockholm:20251013T190000
DTSTAMP:20260426T044744
CREATED:20250902T000443Z
LAST-MODIFIED:20250905T174823Z
UID:10005743-1760374800-1760382000@www.lyktan.net
SUMMARY:Fotoklubben
DESCRIPTION:
URL:https://www.lyktan.net/event/fotoklubben/2025-10-13/
LOCATION:Galleri Lyktan\, Skogåstorget 7-9\, Skogås\, 142 30\, Sweden
CATEGORIES:Samtal
END:VEVENT
BEGIN:VEVENT
DTSTART;TZID=Europe/Stockholm:20251015T120000
DTEND;TZID=Europe/Stockholm:20251015T160000
DTSTAMP:20260426T044744
CREATED:20250902T000248Z
LAST-MODIFIED:20260131T042930Z
UID:10005084-1760529600-1760544000@www.lyktan.net
SUMMARY:Hantverk med Kathrine
DESCRIPTION:
URL:https://www.lyktan.net/event/hantverk-med-kathrine/2025-10-15/
LOCATION:Galleri Lyktan\, Skogåstorget 7-9\, Skogås\, 142 30\, Sweden
CATEGORIES:Workshop
ATTACH;FMTTYPE=image/jpeg:https://www.lyktan.net/wp-content/uploads/2025/05/OIP-1.jpeg
END:VEVENT
BEGIN:VEVENT
DTSTART;TZID=Europe/Stockholm:20251016T180000
DTEND;TZID=Europe/Stockholm:20251016T200000
DTSTAMP:20260426T044744
CREATED:20250902T000603Z
LAST-MODIFIED:20250902T000603Z
UID:10005476-1760637600-1760644800@www.lyktan.net
SUMMARY:Torsdagsträffar
DESCRIPTION:
URL:https://www.lyktan.net/event/torsdagstraffar/2025-10-16/
CATEGORIES:Samtal
END:VEVENT
BEGIN:VEVENT
DTSTART;VALUE=DATE:20251019
DTEND;VALUE=DATE:20251020
DTSTAMP:20260426T044744
CREATED:20250907T085224Z
LAST-MODIFIED:20260131T045303Z
UID:10005763-1760832000-1760918399@www.lyktan.net
SUMMARY:STÄNGT
DESCRIPTION:Denna dagen har vi stängt
URL:https://www.lyktan.net/event/stangt/2025-10-19/
CATEGORIES:Stängd
ATTACH;FMTTYPE=image/jpeg:https://www.lyktan.net/wp-content/uploads/2025/09/R.jpeg
END:VEVENT
BEGIN:VEVENT
DTSTART;VALUE=DATE:20251020
DTEND;VALUE=DATE:20251021
DTSTAMP:20260426T044744
CREATED:20250907T085224Z
LAST-MODIFIED:20260131T045303Z
UID:10005764-1760918400-1761004799@www.lyktan.net
SUMMARY:STÄNGT
DESCRIPTION:Denna dagen har vi stängt
URL:https://www.lyktan.net/event/stangt/2025-10-20/
CATEGORIES:Stängd
ATTACH;FMTTYPE=image/jpeg:https://www.lyktan.net/wp-content/uploads/2025/09/R.jpeg
END:VEVENT
BEGIN:VEVENT
DTSTART;TZID=Europe/Stockholm:20251022T120000
DTEND;TZID=Europe/Stockholm:20251022T160000
DTSTAMP:20260426T044744
CREATED:20250902T000248Z
LAST-MODIFIED:20260131T042930Z
UID:10005085-1761134400-1761148800@www.lyktan.net
SUMMARY:Hantverk med Kathrine
DESCRIPTION:
URL:https://www.lyktan.net/event/hantverk-med-kathrine/2025-10-22/
LOCATION:Galleri Lyktan\, Skogåstorget 7-9\, Skogås\, 142 30\, Sweden
CATEGORIES:Workshop
ATTACH;FMTTYPE=image/jpeg:https://www.lyktan.net/wp-content/uploads/2025/05/OIP-1.jpeg
END:VEVENT
END:VCALENDAR