BEGIN:VCALENDAR
VERSION:2.0
PRODID:-//Kulturföreningen Lyktan - ECPv6.15.17.1//NONSGML v1.0//EN
CALSCALE:GREGORIAN
METHOD:PUBLISH
X-WR-CALNAME:Kulturföreningen Lyktan
X-ORIGINAL-URL:https://www.lyktan.net
X-WR-CALDESC:Händelser för Kulturföreningen Lyktan
REFRESH-INTERVAL;VALUE=DURATION:PT1H
X-Robots-Tag:noindex
X-PUBLISHED-TTL:PT1H
BEGIN:VTIMEZONE
TZID:Europe/Stockholm
BEGIN:DAYLIGHT
TZOFFSETFROM:+0100
TZOFFSETTO:+0200
TZNAME:CEST
DTSTART:20240331T010000
END:DAYLIGHT
BEGIN:STANDARD
TZOFFSETFROM:+0200
TZOFFSETTO:+0100
TZNAME:CET
DTSTART:20241027T010000
END:STANDARD
BEGIN:DAYLIGHT
TZOFFSETFROM:+0100
TZOFFSETTO:+0200
TZNAME:CEST
DTSTART:20250330T010000
END:DAYLIGHT
BEGIN:STANDARD
TZOFFSETFROM:+0200
TZOFFSETTO:+0100
TZNAME:CET
DTSTART:20251026T010000
END:STANDARD
BEGIN:DAYLIGHT
TZOFFSETFROM:+0100
TZOFFSETTO:+0200
TZNAME:CEST
DTSTART:20260329T010000
END:DAYLIGHT
BEGIN:STANDARD
TZOFFSETFROM:+0200
TZOFFSETTO:+0100
TZNAME:CET
DTSTART:20261025T010000
END:STANDARD
END:VTIMEZONE
BEGIN:VEVENT
DTSTART;TZID=Europe/Stockholm:20250409T160000
DTEND;TZID=Europe/Stockholm:20250409T170000
DTSTAMP:20260426T043347
CREATED:20250409T085046Z
LAST-MODIFIED:20250415T212955Z
UID:10000001-1744214400-1744218000@www.lyktan.net
SUMMARY:Workshop med konstnären Witold Wisniewski
DESCRIPTION:Workshop med konstnären Witold Wisniewski
URL:https://www.lyktan.net/event/workshop-med-konstnaren-witold-wisniewski/
LOCATION:Galleri Lyktan\, Skogåstorget 7-9\, Skogås\, 142 30\, Sweden
CATEGORIES:Workshop
END:VEVENT
BEGIN:VEVENT
DTSTART;TZID=Europe/Stockholm:20250410T160000
DTEND;TZID=Europe/Stockholm:20250410T170000
DTSTAMP:20260426T043347
CREATED:20250409T120758Z
LAST-MODIFIED:20250415T212943Z
UID:10000007-1744300800-1744304400@www.lyktan.net
SUMMARY:Konstnärsträff Cornelis van Dongen
DESCRIPTION:Cornelis van DongenPedagog\, läkepedagog och träslöjdslärare – numera pensionerad\, men fortsatt verksam som slöjdare. \nCornelis arbetar med naturliga material såsom trä\, linolja\, bivax och pigment. I en tid där mycket tillverkas i plast vill han lyfta fram vikten av att ge barn leksaker helt i naturmaterial. Dessa åldras vackert\, håller länge och bärs ofta vidare från generation till generation – uppskattade för sin hållbarhet och sitt uttryck. Är de dessutom handgjorda\, blir glädjen och värdet ännu större. \nI utställningen visas även smycken i olika träslag\, ofta i kombination med vackra stenar. \nCornelis passion har vuxit fram genom ett långt yrkesliv med barn i behov av särskilt stöd\, och hans arbete är djupt rotat i waldorfpedagogikens helhetssyn och hantverkets läkande kraft.
URL:https://www.lyktan.net/event/konstnarstraff-cornelis-van-dongen/
LOCATION:Galleri Lyktan\, Skogåstorget 7-9\, Skogås\, 142 30\, Sweden
CATEGORIES:Konstnärsträff
END:VEVENT
BEGIN:VEVENT
DTSTART;TZID=Europe/Stockholm:20250415T130000
DTEND;TZID=Europe/Stockholm:20250415T160000
DTSTAMP:20260426T043347
CREATED:20250409T104306Z
LAST-MODIFIED:20250415T213405Z
UID:10000005-1744722000-1744732800@www.lyktan.net
SUMMARY:Äggmålning med Irina Alter
DESCRIPTION:🎨 Välkommen till en färgsprakande stund i vårens tecken! 🌸 \nGalleri Luktan i Skogås bjuder in barn\, unga och vuxna – alla som vill skapa! – till en inspirerande äggmålning tillsammans med den ukrainska konstnären Irina Alter. \nOavsett om du aldrig har hållit i en pensel förut eller redan älskar att måla\, är detta ett gyllene tillfälle att dyka in i kreativitetens värld. Under Irinas varsamma ledning får du chansen att dekorera ägg på traditionellt och nyskapande vis – ett möte mellan färg\, form och kultur. \n✨ Kom som du är – själv eller med vänner och familj.🖌️ Allt material finns på plats.☕ Det bjuds på något litet att tugga på och kanske ett skratt eller två. \n🗓️ Datum och tid: 15 – 16 april 2025 13:00 – 16:00📍 Plats: Galleri Lyktan\, Skogås💙 Ingen föranmälan – bara dyk upp! \nSprid ordet och kom och fira våren med färg\, gemenskap och ukrainsk konstnärlig glädje!
URL:https://www.lyktan.net/event/aggmalning-med-irina-alter/
LOCATION:Galleri Lyktan\, Skogåstorget 7-9\, Skogås\, 142 30\, Sweden
CATEGORIES:Workshop
END:VEVENT
BEGIN:VEVENT
DTSTART;TZID=Europe/Stockholm:20250416T130000
DTEND;TZID=Europe/Stockholm:20250416T160000
DTSTAMP:20260426T043347
CREATED:20250409T105045Z
LAST-MODIFIED:20250416T022902Z
UID:10000006-1744808400-1744819200@www.lyktan.net
SUMMARY:Äggmålning med Irina Alter
DESCRIPTION:  \n Välkommen till en färgsprakande stund i vårens tecken!  \nGalleri Luktan i Skogås bjuder in barn\, unga och vuxna – alla som vill skapa! – till en inspirerande äggmålning tillsammans med den ukrainska konstnären Irina Alter. \nOavsett om du aldrig har hållit i en pensel förut eller redan älskar att måla\, är detta ett gyllene tillfälle att dyka in i kreativitetens värld. Under Irinas varsamma ledning får du chansen att dekorera ägg på traditionellt och nyskapande vis – ett möte mellan färg\, form och kultur. \n Kom som du är – själv eller med vänner och familj. Allt material finns på plats. Det bjuds på något litet att tugga på och kanske ett skratt eller två. \n Datum och tid: 15 – 16 april 13:00 – 16:00 Plats: Galleri Lyktan\, Skogås Ingen föranmälan – bara dyk upp! \nSprid ordet och kom och fira våren med färg\, gemenskap och ukrainsk konstnärlig glädje!
URL:https://www.lyktan.net/event/aggmalning-med-irina-alter-2/
LOCATION:Galleri Lyktan\, Skogåstorget 7-9\, Skogås\, 142 30\, Sweden
CATEGORIES:Workshop
ATTACH;FMTTYPE=image/webp:https://www.lyktan.net/wp-content/uploads/2025/04/56189_3.webp
END:VEVENT
BEGIN:VEVENT
DTSTART;TZID=Europe/Stockholm:20250417T080000
DTEND;TZID=Europe/Stockholm:20250421T180000
DTSTAMP:20260426T043347
CREATED:20250412T180915Z
LAST-MODIFIED:20250416T022817Z
UID:10000008-1744876800-1745258400@www.lyktan.net
SUMMARY:Påskledigt
DESCRIPTION:  \nVi håller det enkelt och fint – Glad Påsk!! \nOch vi tar ledigt mellan den 17 och 21 april 2025
URL:https://www.lyktan.net/event/paskledigt/
CATEGORIES:Stängd
ATTACH;FMTTYPE=image/jpeg:https://www.lyktan.net/wp-content/uploads/2025/04/Glad_p__sk_2021.jpg
END:VEVENT
BEGIN:VEVENT
DTSTART;TZID=Europe/Stockholm:20250424T180000
DTEND;TZID=Europe/Stockholm:20250424T190000
DTSTAMP:20260426T043347
CREATED:20250409T092624Z
LAST-MODIFIED:20250416T022603Z
UID:10000002-1745517600-1745521200@www.lyktan.net
SUMMARY:Författarträff Anna Winner
DESCRIPTION:  \n 
URL:https://www.lyktan.net/event/forfattartraff-anna-winner/
LOCATION:Galleri Lyktan\, Skogåstorget 7-9\, Skogås\, 142 30\, Sweden
CATEGORIES:Författarträff
ATTACH;FMTTYPE=image/jpeg:https://www.lyktan.net/wp-content/uploads/2025/04/Anna-Winner-scaled.jpg
END:VEVENT
BEGIN:VEVENT
DTSTART;TZID=Europe/Stockholm:20250426T120000
DTEND;TZID=Europe/Stockholm:20250514T150000
DTSTAMP:20260426T043347
CREATED:20250409T100122Z
LAST-MODIFIED:20250424T224024Z
UID:10000003-1745668800-1747234800@www.lyktan.net
SUMMARY:Elever från Östra gymnasiet
DESCRIPTION:Elever från Östra gymnasiet i kurserna Fotografisk bild och Bild & form visar fotografier\, teckningar och målningar. \nDu kommer få se bilder från Skogås\, parafraser\, träd\, konst\, porträtt\, tarot med elevernas egna uttryck!
URL:https://www.lyktan.net/event/elever-fran-ostra-gymnasiet/
LOCATION:Galleri Lyktan\, Skogåstorget 7-9\, Skogås\, 142 30\, Sweden
CATEGORIES:Utställning
ATTACH;FMTTYPE=image/png:https://www.lyktan.net/wp-content/uploads/2025/04/1Affisch-galleri-Lyktan-ostra-gum.png
END:VEVENT
BEGIN:VEVENT
DTSTART;TZID=Europe/Stockholm:20250428T080000
DTEND;TZID=Europe/Stockholm:20250605T170000
DTSTAMP:20260426T043347
CREATED:20250422T090452Z
LAST-MODIFIED:20250422T091030Z
UID:10005047-1745827200-1749142800@www.lyktan.net
SUMMARY:EN BLICK\, TRE AKTER\, TRE TIDSPERIODER
DESCRIPTION:Utatällning av Raul Leon Alvarez
URL:https://www.lyktan.net/event/en-blick-tre-akter-tre-tidsperioder/
LOCATION:Östra Gymnasiet\, Kvartettvägen 2-6\, Trångsund\, 14263\, Sweden
CATEGORIES:Utställning
ATTACH;FMTTYPE=image/jpeg:https://www.lyktan.net/wp-content/uploads/2025/04/Publikation3.jpg
GEO:59.2226737048;18.150960373
X-APPLE-STRUCTURED-LOCATION;VALUE=URI;X-ADDRESS=Östra Gymnasiet Kvartettvägen 2-6 Trångsund 14263 Sweden;X-APPLE-RADIUS=500;X-TITLE=Kvartettvägen 2-6:geo:18.150960373,59.2226737048
END:VEVENT
BEGIN:VEVENT
DTSTART;TZID=Europe/Stockholm:20250428T120000
DTEND;TZID=Europe/Stockholm:20250428T150000
DTSTAMP:20260426T043347
CREATED:20250425T104352Z
LAST-MODIFIED:20250425T104508Z
UID:10005048-1745841600-1745852400@www.lyktan.net
SUMMARY:Vernissage
DESCRIPTION:Raul Leon Alvarez ställer ut sin konst på Östra gymnasiet\, Trångsund\nVernissage måndag 28 april kl. 12-15\nVid vernissagen uppträder \nmusikgruppen\nKeTumba\nYarien Rodriguez och Yan Regueiro med DJ Acosta \nKeTumba\nBorn from the creative union of Yan Reguero and Yarien Rodriguez who met for first time in Stockholm\, Sweden in 2019. Early in 2023\, they founded the project\nthat months later would be baptized as KeTumba.\nThe music has a pop-soul foundation\, influences from electronic music and a touch of afro-latin rhythms. The style of producing is inspired by different artist such as Quincy Jones\, Timbaland\, Avicci and Pharrell Williams\, among others. The lyrics are characterized by being introspective and performative. \nKeTumba had its first concert with seven own-written songs on September 16th 2023 at alias Teatern in Stockholm. Since then they have performed in various venues; such as Scalateatern\, Fröken Vandal and The Node. KeTumba has released two singles named ”Report from the future” and ”Singing of mama”. They are available on most digital platforms. The band is now recording its first EP named ”Coming home”.\nFor interest in booking dates for events please contact:\nCatM.Ketumba@gmail.com\nhttps://open.spotify.com/artist/7928uuBjMKWk0W90nmOUqq?si=7K-9oCnIS1OKzCNnjgD9WQ\nhttps://www.instagram.com/reel/C3AHtA0C803/?igsh=MXJhaXN4c3czY3FzaQ==\nhttps://www.instagram.com/reel/C0kQIrXsPqI/?igsh=dnIwazlzYTkzeWN5
URL:https://www.lyktan.net/event/vernissage/
LOCATION:Östra Gymnasiet\, Kvartettvägen 2-6\, Trångsund\, 14263\, Sweden
CATEGORIES:Konsert,Vernissage
ATTACH;FMTTYPE=image/jpeg:https://www.lyktan.net/wp-content/uploads/2025/04/240920_Ketumba-1-scaled.jpg
GEO:59.2226737048;18.150960373
X-APPLE-STRUCTURED-LOCATION;VALUE=URI;X-ADDRESS=Östra Gymnasiet Kvartettvägen 2-6 Trångsund 14263 Sweden;X-APPLE-RADIUS=500;X-TITLE=Kvartettvägen 2-6:geo:18.150960373,59.2226737048
END:VEVENT
END:VCALENDAR