BEGIN:VCALENDAR
VERSION:2.0
PRODID:-//Kulturföreningen Lyktan - ECPv6.15.17.1//NONSGML v1.0//EN
CALSCALE:GREGORIAN
METHOD:PUBLISH
X-WR-CALNAME:Kulturföreningen Lyktan
X-ORIGINAL-URL:https://www.lyktan.net
X-WR-CALDESC:Händelser för Kulturföreningen Lyktan
REFRESH-INTERVAL;VALUE=DURATION:PT1H
X-Robots-Tag:noindex
X-PUBLISHED-TTL:PT1H
BEGIN:VTIMEZONE
TZID:Europe/Stockholm
BEGIN:DAYLIGHT
TZOFFSETFROM:+0100
TZOFFSETTO:+0200
TZNAME:CEST
DTSTART:20170326T010000
END:DAYLIGHT
BEGIN:STANDARD
TZOFFSETFROM:+0200
TZOFFSETTO:+0100
TZNAME:CET
DTSTART:20171029T010000
END:STANDARD
BEGIN:DAYLIGHT
TZOFFSETFROM:+0100
TZOFFSETTO:+0200
TZNAME:CEST
DTSTART:20180325T010000
END:DAYLIGHT
BEGIN:STANDARD
TZOFFSETFROM:+0200
TZOFFSETTO:+0100
TZNAME:CET
DTSTART:20181028T010000
END:STANDARD
BEGIN:DAYLIGHT
TZOFFSETFROM:+0100
TZOFFSETTO:+0200
TZNAME:CEST
DTSTART:20190331T010000
END:DAYLIGHT
BEGIN:STANDARD
TZOFFSETFROM:+0200
TZOFFSETTO:+0100
TZNAME:CET
DTSTART:20191027T010000
END:STANDARD
END:VTIMEZONE
BEGIN:VEVENT
DTSTART;TZID=Europe/Stockholm:20180103T120000
DTEND;TZID=Europe/Stockholm:20180103T180000
DTSTAMP:20260426T000847
CREATED:20250415T215457Z
LAST-MODIFIED:20250415T215458Z
UID:10004971-1514980800-1515002400@www.lyktan.net
SUMMARY:Leka med Lappar
DESCRIPTION:
URL:https://www.lyktan.net/event/leka-med-lappar-2/2018-01-03/
LOCATION:Galleri Lyktan\, Skogåstorget 7-9\, Skogås\, 142 30\, Sweden
CATEGORIES:Utställning
END:VEVENT
BEGIN:VEVENT
DTSTART;TZID=Europe/Stockholm:20180105T120000
DTEND;TZID=Europe/Stockholm:20180105T180000
DTSTAMP:20260426T000847
CREATED:20250415T215457Z
LAST-MODIFIED:20250415T215458Z
UID:10004972-1515153600-1515175200@www.lyktan.net
SUMMARY:Leka med Lappar
DESCRIPTION:
URL:https://www.lyktan.net/event/leka-med-lappar-2/2018-01-05/
LOCATION:Galleri Lyktan\, Skogåstorget 7-9\, Skogås\, 142 30\, Sweden
CATEGORIES:Utställning
END:VEVENT
BEGIN:VEVENT
DTSTART;TZID=Europe/Stockholm:20180107T120000
DTEND;TZID=Europe/Stockholm:20180107T180000
DTSTAMP:20260426T000847
CREATED:20250415T215457Z
LAST-MODIFIED:20250415T215458Z
UID:10004974-1515326400-1515348000@www.lyktan.net
SUMMARY:Leka med Lappar
DESCRIPTION:
URL:https://www.lyktan.net/event/leka-med-lappar-2/2018-01-07/
LOCATION:Galleri Lyktan\, Skogåstorget 7-9\, Skogås\, 142 30\, Sweden
CATEGORIES:Utställning
END:VEVENT
BEGIN:VEVENT
DTSTART;TZID=Europe/Stockholm:20180109T120000
DTEND;TZID=Europe/Stockholm:20180109T180000
DTSTAMP:20260426T000847
CREATED:20250415T215457Z
LAST-MODIFIED:20250415T215458Z
UID:10004975-1515499200-1515520800@www.lyktan.net
SUMMARY:Leka med Lappar
DESCRIPTION:
URL:https://www.lyktan.net/event/leka-med-lappar-2/2018-01-09/
LOCATION:Galleri Lyktan\, Skogåstorget 7-9\, Skogås\, 142 30\, Sweden
CATEGORIES:Utställning
END:VEVENT
BEGIN:VEVENT
DTSTART;TZID=Europe/Stockholm:20180111T120000
DTEND;TZID=Europe/Stockholm:20180111T180000
DTSTAMP:20260426T000847
CREATED:20250415T215457Z
LAST-MODIFIED:20250415T215458Z
UID:10004976-1515672000-1515693600@www.lyktan.net
SUMMARY:Leka med Lappar
DESCRIPTION:
URL:https://www.lyktan.net/event/leka-med-lappar-2/2018-01-11/
LOCATION:Galleri Lyktan\, Skogåstorget 7-9\, Skogås\, 142 30\, Sweden
CATEGORIES:Utställning
END:VEVENT
BEGIN:VEVENT
DTSTART;TZID=Europe/Stockholm:20180113T120000
DTEND;TZID=Europe/Stockholm:20180113T180000
DTSTAMP:20260426T000847
CREATED:20250415T215457Z
LAST-MODIFIED:20250415T215458Z
UID:10004977-1515844800-1515866400@www.lyktan.net
SUMMARY:Leka med Lappar
DESCRIPTION:
URL:https://www.lyktan.net/event/leka-med-lappar-2/2018-01-13/
LOCATION:Galleri Lyktan\, Skogåstorget 7-9\, Skogås\, 142 30\, Sweden
CATEGORIES:Utställning
END:VEVENT
BEGIN:VEVENT
DTSTART;TZID=Europe/Stockholm:20180117T120000
DTEND;TZID=Europe/Stockholm:20180117T180000
DTSTAMP:20260426T000847
CREATED:20250415T215457Z
LAST-MODIFIED:20250415T215458Z
UID:10004978-1516190400-1516212000@www.lyktan.net
SUMMARY:Leka med Lappar
DESCRIPTION:
URL:https://www.lyktan.net/event/leka-med-lappar-2/2018-01-17/
LOCATION:Galleri Lyktan\, Skogåstorget 7-9\, Skogås\, 142 30\, Sweden
CATEGORIES:Utställning
END:VEVENT
BEGIN:VEVENT
DTSTART;TZID=Europe/Stockholm:20180120T120000
DTEND;TZID=Europe/Stockholm:20180131T170000
DTSTAMP:20260426T000847
CREATED:20250415T220028Z
LAST-MODIFIED:20250415T220417Z
UID:10004979-1516449600-1517418000@www.lyktan.net
SUMMARY:Mother Tongue
DESCRIPTION:Sjuvideokonstverk av sju turkiska konstnärer visades på TV-skärm. Presenterade på olika sätt erfarenheter från dagens Turkiet\, från ett kvinnligt perspektiv. På väggarna visades kvinnor i foton\, teckningar och målningar.
URL:https://www.lyktan.net/event/mother-tongue/
LOCATION:Galleri Lyktan\, Skogåstorget 7-9\, Skogås\, 142 30\, Sweden
END:VEVENT
BEGIN:VEVENT
DTSTART;TZID=Europe/Stockholm:20180127T153000
DTEND;TZID=Europe/Stockholm:20180127T180000
DTSTAMP:20260426T000847
CREATED:20250415T220830Z
LAST-MODIFIED:20250415T220952Z
UID:10004980-1517067000-1517076000@www.lyktan.net
SUMMARY:FÖRINTELSENS MINNESDAG
DESCRIPTION:”Plum Blossom in Snow Documentary”\nElla Kalogritsa \nFilmvisning och träff med regissören
URL:https://www.lyktan.net/event/forintelsens-minnesdag/
LOCATION:Galleri Lyktan\, Skogåstorget 7-9\, Skogås\, 142 30\, Sweden
CATEGORIES:Filmvisning
END:VEVENT
BEGIN:VEVENT
DTSTART;TZID=Europe/Stockholm:20180203T080000
DTEND;TZID=Europe/Stockholm:20180221T170000
DTSTAMP:20260426T000847
CREATED:20250415T222603Z
LAST-MODIFIED:20250415T222626Z
UID:10004983-1517644800-1519232400@www.lyktan.net
SUMMARY:Konsten att mötas
DESCRIPTION:Separatutställning 1 Nasrin Taghizadeh ”Grafik i färg med blommor\, träd och fåglar.” \ni KONSTEN ATT MÖTAS – \nEtt projekt från Sveriges Konstföreningar (SKF). \nKulturföreningen Lyktan i Skogås är en av 20 utvalda föreningar i det landsomfattande projektet.\nSyftet med projektet är bland annat ”att öppna konstföreningarna för nya aktörer\, nya samarbeten och ny publik” och att uppmuntra föreningarna till samarbete med utlandsfödda och nyanlända konstnärer i syfte att underlätta för dem att komma in på den svenska konstscenen. \nProjektet finansieras av Svenska Postkodstiftelsen.
URL:https://www.lyktan.net/event/konsten-att-motas/
LOCATION:Galleri Lyktan\, Skogåstorget 7-9\, Skogås\, 142 30\, Sweden
CATEGORIES:Utställning
END:VEVENT
BEGIN:VEVENT
DTSTART;TZID=Europe/Stockholm:20180205T080000
DTEND;TZID=Europe/Stockholm:20180217T170000
DTSTAMP:20260426T000847
CREATED:20250415T225450Z
LAST-MODIFIED:20250415T225709Z
UID:10004997-1517817600-1518886800@www.lyktan.net
SUMMARY:The Art of Zhen Shan Ren
DESCRIPTION:Utställningen skildrade den kinesiska regimens brottsliga förföljelse av Falungong-rörelsen. Invigningstalare var Vibeke Bildt\, ordförande i Huddinge kommuns kultur- och fritidsnämnd\, och rektor Stefan Vilkman. Arrangörer var Svenska Föreningen för Falun Dafa och Kulturföreningen Lyktan.
URL:https://www.lyktan.net/event/the-art-of-zhen-shan-ren/
LOCATION:Östra Gymnasiet\, Kvartettvägen 2-6\, Trångsund\, 14263\, Sweden
CATEGORIES:Utställning
GEO:59.2226737048;18.150960373
X-APPLE-STRUCTURED-LOCATION;VALUE=URI;X-ADDRESS=Östra Gymnasiet Kvartettvägen 2-6 Trångsund 14263 Sweden;X-APPLE-RADIUS=500;X-TITLE=Kvartettvägen 2-6:geo:18.150960373,59.2226737048
END:VEVENT
BEGIN:VEVENT
DTSTART;TZID=Europe/Stockholm:20180207T183000
DTEND;TZID=Europe/Stockholm:20180207T203000
DTSTAMP:20260426T000847
CREATED:20250415T222035Z
LAST-MODIFIED:20250415T222035Z
UID:10004982-1518028200-1518035400@www.lyktan.net
SUMMARY:Dokumentärfilm  Min Mor
DESCRIPTION:Dokumentärfilm \nMin Mor \n– från förföljelse till ett liv på barrikaderna \nMaj Wechselmann \nen svensk regissör\, dokumentärfilmare\, debattör och politiker \nTräff med regissören och filmvisning
URL:https://www.lyktan.net/event/dokumentarfilm-min-mor/
LOCATION:Galleri Lyktan\, Skogåstorget 7-9\, Skogås\, 142 30\, Sweden
CATEGORIES:Filmvisning
END:VEVENT
BEGIN:VEVENT
DTSTART;TZID=Europe/Stockholm:20180219T080000
DTEND;TZID=Europe/Stockholm:20180325T170000
DTSTAMP:20260426T000847
CREATED:20250415T225835Z
LAST-MODIFIED:20250415T225835Z
UID:10004998-1519027200-1521997200@www.lyktan.net
SUMMARY:Hyllning till den afghanska kvinnan.
DESCRIPTION:Hyllning till den afghanska kvinnan.\nMålningar och teckningar i olika tekniker av Farhad Farzad.\nDans i folkdräkter vid vernissagen. Musikunderhållning\, folksång.
URL:https://www.lyktan.net/event/hyllning-till-den-afghanska-kvinnan/
LOCATION:Östra Gymnasiet\, Kvartettvägen 2-6\, Trångsund\, 14263\, Sweden
CATEGORIES:Utställning
GEO:59.2226737048;18.150960373
X-APPLE-STRUCTURED-LOCATION;VALUE=URI;X-ADDRESS=Östra Gymnasiet Kvartettvägen 2-6 Trångsund 14263 Sweden;X-APPLE-RADIUS=500;X-TITLE=Kvartettvägen 2-6:geo:18.150960373,59.2226737048
END:VEVENT
BEGIN:VEVENT
DTSTART;TZID=Europe/Stockholm:20180224T080000
DTEND;TZID=Europe/Stockholm:20180314T170000
DTSTAMP:20260426T000847
CREATED:20250415T222856Z
LAST-MODIFIED:20250415T222856Z
UID:10004984-1519459200-1521046800@www.lyktan.net
SUMMARY:Tre illustratörer
DESCRIPTION:”Tre illustratörer” Måd Olsson-Wannefors\, Per Demervall och Kerstin Olsson Grönvik\nTre illustratörer visar bilder och formgivning på tre personliga sätt.
URL:https://www.lyktan.net/event/tre-illustratorer/
LOCATION:Galleri Lyktan\, Skogåstorget 7-9\, Skogås\, 142 30\, Sweden
CATEGORIES:Utställning
END:VEVENT
BEGIN:VEVENT
DTSTART;TZID=Europe/Stockholm:20180317T080000
DTEND;TZID=Europe/Stockholm:20180411T170000
DTSTAMP:20260426T000847
CREATED:20250415T223019Z
LAST-MODIFIED:20250415T223100Z
UID:10004985-1521273600-1523466000@www.lyktan.net
SUMMARY:Jokkmokk och samiskt hantverk
DESCRIPTION:Hantverksmässa
URL:https://www.lyktan.net/event/jokkmokk-och-samiskt-hantverk/
LOCATION:Galleri Lyktan\, Skogåstorget 7-9\, Skogås\, 142 30\, Sweden
CATEGORIES:Marknad
END:VEVENT
BEGIN:VEVENT
DTSTART;TZID=Europe/Stockholm:20180418T183000
DTEND;TZID=Europe/Stockholm:20180418T203000
DTSTAMP:20260426T000847
CREATED:20250415T223437Z
LAST-MODIFIED:20250415T223437Z
UID:10004987-1524076200-1524083400@www.lyktan.net
SUMMARY:Skogås -från torp till förort
DESCRIPTION:Skogås -från torp till förort Författarträff med Solveig G. Hägglund
URL:https://www.lyktan.net/event/skogas-fran-torp-till-forort/
LOCATION:Galleri Lyktan\, Skogåstorget 7-9\, Skogås\, 142 30\, Sweden
CATEGORIES:Författarträff
END:VEVENT
BEGIN:VEVENT
DTSTART;TZID=Europe/Stockholm:20180420T160000
DTEND;TZID=Europe/Stockholm:20180420T190000
DTSTAMP:20260426T000847
CREATED:20250415T223224Z
LAST-MODIFIED:20250415T223224Z
UID:10004986-1524240000-1524250800@www.lyktan.net
SUMMARY:Samiska Vantar
DESCRIPTION:Samiska Vantar \nWorkshop med ELISE TULLNÄR NILSSON FRÅN JOKKMOKK
URL:https://www.lyktan.net/event/samiska-vantar/
LOCATION:Galleri Lyktan\, Skogåstorget 7-9\, Skogås\, 142 30\, Sweden
CATEGORIES:Workshop
END:VEVENT
BEGIN:VEVENT
DTSTART;TZID=Europe/Stockholm:20180424T080000
DTEND;TZID=Europe/Stockholm:20180502T170000
DTSTAMP:20260426T000847
CREATED:20250415T223734Z
LAST-MODIFIED:20250415T223734Z
UID:10004988-1524556800-1525280400@www.lyktan.net
SUMMARY:Konsten att Mötas
DESCRIPTION:”Konsten att mötas” separatutställning 2 .\nAurora Persson visar abstrakt måleri
URL:https://www.lyktan.net/event/konsten-att-motas-2/
LOCATION:Galleri Lyktan\, Skogåstorget 7-9\, Skogås\, 142 30\, Sweden
CATEGORIES:Utställning
END:VEVENT
BEGIN:VEVENT
DTSTART;TZID=Europe/Stockholm:20180428T153000
DTEND;TZID=Europe/Stockholm:20180428T180000
DTSTAMP:20260426T000847
CREATED:20250415T221313Z
LAST-MODIFIED:20250415T221423Z
UID:10004981-1524929400-1524938400@www.lyktan.net
SUMMARY:FÖRINTELSENS MINNESDAG
DESCRIPTION:”The return” Zahavi Sanjavi
URL:https://www.lyktan.net/event/forintelsens-minnesdag-2/
LOCATION:Galleri Lyktan\, Skogåstorget 7-9\, Skogås\, 142 30\, Sweden
CATEGORIES:Filmvisning
END:VEVENT
BEGIN:VEVENT
DTSTART;TZID=Europe/Stockholm:20180506T080000
DTEND;TZID=Europe/Stockholm:20180606T170000
DTSTAMP:20260426T000847
CREATED:20250415T230006Z
LAST-MODIFIED:20250415T230006Z
UID:10004999-1525593600-1528304400@www.lyktan.net
SUMMARY:Brutus Östling
DESCRIPTION:Brutus Östling\nÖstra gymnasiets stora samling av Brutus Östlings fågelfotografier ställdes ut.
URL:https://www.lyktan.net/event/brutus-ostling/
LOCATION:Östra Gymnasiet\, Kvartettvägen 2-6\, Trångsund\, 14263\, Sweden
CATEGORIES:Utställning
GEO:59.2226737048;18.150960373
X-APPLE-STRUCTURED-LOCATION;VALUE=URI;X-ADDRESS=Östra Gymnasiet Kvartettvägen 2-6 Trångsund 14263 Sweden;X-APPLE-RADIUS=500;X-TITLE=Kvartettvägen 2-6:geo:18.150960373,59.2226737048
END:VEVENT
BEGIN:VEVENT
DTSTART;TZID=Europe/Stockholm:20180507T080000
DTEND;TZID=Europe/Stockholm:20180530T170000
DTSTAMP:20260426T000847
CREATED:20250415T223828Z
LAST-MODIFIED:20250415T223828Z
UID:10004989-1525680000-1527699600@www.lyktan.net
SUMMARY:En lekfull utställning
DESCRIPTION:Barnkonstutställning ”En lekfull utställning” Barn från Österleds förskolor i Skogås har lekt med form och färg.\nBildpedagog Filippa Ydstedt Book.
URL:https://www.lyktan.net/event/en-lekfull-utstallning/
LOCATION:Galleri Lyktan\, Skogåstorget 7-9\, Skogås\, 142 30\, Sweden
CATEGORIES:Utställning
END:VEVENT
BEGIN:VEVENT
DTSTART;TZID=Europe/Stockholm:20180516T183000
DTEND;TZID=Europe/Stockholm:20180516T203000
DTSTAMP:20260426T000847
CREATED:20250416T035432Z
LAST-MODIFIED:20250416T035432Z
UID:10005002-1526495400-1526502600@www.lyktan.net
SUMMARY:Charliee Lek
DESCRIPTION:Charliee Lek Framgångsrik författare till ”Den sanna sexualiteten” och ”Maria Magdalena medvetandet”.
URL:https://www.lyktan.net/event/charliee-lek/
LOCATION:Galleri Lyktan\, Skogåstorget 7-9\, Skogås\, 142 30\, Sweden
CATEGORIES:Författarträff
ATTACH;FMTTYPE=image/jpeg:https://www.lyktan.net/wp-content/uploads/2025/04/Charleielek-scaled.jpg
END:VEVENT
BEGIN:VEVENT
DTSTART;TZID=Europe/Stockholm:20180602T080000
DTEND;TZID=Europe/Stockholm:20180620T170000
DTSTAMP:20260426T000847
CREATED:20250415T223914Z
LAST-MODIFIED:20250416T011344Z
UID:10004990-1527926400-1529514000@www.lyktan.net
SUMMARY:Konsten att mötas
DESCRIPTION:”Konsten att mötas” separatutställning 3\nIrina Tutova visar måleri. ”Underglidande verklighet”
URL:https://www.lyktan.net/event/konsten-att-motas-3/
LOCATION:Galleri Lyktan\, Skogåstorget 7-9\, Skogås\, 142 30\, Sweden
CATEGORIES:Utställning
ATTACH;FMTTYPE=image/webp:https://www.lyktan.net/wp-content/uploads/2025/04/ostra-2.webp
END:VEVENT
BEGIN:VEVENT
DTSTART;TZID=Europe/Stockholm:20180901T080000
DTEND;TZID=Europe/Stockholm:20180919T170000
DTSTAMP:20260426T000847
CREATED:20250415T224048Z
LAST-MODIFIED:20250415T224048Z
UID:10004991-1535788800-1537376400@www.lyktan.net
SUMMARY:Konsten att mötas
DESCRIPTION:”Konsten att mötas” separatutställning 4 \nMika Ohmori. Digital illustration.
URL:https://www.lyktan.net/event/konsten-att-motas-4/
LOCATION:Galleri Lyktan\, Skogåstorget 7-9\, Skogås\, 142 30\, Sweden
CATEGORIES:Utställning
END:VEVENT
BEGIN:VEVENT
DTSTART;TZID=Europe/Stockholm:20180922T080000
DTEND;TZID=Europe/Stockholm:20181017T170000
DTSTAMP:20260426T000847
CREATED:20250415T224400Z
LAST-MODIFIED:20250415T224400Z
UID:10004992-1537603200-1539795600@www.lyktan.net
SUMMARY:Konstmässa
DESCRIPTION:”Konstmässa” – Lyktans Medlemsutställning
URL:https://www.lyktan.net/event/konstmassa/
LOCATION:Galleri Lyktan\, Skogåstorget 7-9\, Skogås\, 142 30\, Sweden
END:VEVENT
BEGIN:VEVENT
DTSTART;TZID=Europe/Stockholm:20181001T080000
DTEND;TZID=Europe/Stockholm:20181209T170000
DTSTAMP:20260426T000847
CREATED:20250415T230129Z
LAST-MODIFIED:20250415T230129Z
UID:10005000-1538380800-1544374800@www.lyktan.net
SUMMARY:Konsten att Mötas
DESCRIPTION:Grupputställning med fyra kvinnliga utländska konstnärer. Vid vernissagen hölls två workshopar. \nNasrin Taghizadeh. Grafik i färg med blommor och fåglar \nAurora Persson. Monarkfjärilarnas iakttagelser. Vaxmålning med smält bivax med olja (enkaustik med olja). \nIrina Tutova. Undanglidande existens. Klassiskt ryskt oljemåleri.
URL:https://www.lyktan.net/event/konsten-att-motas-5/
LOCATION:Östra Gymnasiet\, Kvartettvägen 2-6\, Trångsund\, 14263\, Sweden
CATEGORIES:Utställning
GEO:59.2226737048;18.150960373
X-APPLE-STRUCTURED-LOCATION;VALUE=URI;X-ADDRESS=Östra Gymnasiet Kvartettvägen 2-6 Trångsund 14263 Sweden;X-APPLE-RADIUS=500;X-TITLE=Kvartettvägen 2-6:geo:18.150960373,59.2226737048
END:VEVENT
BEGIN:VEVENT
DTSTART;TZID=Europe/Stockholm:20181017T183000
DTEND;TZID=Europe/Stockholm:20181017T203000
DTSTAMP:20260426T000847
CREATED:20250415T224513Z
LAST-MODIFIED:20250415T224513Z
UID:10004993-1539801000-1539808200@www.lyktan.net
SUMMARY:Författarträff Ulf Beckman
DESCRIPTION:Författarträff Ulf Beckman
URL:https://www.lyktan.net/event/forfattartraff-ulf-beckman/
LOCATION:Galleri Lyktan\, Skogåstorget 7-9\, Skogås\, 142 30\, Sweden
CATEGORIES:Författarträff
END:VEVENT
BEGIN:VEVENT
DTSTART;TZID=Europe/Stockholm:20181020T080000
DTEND;TZID=Europe/Stockholm:20181114T170000
DTSTAMP:20260426T000847
CREATED:20250415T224831Z
LAST-MODIFIED:20250415T225139Z
UID:10004995-1540022400-1542214800@www.lyktan.net
SUMMARY:Från nutiden till det förflutna
DESCRIPTION:Från nutiden till det förflutna.\nSergio Silva Cajahuaringa. \nAbstrakt måleri.
URL:https://www.lyktan.net/event/fran-nutiden-till-det-forflutna/
LOCATION:Galleri Lyktan\, Skogåstorget 7-9\, Skogås\, 142 30\, Sweden
CATEGORIES:Utställning
END:VEVENT
BEGIN:VEVENT
DTSTART;TZID=Europe/Stockholm:20181117T183000
DTEND;TZID=Europe/Stockholm:20181117T203000
DTSTAMP:20260426T000847
CREATED:20250415T224607Z
LAST-MODIFIED:20250416T041255Z
UID:10004994-1542479400-1542486600@www.lyktan.net
SUMMARY:Cecilie Lie
DESCRIPTION:Cecilie Lie\, Grafik
URL:https://www.lyktan.net/event/cecilie-lie/
LOCATION:Galleri Lyktan\, Skogåstorget 7-9\, Skogås\, 142 30\, Sweden
CATEGORIES:Författarträff
ATTACH;FMTTYPE=image/jpeg:https://www.lyktan.net/wp-content/uploads/2025/04/Chrliee-Lek-scaled.jpg
END:VEVENT
BEGIN:VEVENT
DTSTART;TZID=Europe/Stockholm:20181208T080000
DTEND;TZID=Europe/Stockholm:20181215T170000
DTSTAMP:20260426T000847
CREATED:20250415T225244Z
LAST-MODIFIED:20250416T011523Z
UID:10004996-1544256000-1544893200@www.lyktan.net
SUMMARY:Julbasar
DESCRIPTION:Julbasar – Målningar gjorda av barn och ungdomar. Deltagande barn och ungdomar kom från kommunens sommaraktiviteter\, från workshop på Östra gymnasiet\, från Lyktans barnklubb och från Österleds förskolor.
URL:https://www.lyktan.net/event/julbasar/
LOCATION:Galleri Lyktan\, Skogåstorget 7-9\, Skogås\, 142 30\, Sweden
CATEGORIES:Utställning
ATTACH;FMTTYPE=image/webp:https://www.lyktan.net/wp-content/uploads/2025/04/julbasar-scaled.webp
END:VEVENT
END:VCALENDAR