BEGIN:VCALENDAR
VERSION:2.0
PRODID:-//Kulturföreningen Lyktan - ECPv6.15.17.1//NONSGML v1.0//EN
CALSCALE:GREGORIAN
METHOD:PUBLISH
X-WR-CALNAME:Kulturföreningen Lyktan
X-ORIGINAL-URL:https://www.lyktan.net
X-WR-CALDESC:Händelser för Kulturföreningen Lyktan
REFRESH-INTERVAL;VALUE=DURATION:PT1H
X-Robots-Tag:noindex
X-PUBLISHED-TTL:PT1H
BEGIN:VTIMEZONE
TZID:Europe/Stockholm
BEGIN:DAYLIGHT
TZOFFSETFROM:+0100
TZOFFSETTO:+0200
TZNAME:CEST
DTSTART:20240331T010000
END:DAYLIGHT
BEGIN:STANDARD
TZOFFSETFROM:+0200
TZOFFSETTO:+0100
TZNAME:CET
DTSTART:20241027T010000
END:STANDARD
BEGIN:DAYLIGHT
TZOFFSETFROM:+0100
TZOFFSETTO:+0200
TZNAME:CEST
DTSTART:20250330T010000
END:DAYLIGHT
BEGIN:STANDARD
TZOFFSETFROM:+0200
TZOFFSETTO:+0100
TZNAME:CET
DTSTART:20251026T010000
END:STANDARD
BEGIN:DAYLIGHT
TZOFFSETFROM:+0100
TZOFFSETTO:+0200
TZNAME:CEST
DTSTART:20260329T010000
END:DAYLIGHT
BEGIN:STANDARD
TZOFFSETFROM:+0200
TZOFFSETTO:+0100
TZNAME:CET
DTSTART:20261025T010000
END:STANDARD
END:VTIMEZONE
BEGIN:VEVENT
DTSTART;TZID=Europe/Stockholm:20250919T120000
DTEND;TZID=Europe/Stockholm:20250919T170000
DTSTAMP:20260426T031809
CREATED:20250902T000732Z
LAST-MODIFIED:20250902T000732Z
UID:10005731-1758283200-1758301200@www.lyktan.net
SUMMARY:"M/S Cirrus" Barnteater
DESCRIPTION:
URL:https://www.lyktan.net/event/m-s-cirrus-barnteater/2025-09-19/
LOCATION:Galleri Lyktan\, Skogåstorget 7-9\, Skogås\, 142 30\, Sweden
CATEGORIES:Konsert
END:VEVENT
BEGIN:VEVENT
DTSTART;TZID=Europe/Stockholm:20250918T180000
DTEND;TZID=Europe/Stockholm:20250918T200000
DTSTAMP:20260426T031809
CREATED:20250902T000603Z
LAST-MODIFIED:20250902T000603Z
UID:10005472-1758218400-1758225600@www.lyktan.net
SUMMARY:Torsdagsträffar
DESCRIPTION:
URL:https://www.lyktan.net/event/torsdagstraffar/2025-09-18/
CATEGORIES:Samtal
END:VEVENT
BEGIN:VEVENT
DTSTART;TZID=Europe/Stockholm:20250917T120000
DTEND;TZID=Europe/Stockholm:20250917T160000
DTSTAMP:20260426T031809
CREATED:20250902T000248Z
LAST-MODIFIED:20260131T042930Z
UID:10005080-1758110400-1758124800@www.lyktan.net
SUMMARY:Hantverk med Kathrine
DESCRIPTION:
URL:https://www.lyktan.net/event/hantverk-med-kathrine/2025-09-17/
LOCATION:Galleri Lyktan\, Skogåstorget 7-9\, Skogås\, 142 30\, Sweden
CATEGORIES:Workshop
ATTACH;FMTTYPE=image/jpeg:https://www.lyktan.net/wp-content/uploads/2025/05/OIP-1.jpeg
END:VEVENT
BEGIN:VEVENT
DTSTART;TZID=Europe/Stockholm:20250915T170000
DTEND;TZID=Europe/Stockholm:20250915T190000
DTSTAMP:20260426T031809
CREATED:20250902T000443Z
LAST-MODIFIED:20250905T174823Z
UID:10005741-1757955600-1757962800@www.lyktan.net
SUMMARY:Fotoklubben
DESCRIPTION:
URL:https://www.lyktan.net/event/fotoklubben/2025-09-15/
LOCATION:Galleri Lyktan\, Skogåstorget 7-9\, Skogås\, 142 30\, Sweden
CATEGORIES:Samtal
END:VEVENT
BEGIN:VEVENT
DTSTART;VALUE=DATE:20250915
DTEND;VALUE=DATE:20250916
DTSTAMP:20260426T031809
CREATED:20250907T085224Z
LAST-MODIFIED:20260131T045303Z
UID:10005754-1757894400-1757980799@www.lyktan.net
SUMMARY:STÄNGT
DESCRIPTION:Denna dagen har vi stängt
URL:https://www.lyktan.net/event/stangt/2025-09-15/
CATEGORIES:Stängd
ATTACH;FMTTYPE=image/jpeg:https://www.lyktan.net/wp-content/uploads/2025/09/R.jpeg
END:VEVENT
BEGIN:VEVENT
DTSTART;VALUE=DATE:20250914
DTEND;VALUE=DATE:20250915
DTSTAMP:20260426T031809
CREATED:20250907T085224Z
LAST-MODIFIED:20260131T045303Z
UID:10005753-1757808000-1757894399@www.lyktan.net
SUMMARY:STÄNGT
DESCRIPTION:Denna dagen har vi stängt
URL:https://www.lyktan.net/event/stangt/2025-09-14/
CATEGORIES:Stängd
ATTACH;FMTTYPE=image/jpeg:https://www.lyktan.net/wp-content/uploads/2025/09/R.jpeg
END:VEVENT
BEGIN:VEVENT
DTSTART;TZID=Europe/Stockholm:20250913T120000
DTEND;TZID=Europe/Stockholm:20250913T170000
DTSTAMP:20260426T031809
CREATED:20250901T235935Z
LAST-MODIFIED:20250907T072906Z
UID:10005077-1757764800-1757782800@www.lyktan.net
SUMMARY:Musikquis av Pär Lindblom
DESCRIPTION:
URL:https://www.lyktan.net/event/musikquis-av-par-lindblom/
LOCATION:Galleri Lyktan\, Skogåstorget 7-9\, Skogås\, 142 30\, Sweden
CATEGORIES:Workshop
ATTACH;FMTTYPE=image/jpeg:https://www.lyktan.net/wp-content/uploads/2025/09/Aff-MusikQuiz-red-scaled.jpg
END:VEVENT
BEGIN:VEVENT
DTSTART;TZID=Europe/Stockholm:20250911T180000
DTEND;TZID=Europe/Stockholm:20250911T200000
DTSTAMP:20260426T031809
CREATED:20250902T000603Z
LAST-MODIFIED:20250902T000603Z
UID:10005471-1757613600-1757620800@www.lyktan.net
SUMMARY:Torsdagsträffar
DESCRIPTION:
URL:https://www.lyktan.net/event/torsdagstraffar/2025-09-11/
CATEGORIES:Samtal
END:VEVENT
BEGIN:VEVENT
DTSTART;TZID=Europe/Stockholm:20250910T120000
DTEND;TZID=Europe/Stockholm:20250910T160000
DTSTAMP:20260426T031809
CREATED:20250902T000248Z
LAST-MODIFIED:20260131T042930Z
UID:10005079-1757505600-1757520000@www.lyktan.net
SUMMARY:Hantverk med Kathrine
DESCRIPTION:
URL:https://www.lyktan.net/event/hantverk-med-kathrine/2025-09-10/
LOCATION:Galleri Lyktan\, Skogåstorget 7-9\, Skogås\, 142 30\, Sweden
CATEGORIES:Workshop
ATTACH;FMTTYPE=image/jpeg:https://www.lyktan.net/wp-content/uploads/2025/05/OIP-1.jpeg
END:VEVENT
BEGIN:VEVENT
DTSTART;VALUE=DATE:20250908
DTEND;VALUE=DATE:20250909
DTSTAMP:20260426T031809
CREATED:20250907T085224Z
LAST-MODIFIED:20260131T045303Z
UID:10005752-1757289600-1757375999@www.lyktan.net
SUMMARY:STÄNGT
DESCRIPTION:Denna dagen har vi stängt
URL:https://www.lyktan.net/event/stangt/2025-09-08/
CATEGORIES:Stängd
ATTACH;FMTTYPE=image/jpeg:https://www.lyktan.net/wp-content/uploads/2025/09/R.jpeg
END:VEVENT
BEGIN:VEVENT
DTSTART;VALUE=DATE:20250907
DTEND;VALUE=DATE:20250908
DTSTAMP:20260426T031809
CREATED:20250907T085224Z
LAST-MODIFIED:20260131T045303Z
UID:10005751-1757203200-1757289599@www.lyktan.net
SUMMARY:STÄNGT
DESCRIPTION:Denna dagen har vi stängt
URL:https://www.lyktan.net/event/stangt/2025-09-07/
CATEGORIES:Stängd
ATTACH;FMTTYPE=image/jpeg:https://www.lyktan.net/wp-content/uploads/2025/09/R.jpeg
END:VEVENT
BEGIN:VEVENT
DTSTART;VALUE=DATE:20250905
DTEND;VALUE=DATE:20250907
DTSTAMP:20260426T031809
CREATED:20250907T085224Z
LAST-MODIFIED:20260131T045303Z
UID:10005750-1757030400-1757160000@www.lyktan.net
SUMMARY:STÄNGT
DESCRIPTION:Denna dagen har vi stängt
URL:https://www.lyktan.net/event/stangt/2025-09-05/
CATEGORIES:Stängd
ATTACH;FMTTYPE=image/jpeg:https://www.lyktan.net/wp-content/uploads/2025/09/R.jpeg
END:VEVENT
BEGIN:VEVENT
DTSTART;TZID=Europe/Stockholm:20250904T180000
DTEND;TZID=Europe/Stockholm:20250904T200000
DTSTAMP:20260426T031809
CREATED:20250902T000603Z
LAST-MODIFIED:20250902T000603Z
UID:10005470-1757008800-1757016000@www.lyktan.net
SUMMARY:Torsdagsträffar
DESCRIPTION:
URL:https://www.lyktan.net/event/torsdagstraffar/2025-09-04/
CATEGORIES:Samtal
END:VEVENT
BEGIN:VEVENT
DTSTART;VALUE=DATE:20250904
DTEND;VALUE=DATE:20250906
DTSTAMP:20260426T031809
CREATED:20250907T085224Z
LAST-MODIFIED:20260131T045303Z
UID:10005749-1756944000-1757073600@www.lyktan.net
SUMMARY:STÄNGT
DESCRIPTION:Denna dagen har vi stängt
URL:https://www.lyktan.net/event/stangt/2025-09-04/
CATEGORIES:Stängd
ATTACH;FMTTYPE=image/jpeg:https://www.lyktan.net/wp-content/uploads/2025/09/R.jpeg
END:VEVENT
BEGIN:VEVENT
DTSTART;TZID=Europe/Stockholm:20250903T120000
DTEND;TZID=Europe/Stockholm:20250903T160000
DTSTAMP:20260426T031809
CREATED:20250902T000248Z
LAST-MODIFIED:20260131T042930Z
UID:10005078-1756900800-1756915200@www.lyktan.net
SUMMARY:Hantverk med Kathrine
DESCRIPTION:
URL:https://www.lyktan.net/event/hantverk-med-kathrine/2025-09-03/
LOCATION:Galleri Lyktan\, Skogåstorget 7-9\, Skogås\, 142 30\, Sweden
CATEGORIES:Workshop
ATTACH;FMTTYPE=image/jpeg:https://www.lyktan.net/wp-content/uploads/2025/05/OIP-1.jpeg
END:VEVENT
BEGIN:VEVENT
DTSTART;VALUE=DATE:20250901
DTEND;VALUE=DATE:20250902
DTSTAMP:20260426T031809
CREATED:20250907T085224Z
LAST-MODIFIED:20260131T045303Z
UID:10005748-1756684800-1756771199@www.lyktan.net
SUMMARY:STÄNGT
DESCRIPTION:Denna dagen har vi stängt
URL:https://www.lyktan.net/event/stangt/2025-09-01/
CATEGORIES:Stängd
ATTACH;FMTTYPE=image/jpeg:https://www.lyktan.net/wp-content/uploads/2025/09/R.jpeg
END:VEVENT
BEGIN:VEVENT
DTSTART;TZID=Europe/Stockholm:20250816T120000
DTEND;TZID=Europe/Stockholm:20250816T160000
DTSTAMP:20260426T031809
CREATED:20250808T052734Z
LAST-MODIFIED:20250808T052734Z
UID:10005068-1755345600-1755360000@www.lyktan.net
SUMMARY:Trollguld och Drakvingar
DESCRIPTION:Daniel Andersohn\nMin värld av skapande\nJag föddes 1984 och växte upp i Nynäshamns trakten\, min barndom var för det mesta omgiven\nav en vacker natur som varit en stark drivkraft inom mitt skapande.\nJag började tidigt teckna som barn och sedermera målade när jag helst ville\,\nFriheten som finns i fantasin är det som ger mig inspiration men även längtan är viktigt vid\nskapandet.\nAkryl och blyertspenna är mina vanliga verktyg men också andra diverse då som bläck\, Torrpastell\ntusch och kol med mera.\nJag har även illustrerat en del i serie format.\nMotiven är inte bara fantasy och sci-fi tema utan även djur\, landskap och ibland människor.\nUpplevelser genom livet ger mig ibland viljan att även skapa\nbilder av det jag sett eller inte kan förklara\, dvs som klassas som paranormalt även om det är\nkontroversiellt.\nVarför jag målar? Ja egentligen som för de flesta för att jag vill. Och genom viljan skapa egna\nvärldar. Jobbandet med akryl är väldigt tillfredsställande.\nJag vill därför dela med mig av mina alster till alla att se.\nKontakt:
URL:https://www.lyktan.net/event/trollguld-och-drakvingar/
LOCATION:Galleri Lyktan\, Skogåstorget 7-9\, Skogås\, 142 30\, Sweden
CATEGORIES:Utställning,Vernissage
ATTACH;FMTTYPE=image/jpeg:https://www.lyktan.net/wp-content/uploads/2025/08/unnamed-scaled.jpg
END:VEVENT
BEGIN:VEVENT
DTSTART;VALUE=DATE:20250816
DTEND;VALUE=DATE:20250904
DTSTAMP:20260426T031809
CREATED:20250808T052956Z
LAST-MODIFIED:20250830T051046Z
UID:10005069-1755302400-1756943999@www.lyktan.net
SUMMARY:Trollguld och Drakvingar
DESCRIPTION:Daniel Andersohn\nMin värld av skapande\nJag föddes 1984 och växte upp i Nynäshamns trakten\, min barndom var för det mesta omgiven\nav en vacker natur som varit en stark drivkraft inom mitt skapande.\nJag började tidigt teckna som barn och sedermera målade när jag helst ville\,\nFriheten som finns i fantasin är det som ger mig inspiration men även längtan är viktigt vid\nskapandet.\nAkryl och blyertspenna är mina vanliga verktyg men också andra diverse då som bläck\, Torrpastell\ntusch och kol med mera.\nJag har även illustrerat en del i serie format.\nMotiven är inte bara fantasy och sci-fi tema utan även djur\, landskap och ibland människor.\nUpplevelser genom livet ger mig ibland viljan att även skapa\nbilder av det jag sett eller inte kan förklara\, dvs som klassas som paranormalt även om det är\nkontroversiellt.\nVarför jag målar? Ja egentligen som för de flesta för att jag vill. Och genom viljan skapa egna\nvärldar. Jobbandet med akryl är väldigt tillfredsställande.\nJag vill därför dela med mig av mina alster till alla att se.\nKontakt: 073-7223241\nMail: daniel.Andersohn@yahoo.se
URL:https://www.lyktan.net/event/trollguld-och-drakvingar-2/
LOCATION:Galleri Lyktan\, Skogåstorget 7-9\, Skogås\, 142 30\, Sweden
CATEGORIES:Utställning
ATTACH;FMTTYPE=image/jpeg:https://www.lyktan.net/wp-content/uploads/2025/08/unnamed-scaled.jpg
END:VEVENT
BEGIN:VEVENT
DTSTART;TZID=Europe/Stockholm:20250802T120000
DTEND;TZID=Europe/Stockholm:20250802T180000
DTSTAMP:20260426T031809
CREATED:20250830T050740Z
LAST-MODIFIED:20250830T050740Z
UID:10005072-1754136000-1754157600@www.lyktan.net
SUMMARY:Trollguldoch Drakvingar Finnisage
DESCRIPTION:Daniel Andersohn\nMin värld av skapande\nJag föddes 1984 och växte upp i Nynäshamns trakten\, min barndom var för det mesta omgiven\nav en vacker natur som varit en stark drivkraft inom mitt skapande.\nJag började tidigt teckna som barn och sedermera målade när jag helst ville\,\nFriheten som finns i fantasin är det som ger mig inspiration men även längtan är viktigt vid\nskapandet.\nAkryl och blyertspenna är mina vanliga verktyg men också andra diverse då som bläck\, Torrpastell\ntusch och kol med mera.\nJag har även illustrerat en del i serie format.\nMotiven är inte bara fantasy och sci-fi tema utan även djur\, landskap och ibland människor.\nUpplevelser genom livet ger mig ibland viljan att även skapa\nbilder av det jag sett eller inte kan förklara\, dvs som klassas som paranormalt även om det är\nkontroversiellt.\nVarför jag målar? Ja egentligen som för de flesta för att jag vill. Och genom viljan skapa egna\nvärldar. Jobbandet med akryl är väldigt tillfredsställande.\nJag vill därför dela med mig av mina alster till alla att se.\nKontakt: 073-7223241\nMail: daniel.Andersohn@yahoo.se
URL:https://www.lyktan.net/event/trollguldoch-drakvingar-finnisage/
LOCATION:Galleri Lyktan\, Skogåstorget 7-9\, Skogås\, 142 30\, Sweden
CATEGORIES:Finissage,Utställning
ATTACH;FMTTYPE=image/jpeg:https://www.lyktan.net/wp-content/uploads/2025/08/unnamed-1-scaled.jpg
END:VEVENT
BEGIN:VEVENT
DTSTART;VALUE=DATE:20250619
DTEND;VALUE=DATE:20250819
DTSTAMP:20260426T031809
CREATED:20250521T110537Z
LAST-MODIFIED:20250521T110537Z
UID:10005064-1750291200-1755561599@www.lyktan.net
SUMMARY:Sommar Stängd
DESCRIPTION:
URL:https://www.lyktan.net/event/sommar-stangd/
LOCATION:Galleri Lyktan\, Skogåstorget 7-9\, Skogås\, 142 30\, Sweden
CATEGORIES:Stängd
ATTACH;FMTTYPE=image/jpeg:https://www.lyktan.net/wp-content/uploads/2025/05/bluberries-scaled-1.jpg
END:VEVENT
BEGIN:VEVENT
DTSTART;TZID=Europe/Stockholm:20250618T120000
DTEND;TZID=Europe/Stockholm:20250618T180000
DTSTAMP:20260426T031809
CREATED:20250522T105131Z
LAST-MODIFIED:20250614T114324Z
UID:10005067-1750248000-1750269600@www.lyktan.net
SUMMARY:Finnisage Finska Kulturdagar
DESCRIPTION:• Lyktan bjuder på fika.\n• Keijo Winstén presenterar sina böcker.\n• Birger Winsa berättar om sina böcker.\n• Möjlighet att träffa konstnärer som ställt ut.\n• Mikko Niskanen spelar dragspel.\n• Finsk hantverksmarknad.
URL:https://www.lyktan.net/event/finnisage-finska-kulturdagar/
LOCATION:Galleri Lyktan\, Skogåstorget 7-9\, Skogås\, 142 30\, Sweden
CATEGORIES:Finissage,Författarträff,Konsert,Konstnärsträff
ATTACH;FMTTYPE=image/jpeg:https://www.lyktan.net/wp-content/uploads/2025/05/Aff-finissage-18juni-JV-red-scaled.jpg
END:VEVENT
BEGIN:VEVENT
DTSTART;TZID=Europe/Stockholm:20250610T140000
DTEND;TZID=Europe/Stockholm:20250610T150000
DTSTAMP:20260426T031809
CREATED:20250521T110206Z
LAST-MODIFIED:20250521T110206Z
UID:10005062-1749564000-1749567600@www.lyktan.net
SUMMARY:Föreläsning/presentation. Finsk matkultur
DESCRIPTION:Föreläsning/presentation. Finsk matkultur
URL:https://www.lyktan.net/event/forelasning-presentation-finsk-matkultur/
LOCATION:Galleri Lyktan\, Skogåstorget 7-9\, Skogås\, 142 30\, Sweden
CATEGORIES:Föreläsning,Presentation
END:VEVENT
BEGIN:VEVENT
DTSTART;TZID=Europe/Stockholm:20250604T140000
DTEND;TZID=Europe/Stockholm:20250604T180000
DTSTAMP:20260426T031809
CREATED:20250521T105757Z
LAST-MODIFIED:20250522T104840Z
UID:10005060-1749045600-1749060000@www.lyktan.net
SUMMARY:Konstnärsträff med Heikki Haapanen
DESCRIPTION:Konstnärsträff med metallkonstnären Heikki Haapanen
URL:https://www.lyktan.net/event/konstnarstraff-med-heikki-haapanen/
LOCATION:Galleri Lyktan\, Skogåstorget 7-9\, Skogås\, 142 30\, Sweden
CATEGORIES:Konstnärsträff
END:VEVENT
BEGIN:VEVENT
DTSTART;TZID=Europe/Stockholm:20250603T120000
DTEND;TZID=Europe/Stockholm:20250603T180000
DTSTAMP:20260426T031809
CREATED:20250521T105507Z
LAST-MODIFIED:20250521T105635Z
UID:10005059-1748952000-1748973600@www.lyktan.net
SUMMARY:Mumintrollens dag
DESCRIPTION:Mumintrollens dag. Animerad Mumin-film på Lyktan \n Levande Mumintroll och popcorn i centrum
URL:https://www.lyktan.net/event/mumintrollens-dag/
LOCATION:Galleri Lyktan\, Skogåstorget 7-9\, Skogås\, 142 30\, Sweden
CATEGORIES:Filmvisning
ATTACH;FMTTYPE=image/jpeg:https://www.lyktan.net/wp-content/uploads/2025/05/R-scaled.jpeg
END:VEVENT
BEGIN:VEVENT
DTSTART;TZID=Europe/Stockholm:20250531T140000
DTEND;TZID=Europe/Stockholm:20250531T170000
DTSTAMP:20260426T031809
CREATED:20250521T064032Z
LAST-MODIFIED:20250521T064032Z
UID:10005051-1748700000-1748710800@www.lyktan.net
SUMMARY:Therése Hultman Författarträff
DESCRIPTION:”Lindansen – min dotter Olivia överlevde barncancer!” Författaren Therése Hultman berättar hur det kan vara att som anhörig uppleva cancer och hur de tog sig igenom alla motgångar. \nLördag den 31 maj klockan 14:00 \n”Lindansen är en gripande och autentisk berättelse om mod\, hopp och kärlek i en av livets svåraste stunder. När Olivias föräldrar får det omvälvande beskedet att deras dotter drabbats av en svår sjukdom\, ställs deras liv på ända.” \n Huvudpersonen Olivia visade på en otrolig styrka och målmedvetenhet. Hon överlevde cancern och alla komplikationer och är idag en pigg 22-åring som studerar på KTH. Hur tog sig familjen igenom alla motgångar? Författaren berättar. \nHon är uppvuxen i Skogås och även hennes barn är det. Nu kommer Therése Hultman ut med sin andra bok och Lyktan bjuder in till författarträff. \n VÄLKOMNA!!!
URL:https://www.lyktan.net/event/therese-hultman-forfattartraff/
CATEGORIES:Författarträff
ATTACH;FMTTYPE=image/jpeg:https://www.lyktan.net/wp-content/uploads/2025/05/Forfattarsamtal-pa-Lyktan.docx-scaled.jpg
END:VEVENT
BEGIN:VEVENT
DTSTART;VALUE=DATE:20250529
DTEND;VALUE=DATE:20250531
DTSTAMP:20260426T031809
CREATED:20250521T104938Z
LAST-MODIFIED:20250521T105024Z
UID:10005058-1748476800-1748649599@www.lyktan.net
SUMMARY:Kristi himmelsfärds-helg - Stängd
DESCRIPTION:
URL:https://www.lyktan.net/event/kristi-himmelsfards-helg-stangd/
LOCATION:Galleri Lyktan\, Skogåstorget 7-9\, Skogås\, 142 30\, Sweden
CATEGORIES:Stängd
ATTACH;FMTTYPE=image/webp:https://www.lyktan.net/wp-content/uploads/2025/05/Kristna-helger.webp
END:VEVENT
BEGIN:VEVENT
DTSTART;TZID=Europe/Stockholm:20250528T120000
DTEND;TZID=Europe/Stockholm:20250528T180000
DTSTAMP:20260426T031809
CREATED:20250521T104350Z
LAST-MODIFIED:20250522T104732Z
UID:10005066-1748433600-1748455200@www.lyktan.net
SUMMARY:Hantverksträff med Kathrine Hultman Eriksson
DESCRIPTION:
URL:https://www.lyktan.net/event/hantverkstraff-med-kathrine-hultman-eriksson/
LOCATION:Galleri Lyktan\, Skogåstorget 7-9\, Skogås\, 142 30\, Sweden
CATEGORIES:Hantverkarträff
ATTACH;FMTTYPE=image/jpeg:https://www.lyktan.net/wp-content/uploads/2025/05/OIP-1.jpeg
END:VEVENT
BEGIN:VEVENT
DTSTART;TZID=Europe/Stockholm:20250527T170000
DTEND;TZID=Europe/Stockholm:20250527T200000
DTSTAMP:20260426T031809
CREATED:20250521T103801Z
LAST-MODIFIED:20250604T085555Z
UID:10005054-1748365200-1748376000@www.lyktan.net
SUMMARY:Författarträff med Birger Winsa
DESCRIPTION:Två nygamla sätt att förstå verkligheten \nVi har två liv. Det andra börjar… \nAllt jag skrivit kan sammanfattas med några meningar \n1. Jag klättrade halva livet på Kunskapens träd. Skrev vetenskap i 20 år. \n2. Efter halva livet upptäckte jag att man får ju inte äta Kunskapens frukter. Förbjudet. Man ser mer om man står vid trädets rot. Så jag började klättra ner. Men det är långt svårare att klättra ner än klättra upp. \n3. Allt blev upp och ner och bak och fram.  \nFör 15 år sedan upptäckte jag en Ny ideologi\, en ny språkvetenskap och ett nygammalt sätt att betratka verkligheten. \n(Visa några böcker) \nJag kallar detta sätt att tänka för vetenskapskonst. Motsatsen till konstvetenskap \nSkrivit ca 40 böcker om ämnet och kanske 4000 sidor. \nDet är en klar fördel om det visst ett visst mått av galenskap. \n1. Individualistisk socialism är konstens ideologi. Där rött är blått och blått är rött. Dvs tvärtom. Motsatsen till Marx socialism \n2. Allmän socialism är dess avbild. Hela vänsterrörelsen förnekar den solitära individen och tror att bara flockdjuret existerar. Just därför finns den tidlösa konsten som hyllar individen frigjort flocken. \n3. Flockdjuret människa är en produkt av hierarkiska klankulturer som är vår äldsta samhällsform. En kulturgen som spökar än idag och som förstärks av humankapital-kulturen\, meritokratins baksida. Humankapitalism. Monarkierna var ju de sista klankulturerna. Jämlikhet kan inte existera i klankulturer. Men privata företag lever precis samma kultur\, som demokratin avvisar. \n4. Individualistisk socialism söker just detta: Riva alla klankulturer.  \n5. Även Vetenskapen hävdar tyvärr att människan är ett flockdjur. Ja det är sant om man tittar med vetenskapens öga. Med konstens öga finns det två former av individualism \n6. Och två motverkande krafter som hävdar respektive form av individualism. \n7. Konsten kallar det vetenskapliga narrativet för det allmänna. Medan det egna narrativbefriade synsättet är det enskilda.  \n 8. Svenskan har inte ens ett ord för solitär ensamhet som engelskan. Engelskan har solitude och loneliness. Det ena negativt ångestladdat och det andra positivt laddat. Man måste överkomma sin ensamhet för att finna sin solitära ensamhet \n Ett universellt broderskap finns i varje hjärta som slår\, sa Chaplin.  \nMen inte i flockdjuret människa som marxismen tror på.  \n Bara i ensamhet finner vi oss själva. Och när vi finner oss själva finner vi även oss själva i alla våra bröder i solitär ensamhet.  Fd fascisten Miguel de Unamuno i Spanien.  \n Konsten och vetneskapens världar förstår på två olika sätt. Intuitivt subjektivt eller rationellt objektivt. \n Subjektiviteten är sanningen säger konsten.  \nObjektiviteten är det enda som vetenskapen kan hantera. \n Känna med hjärtat eller tänka med hjärnan är de två eviga motkrafterna som finns överallt. Även i bokstäver \n 9. Ny språkteori som hänger ihop med ideologin:  \n 10. Förstå verkligheten som verb eller substantiv.  \n 11. Som man ropar får man svar. Naturen/kulturen svara med ett eko. Man ser sin egen självbild och är övertygad om att det är sanningen.  \n 12. Konsten säger att konsten är att att cykla/dansa. Vetenskapen studerar cyklisten/dansen.  \n 13. Alla analfabeter\, dyslektiker\, barn och djur förstår med verb. Alla högutbildade förstår världen med subsntantiv \nOrsaken är välbekant sedan gammalt.  \nBokstäverna som form tar makten över individen. \nSom ett kors i kyrkan\, en kostym\, professorstitel\, hijab etc \nEn omedelbar kunskap överförs i formen. Något som alla reklammakare känner till. \nMan skall skyla sitt huvud i för Gud. Det borde gå lika bra med en keps\, hatt\, eller mössa. Men det är formen en hiajb som människan tror att Allah kräver. Judarna bär en symbolisk kippa och har förstått. Amishfolket har en halmhatt. \nÖronen förstår mer än ögonen\, sa Biskop Ambroisus för 1700 år sedan. Bokstäver dödar hjärtat sa aposteln. \nMan högläste fram till medeltiden \nSkriften fördärvar hjärtat\,  \nskrev Jean-Jacques Rousseau under 1700-talet \nDet har upprepats 100-tals gånger. Men än har inte språkvetenskapen insett att verb är inte samma som substantiv \nSchiller i Europas nationalsång \n Magiken förenar oss \nSom kulturer\, och vanor har separerat. Alla människor blir bröder \n Denna solitära ensamhet betonas överallt inom konsten. \n Konsten är den mest intensiva form av individualism som världen någonsin skådat\, skrev Oscar Wilde under 1800-talet. \n Det finns hundratals exempel på ideologin individualistisk socialism inom konsten\, t ex hos Goethe\, Shakespeare\, Kierkegaard och Cervantes. Mängder med moderna filmer gestaltar samma intuitiva grundvara\, t ex filmerna The Mission med Robert de Niro från 1990-talet och Djävulen går i Prada. \n Picasso sa att den högsta konstformen är att måla som ett barn. Horatius skrev utan att tänka. Man kan inte göra två saker samtidigt\, menade han.             Jag brukar använda samma metod.  \nNär vi lär oss läsa och skriva börjar vi förstå den välrd som skolan utbildar oss i. Medan vi förlorar den värld som lever i dialekter och det språk som barn talar. Analfabetens värld är inte samma som den med massor av humankapital. \n Varje skrivet ord är ett substantiv som når hjärnan via ögonen. Varje talat ord är ett verb som når öronen. \n Bägge förmedlar innehållet i formen. Men substantiv är inte samma som verb. \nI begynnelsen var det talade ordet. Det skrivna kom för 6000 år sedan. Blanda inte ihop verb och substantiv till en soppa. \nMagritte målande en bild på en pipa med titel: Detta är inte en pipa.  \nVerb förmedlar solitära enskilda begrepp. Medan substantiv förmedlar påhittade allmänbegrepp som uppkom med skriftspråket. Skrivna ord kan inte förmedla det absolut enskilda. Bara det allmänna. Två världar uppkom när vi skapade skriften. \n Tidlös konst har alltid en och samma inställning: Det enda universella är det enskilda begreppet\, säger t ex poeten William Blake\, författarna Montaigne\, Rousseau\, James Joyce\, Goethe och Miguel Cervantes. De inser intuitivt men kan inte utveckla ämnet. Som bönder med ordspråk och språkvetarna om bokstävers mening.  \n Livet levs med enskilda verb och/eller allmänna substantiv. Du väljer vilket. Hunden förstår bara verbet ”sitt” men inte ”s-i-t-t”\, som inte längre betyder ’sitt’. Finns allmänbegreppet människa\, hund\, katt eller siffran 1? Varje skrivet ord betecknar ett allmänbegrepp. Varje not betecknar ett allmänt ljud. Finns dom? Nästan varje ord har en allmän och en enskild mening. Einstein sa en gång:  \n – Jag vill inte vara en Einstein! Jag är bara Einstein. \nSamma uppdelning finns överallt. Nästan alla förstår fortfarande musik bara med öronen. Många duktiga musiker är analfabeter i noter\, t ex Paul Mccartney och Benny Andersson. De kan bara förstå musik med hjärtat.  \nSamma när vi läser böcker. Om boken börjar leva sitt eget liv är det en bra bok. Den förenar texten med människan. Barn förstår så. De tror att Kling och Klang är verkliga poliser. Inte Lindrgrens påhitt.  \nOm inte blir det ett objekt som vi förstrött läser \nSamma när vi ser på film. Två sätt att se. Konsten söker alltid lura dig till den förståelse där du glömmer bort dig själv. \nMen inga böcker som utvecklar humankapital har det intuitiva perspektivet. Den tar med tiden makten över medvetandet.  \nKulturpendelen slår idag tillbaka mot den intuitiva naturen. Tron på humankapital som lösningen på samhällproblemen är det som skapar konflikter och politiska polarisering. Vi har tappat den intuitiva kompassen.  \nMycket mer skulle kunna sägas. Det här skrapar bara lite hasitgt på ytan av vad jag skrivit. Men de två motkrafterna det enskilda mot det allmänna är grundprincipen.
URL:https://www.lyktan.net/event/forfattartraff-med-birger-winsa/
LOCATION:Galleri Lyktan\, Skogåstorget 7-9\, Skogås\, 142 30\, Sweden
CATEGORIES:Författarträff
ATTACH;FMTTYPE=image/jpeg:https://www.lyktan.net/wp-content/uploads/2025/05/bocker3.jpg
END:VEVENT
BEGIN:VEVENT
DTSTART;TZID=Europe/Stockholm:20250524T140000
DTEND;TZID=Europe/Stockholm:20250524T170000
DTSTAMP:20260426T031809
CREATED:20250521T073655Z
LAST-MODIFIED:20250523T101715Z
UID:10005053-1748095200-1748106000@www.lyktan.net
SUMMARY:Författarträff Finska Författare
DESCRIPTION:Suomalaisia kulttuuripäiviä \nGalleri Lyktanilla  \n17/5 – 18/6 2025 \nFinska kulturdagar  \npå Galleri Lyktan \n  17 maj – 18 juni 2025              \n…………………………………\,\,\,\,\,…….…………………………… \nFörfattarträff \nLördag 24/5  \nkl. 14-17 Galleri Lyktan \nProgram \nTräffen öppnas och avslutas med musik av Henkes Band \nFörfattarna: \n-Esko Järvinen \n–Marja Mdzimba \nhttps://www.svt.se/nyheter/uutiset/marja-mdzimba-palkitaan-runoteoksestaan \n  och \n-Keijo Winstén \nberättar om sitt författarskap \n Kaffeservering \n Gratis inträde \n Tervetuloa! Välkommen!
URL:https://www.lyktan.net/event/forfattartraff-finska-forfattare/
LOCATION:Galleri Lyktan\, Skogåstorget 7-9\, Skogås\, 142 30\, Sweden
CATEGORIES:Författarträff
ATTACH;FMTTYPE=image/jpeg:https://www.lyktan.net/wp-content/uploads/2025/05/24maj-ram-scaled.jpg
END:VEVENT
BEGIN:VEVENT
DTSTART;TZID=Europe/Stockholm:20250523T140000
DTEND;TZID=Europe/Stockholm:20250523T170000
DTSTAMP:20260426T031809
CREATED:20250522T104547Z
LAST-MODIFIED:20250522T104547Z
UID:10005065-1748008800-1748019600@www.lyktan.net
SUMMARY:Finsk film på storskärm. (YouTube)
DESCRIPTION:
URL:https://www.lyktan.net/event/finsk-film-pa-storskarm-youtube/
LOCATION:Galleri Lyktan\, Skogåstorget 7-9\, Skogås\, 142 30\, Sweden
CATEGORIES:Filmvisning
END:VEVENT
END:VCALENDAR