BEGIN:VCALENDAR
VERSION:2.0
PRODID:-//Kulturföreningen Lyktan - ECPv6.15.17.1//NONSGML v1.0//EN
CALSCALE:GREGORIAN
METHOD:PUBLISH
X-WR-CALNAME:Kulturföreningen Lyktan
X-ORIGINAL-URL:https://www.lyktan.net
X-WR-CALDESC:Händelser för Kulturföreningen Lyktan
REFRESH-INTERVAL;VALUE=DURATION:PT1H
X-Robots-Tag:noindex
X-PUBLISHED-TTL:PT1H
BEGIN:VTIMEZONE
TZID:Europe/Stockholm
BEGIN:DAYLIGHT
TZOFFSETFROM:+0100
TZOFFSETTO:+0200
TZNAME:CEST
DTSTART:20240331T010000
END:DAYLIGHT
BEGIN:STANDARD
TZOFFSETFROM:+0200
TZOFFSETTO:+0100
TZNAME:CET
DTSTART:20241027T010000
END:STANDARD
BEGIN:DAYLIGHT
TZOFFSETFROM:+0100
TZOFFSETTO:+0200
TZNAME:CEST
DTSTART:20250330T010000
END:DAYLIGHT
BEGIN:STANDARD
TZOFFSETFROM:+0200
TZOFFSETTO:+0100
TZNAME:CET
DTSTART:20251026T010000
END:STANDARD
BEGIN:DAYLIGHT
TZOFFSETFROM:+0100
TZOFFSETTO:+0200
TZNAME:CEST
DTSTART:20260329T010000
END:DAYLIGHT
BEGIN:STANDARD
TZOFFSETFROM:+0200
TZOFFSETTO:+0100
TZNAME:CET
DTSTART:20261025T010000
END:STANDARD
END:VTIMEZONE
BEGIN:VEVENT
DTSTART;TZID=Europe/Stockholm:20251124T170000
DTEND;TZID=Europe/Stockholm:20251124T190000
DTSTAMP:20260426T031813
CREATED:20250902T000443Z
LAST-MODIFIED:20250905T174823Z
UID:10005746-1764003600-1764010800@www.lyktan.net
SUMMARY:Fotoklubben
DESCRIPTION:
URL:https://www.lyktan.net/event/fotoklubben/2025-11-24/
LOCATION:Galleri Lyktan\, Skogåstorget 7-9\, Skogås\, 142 30\, Sweden
CATEGORIES:Samtal
END:VEVENT
BEGIN:VEVENT
DTSTART;TZID=Europe/Stockholm:20251125T120000
DTEND;TZID=Europe/Stockholm:20251125T170000
DTSTAMP:20260426T031813
CREATED:20251030T014111Z
LAST-MODIFIED:20251117T040512Z
UID:10006285-1764072000-1764090000@www.lyktan.net
SUMMARY:Prärievargen i Mexico City
DESCRIPTION:Fotoutställning om en megastad av Ulrika Hembjer
URL:https://www.lyktan.net/event/prarievargen-i-mexico-city/2025-11-25/
LOCATION:Östra Gymnasiet\, Kvartettvägen 2-6\, Trångsund\, 14263\, Sweden
CATEGORIES:Författarträff,Utställning
ATTACH;FMTTYPE=image/jpeg:https://www.lyktan.net/wp-content/uploads/2025/10/Prarievargen_Ostra2025-Affisch.jpg
GEO:59.2226737048;18.150960373
X-APPLE-STRUCTURED-LOCATION;VALUE=URI;X-ADDRESS=Östra Gymnasiet Kvartettvägen 2-6 Trångsund 14263 Sweden;X-APPLE-RADIUS=500;X-TITLE=Kvartettvägen 2-6:geo:18.150960373,59.2226737048
END:VEVENT
BEGIN:VEVENT
DTSTART;TZID=Europe/Stockholm:20251125T160000
DTEND;TZID=Europe/Stockholm:20251125T180000
DTSTAMP:20260426T031813
CREATED:20251117T041821Z
LAST-MODIFIED:20251117T044920Z
UID:10006365-1764086400-1764093600@www.lyktan.net
SUMMARY:Sagoläsning på spanska
DESCRIPTION:
URL:https://www.lyktan.net/event/sagolasning-pa-spanska/
LOCATION:Galleri Lyktan\, Skogåstorget 7-9\, Skogås\, 142 30\, Sweden
CATEGORIES:Författarträff,Utställning
ATTACH;FMTTYPE=image/jpeg:https://www.lyktan.net/wp-content/uploads/2025/09/Sagoland-2025-scaled.jpg
END:VEVENT
BEGIN:VEVENT
DTSTART;TZID=Europe/Stockholm:20251126T120000
DTEND;TZID=Europe/Stockholm:20251126T160000
DTSTAMP:20260426T031813
CREATED:20250902T000248Z
LAST-MODIFIED:20260131T042930Z
UID:10005090-1764158400-1764172800@www.lyktan.net
SUMMARY:Hantverk med Kathrine
DESCRIPTION:
URL:https://www.lyktan.net/event/hantverk-med-kathrine/2025-11-26/
LOCATION:Galleri Lyktan\, Skogåstorget 7-9\, Skogås\, 142 30\, Sweden
CATEGORIES:Workshop
ATTACH;FMTTYPE=image/jpeg:https://www.lyktan.net/wp-content/uploads/2025/05/OIP-1.jpeg
END:VEVENT
BEGIN:VEVENT
DTSTART;TZID=Europe/Stockholm:20251126T120000
DTEND;TZID=Europe/Stockholm:20251126T170000
DTSTAMP:20260426T031813
CREATED:20251030T014111Z
LAST-MODIFIED:20251117T040512Z
UID:10006286-1764158400-1764176400@www.lyktan.net
SUMMARY:Prärievargen i Mexico City
DESCRIPTION:Fotoutställning om en megastad av Ulrika Hembjer
URL:https://www.lyktan.net/event/prarievargen-i-mexico-city/2025-11-26/
LOCATION:Östra Gymnasiet\, Kvartettvägen 2-6\, Trångsund\, 14263\, Sweden
CATEGORIES:Författarträff,Utställning
ATTACH;FMTTYPE=image/jpeg:https://www.lyktan.net/wp-content/uploads/2025/10/Prarievargen_Ostra2025-Affisch.jpg
GEO:59.2226737048;18.150960373
X-APPLE-STRUCTURED-LOCATION;VALUE=URI;X-ADDRESS=Östra Gymnasiet Kvartettvägen 2-6 Trångsund 14263 Sweden;X-APPLE-RADIUS=500;X-TITLE=Kvartettvägen 2-6:geo:18.150960373,59.2226737048
END:VEVENT
BEGIN:VEVENT
DTSTART;TZID=Europe/Stockholm:20251126T120000
DTEND;TZID=Europe/Stockholm:20251126T170000
DTSTAMP:20260426T031813
CREATED:20251117T040349Z
LAST-MODIFIED:20251117T040352Z
UID:10006320-1764158400-1764176400@www.lyktan.net
SUMMARY:Sagoland
DESCRIPTION:
URL:https://www.lyktan.net/event/sagoland-3/2025-11-26/
LOCATION:Galleri Lyktan\, Skogåstorget 7-9\, Skogås\, 142 30\, Sweden
CATEGORIES:Utställning,Vernissage
ATTACH;FMTTYPE=image/jpeg:https://www.lyktan.net/wp-content/uploads/2025/09/Sagoland-2025-scaled.jpg
END:VEVENT
BEGIN:VEVENT
DTSTART;TZID=Europe/Stockholm:20251127T120000
DTEND;TZID=Europe/Stockholm:20251127T170000
DTSTAMP:20260426T031813
CREATED:20251030T014111Z
LAST-MODIFIED:20251117T040512Z
UID:10006287-1764244800-1764262800@www.lyktan.net
SUMMARY:Prärievargen i Mexico City
DESCRIPTION:Fotoutställning om en megastad av Ulrika Hembjer
URL:https://www.lyktan.net/event/prarievargen-i-mexico-city/2025-11-27/
LOCATION:Östra Gymnasiet\, Kvartettvägen 2-6\, Trångsund\, 14263\, Sweden
CATEGORIES:Författarträff,Utställning
ATTACH;FMTTYPE=image/jpeg:https://www.lyktan.net/wp-content/uploads/2025/10/Prarievargen_Ostra2025-Affisch.jpg
GEO:59.2226737048;18.150960373
X-APPLE-STRUCTURED-LOCATION;VALUE=URI;X-ADDRESS=Östra Gymnasiet Kvartettvägen 2-6 Trångsund 14263 Sweden;X-APPLE-RADIUS=500;X-TITLE=Kvartettvägen 2-6:geo:18.150960373,59.2226737048
END:VEVENT
BEGIN:VEVENT
DTSTART;TZID=Europe/Stockholm:20251127T120000
DTEND;TZID=Europe/Stockholm:20251127T170000
DTSTAMP:20260426T031813
CREATED:20251117T032255Z
LAST-MODIFIED:20251117T040806Z
UID:10006338-1764244800-1764262800@www.lyktan.net
SUMMARY:Sagoland
DESCRIPTION:
URL:https://www.lyktan.net/event/sagoland-2/2025-11-27/
LOCATION:Galleri Lyktan\, Skogåstorget 7-9\, Skogås\, 142 30\, Sweden
CATEGORIES:Utställning,Vernissage
ATTACH;FMTTYPE=image/jpeg:https://www.lyktan.net/wp-content/uploads/2025/09/Sagoland-2025-scaled.jpg
END:VEVENT
BEGIN:VEVENT
DTSTART;TZID=Europe/Stockholm:20251127T180000
DTEND;TZID=Europe/Stockholm:20251127T200000
DTSTAMP:20260426T031813
CREATED:20250902T000603Z
LAST-MODIFIED:20250902T000603Z
UID:10005482-1764266400-1764273600@www.lyktan.net
SUMMARY:Torsdagsträffar
DESCRIPTION:
URL:https://www.lyktan.net/event/torsdagstraffar/2025-11-27/
CATEGORIES:Samtal
END:VEVENT
BEGIN:VEVENT
DTSTART;TZID=Europe/Stockholm:20251128T120000
DTEND;TZID=Europe/Stockholm:20251128T170000
DTSTAMP:20260426T031813
CREATED:20251030T014111Z
LAST-MODIFIED:20251117T040512Z
UID:10006288-1764331200-1764349200@www.lyktan.net
SUMMARY:Prärievargen i Mexico City
DESCRIPTION:Fotoutställning om en megastad av Ulrika Hembjer
URL:https://www.lyktan.net/event/prarievargen-i-mexico-city/2025-11-28/
LOCATION:Östra Gymnasiet\, Kvartettvägen 2-6\, Trångsund\, 14263\, Sweden
CATEGORIES:Författarträff,Utställning
ATTACH;FMTTYPE=image/jpeg:https://www.lyktan.net/wp-content/uploads/2025/10/Prarievargen_Ostra2025-Affisch.jpg
GEO:59.2226737048;18.150960373
X-APPLE-STRUCTURED-LOCATION;VALUE=URI;X-ADDRESS=Östra Gymnasiet Kvartettvägen 2-6 Trångsund 14263 Sweden;X-APPLE-RADIUS=500;X-TITLE=Kvartettvägen 2-6:geo:18.150960373,59.2226737048
END:VEVENT
BEGIN:VEVENT
DTSTART;TZID=Europe/Stockholm:20251128T120000
DTEND;TZID=Europe/Stockholm:20251128T170000
DTSTAMP:20260426T031813
CREATED:20251117T032255Z
LAST-MODIFIED:20251117T040806Z
UID:10006322-1764331200-1764349200@www.lyktan.net
SUMMARY:Sagoland
DESCRIPTION:
URL:https://www.lyktan.net/event/sagoland-2/2025-11-28/
LOCATION:Galleri Lyktan\, Skogåstorget 7-9\, Skogås\, 142 30\, Sweden
CATEGORIES:Utställning,Vernissage
ATTACH;FMTTYPE=image/jpeg:https://www.lyktan.net/wp-content/uploads/2025/09/Sagoland-2025-scaled.jpg
END:VEVENT
BEGIN:VEVENT
DTSTART;TZID=Europe/Stockholm:20251129T120000
DTEND;TZID=Europe/Stockholm:20251129T170000
DTSTAMP:20260426T031813
CREATED:20251117T032255Z
LAST-MODIFIED:20251117T040806Z
UID:10006323-1764417600-1764435600@www.lyktan.net
SUMMARY:Sagoland
DESCRIPTION:
URL:https://www.lyktan.net/event/sagoland-2/2025-11-29/
LOCATION:Galleri Lyktan\, Skogåstorget 7-9\, Skogås\, 142 30\, Sweden
CATEGORIES:Utställning,Vernissage
ATTACH;FMTTYPE=image/jpeg:https://www.lyktan.net/wp-content/uploads/2025/09/Sagoland-2025-scaled.jpg
END:VEVENT
BEGIN:VEVENT
DTSTART;VALUE=DATE:20251130
DTEND;VALUE=DATE:20251201
DTSTAMP:20260426T031813
CREATED:20250907T085224Z
LAST-MODIFIED:20260131T045303Z
UID:10005775-1764460800-1764547199@www.lyktan.net
SUMMARY:STÄNGT
DESCRIPTION:Denna dagen har vi stängt
URL:https://www.lyktan.net/event/stangt/2025-11-30/
CATEGORIES:Stängd
ATTACH;FMTTYPE=image/jpeg:https://www.lyktan.net/wp-content/uploads/2025/09/R.jpeg
END:VEVENT
BEGIN:VEVENT
DTSTART;VALUE=DATE:20251201
DTEND;VALUE=DATE:20251202
DTSTAMP:20260426T031813
CREATED:20250907T085224Z
LAST-MODIFIED:20260131T045303Z
UID:10005776-1764547200-1764633599@www.lyktan.net
SUMMARY:STÄNGT
DESCRIPTION:Denna dagen har vi stängt
URL:https://www.lyktan.net/event/stangt/2025-12-01/
CATEGORIES:Stängd
ATTACH;FMTTYPE=image/jpeg:https://www.lyktan.net/wp-content/uploads/2025/09/R.jpeg
END:VEVENT
BEGIN:VEVENT
DTSTART;TZID=Europe/Stockholm:20251201T120000
DTEND;TZID=Europe/Stockholm:20251201T170000
DTSTAMP:20260426T031813
CREATED:20251030T014111Z
LAST-MODIFIED:20251117T040512Z
UID:10006289-1764590400-1764608400@www.lyktan.net
SUMMARY:Prärievargen i Mexico City
DESCRIPTION:Fotoutställning om en megastad av Ulrika Hembjer
URL:https://www.lyktan.net/event/prarievargen-i-mexico-city/2025-12-01/
LOCATION:Östra Gymnasiet\, Kvartettvägen 2-6\, Trångsund\, 14263\, Sweden
CATEGORIES:Författarträff,Utställning
ATTACH;FMTTYPE=image/jpeg:https://www.lyktan.net/wp-content/uploads/2025/10/Prarievargen_Ostra2025-Affisch.jpg
GEO:59.2226737048;18.150960373
X-APPLE-STRUCTURED-LOCATION;VALUE=URI;X-ADDRESS=Östra Gymnasiet Kvartettvägen 2-6 Trångsund 14263 Sweden;X-APPLE-RADIUS=500;X-TITLE=Kvartettvägen 2-6:geo:18.150960373,59.2226737048
END:VEVENT
BEGIN:VEVENT
DTSTART;TZID=Europe/Stockholm:20251202T120000
DTEND;TZID=Europe/Stockholm:20251202T170000
DTSTAMP:20260426T031813
CREATED:20251030T014111Z
LAST-MODIFIED:20251117T040512Z
UID:10006290-1764676800-1764694800@www.lyktan.net
SUMMARY:Prärievargen i Mexico City
DESCRIPTION:Fotoutställning om en megastad av Ulrika Hembjer
URL:https://www.lyktan.net/event/prarievargen-i-mexico-city/2025-12-02/
LOCATION:Östra Gymnasiet\, Kvartettvägen 2-6\, Trångsund\, 14263\, Sweden
CATEGORIES:Författarträff,Utställning
ATTACH;FMTTYPE=image/jpeg:https://www.lyktan.net/wp-content/uploads/2025/10/Prarievargen_Ostra2025-Affisch.jpg
GEO:59.2226737048;18.150960373
X-APPLE-STRUCTURED-LOCATION;VALUE=URI;X-ADDRESS=Östra Gymnasiet Kvartettvägen 2-6 Trångsund 14263 Sweden;X-APPLE-RADIUS=500;X-TITLE=Kvartettvägen 2-6:geo:18.150960373,59.2226737048
END:VEVENT
BEGIN:VEVENT
DTSTART;TZID=Europe/Stockholm:20251203T120000
DTEND;TZID=Europe/Stockholm:20251203T160000
DTSTAMP:20260426T031813
CREATED:20250902T000248Z
LAST-MODIFIED:20260131T042930Z
UID:10005091-1764763200-1764777600@www.lyktan.net
SUMMARY:Hantverk med Kathrine
DESCRIPTION:
URL:https://www.lyktan.net/event/hantverk-med-kathrine/2025-12-03/
LOCATION:Galleri Lyktan\, Skogåstorget 7-9\, Skogås\, 142 30\, Sweden
CATEGORIES:Workshop
ATTACH;FMTTYPE=image/jpeg:https://www.lyktan.net/wp-content/uploads/2025/05/OIP-1.jpeg
END:VEVENT
BEGIN:VEVENT
DTSTART;TZID=Europe/Stockholm:20251203T120000
DTEND;TZID=Europe/Stockholm:20251203T170000
DTSTAMP:20260426T031813
CREATED:20251030T014111Z
LAST-MODIFIED:20251117T040512Z
UID:10006291-1764763200-1764781200@www.lyktan.net
SUMMARY:Prärievargen i Mexico City
DESCRIPTION:Fotoutställning om en megastad av Ulrika Hembjer
URL:https://www.lyktan.net/event/prarievargen-i-mexico-city/2025-12-03/
LOCATION:Östra Gymnasiet\, Kvartettvägen 2-6\, Trångsund\, 14263\, Sweden
CATEGORIES:Författarträff,Utställning
ATTACH;FMTTYPE=image/jpeg:https://www.lyktan.net/wp-content/uploads/2025/10/Prarievargen_Ostra2025-Affisch.jpg
GEO:59.2226737048;18.150960373
X-APPLE-STRUCTURED-LOCATION;VALUE=URI;X-ADDRESS=Östra Gymnasiet Kvartettvägen 2-6 Trångsund 14263 Sweden;X-APPLE-RADIUS=500;X-TITLE=Kvartettvägen 2-6:geo:18.150960373,59.2226737048
END:VEVENT
BEGIN:VEVENT
DTSTART;TZID=Europe/Stockholm:20251203T120000
DTEND;TZID=Europe/Stockholm:20251203T170000
DTSTAMP:20260426T031813
CREATED:20251117T032255Z
LAST-MODIFIED:20251117T040806Z
UID:10006325-1764763200-1764781200@www.lyktan.net
SUMMARY:Sagoland
DESCRIPTION:
URL:https://www.lyktan.net/event/sagoland-2/2025-12-03/
LOCATION:Galleri Lyktan\, Skogåstorget 7-9\, Skogås\, 142 30\, Sweden
CATEGORIES:Utställning,Vernissage
ATTACH;FMTTYPE=image/jpeg:https://www.lyktan.net/wp-content/uploads/2025/09/Sagoland-2025-scaled.jpg
END:VEVENT
BEGIN:VEVENT
DTSTART;TZID=Europe/Stockholm:20251204T120000
DTEND;TZID=Europe/Stockholm:20251204T170000
DTSTAMP:20260426T031813
CREATED:20251030T014111Z
LAST-MODIFIED:20251117T040512Z
UID:10006292-1764849600-1764867600@www.lyktan.net
SUMMARY:Prärievargen i Mexico City
DESCRIPTION:Fotoutställning om en megastad av Ulrika Hembjer
URL:https://www.lyktan.net/event/prarievargen-i-mexico-city/2025-12-04/
LOCATION:Östra Gymnasiet\, Kvartettvägen 2-6\, Trångsund\, 14263\, Sweden
CATEGORIES:Författarträff,Utställning
ATTACH;FMTTYPE=image/jpeg:https://www.lyktan.net/wp-content/uploads/2025/10/Prarievargen_Ostra2025-Affisch.jpg
GEO:59.2226737048;18.150960373
X-APPLE-STRUCTURED-LOCATION;VALUE=URI;X-ADDRESS=Östra Gymnasiet Kvartettvägen 2-6 Trångsund 14263 Sweden;X-APPLE-RADIUS=500;X-TITLE=Kvartettvägen 2-6:geo:18.150960373,59.2226737048
END:VEVENT
BEGIN:VEVENT
DTSTART;TZID=Europe/Stockholm:20251204T120000
DTEND;TZID=Europe/Stockholm:20251204T170000
DTSTAMP:20260426T031813
CREATED:20251117T032255Z
LAST-MODIFIED:20251117T040806Z
UID:10006326-1764849600-1764867600@www.lyktan.net
SUMMARY:Sagoland
DESCRIPTION:
URL:https://www.lyktan.net/event/sagoland-2/2025-12-04/
LOCATION:Galleri Lyktan\, Skogåstorget 7-9\, Skogås\, 142 30\, Sweden
CATEGORIES:Utställning,Vernissage
ATTACH;FMTTYPE=image/jpeg:https://www.lyktan.net/wp-content/uploads/2025/09/Sagoland-2025-scaled.jpg
END:VEVENT
BEGIN:VEVENT
DTSTART;TZID=Europe/Stockholm:20251204T180000
DTEND;TZID=Europe/Stockholm:20251204T200000
DTSTAMP:20260426T031813
CREATED:20250902T000603Z
LAST-MODIFIED:20250902T000603Z
UID:10005483-1764871200-1764878400@www.lyktan.net
SUMMARY:Torsdagsträffar
DESCRIPTION:
URL:https://www.lyktan.net/event/torsdagstraffar/2025-12-04/
CATEGORIES:Samtal
END:VEVENT
BEGIN:VEVENT
DTSTART;TZID=Europe/Stockholm:20251205T120000
DTEND;TZID=Europe/Stockholm:20251205T170000
DTSTAMP:20260426T031813
CREATED:20251030T014111Z
LAST-MODIFIED:20251117T040512Z
UID:10006293-1764936000-1764954000@www.lyktan.net
SUMMARY:Prärievargen i Mexico City
DESCRIPTION:Fotoutställning om en megastad av Ulrika Hembjer
URL:https://www.lyktan.net/event/prarievargen-i-mexico-city/2025-12-05/
LOCATION:Östra Gymnasiet\, Kvartettvägen 2-6\, Trångsund\, 14263\, Sweden
CATEGORIES:Författarträff,Utställning
ATTACH;FMTTYPE=image/jpeg:https://www.lyktan.net/wp-content/uploads/2025/10/Prarievargen_Ostra2025-Affisch.jpg
GEO:59.2226737048;18.150960373
X-APPLE-STRUCTURED-LOCATION;VALUE=URI;X-ADDRESS=Östra Gymnasiet Kvartettvägen 2-6 Trångsund 14263 Sweden;X-APPLE-RADIUS=500;X-TITLE=Kvartettvägen 2-6:geo:18.150960373,59.2226737048
END:VEVENT
BEGIN:VEVENT
DTSTART;TZID=Europe/Stockholm:20251205T120000
DTEND;TZID=Europe/Stockholm:20251205T170000
DTSTAMP:20260426T031813
CREATED:20251117T032255Z
LAST-MODIFIED:20251117T040806Z
UID:10006327-1764936000-1764954000@www.lyktan.net
SUMMARY:Sagoland
DESCRIPTION:
URL:https://www.lyktan.net/event/sagoland-2/2025-12-05/
LOCATION:Galleri Lyktan\, Skogåstorget 7-9\, Skogås\, 142 30\, Sweden
CATEGORIES:Utställning,Vernissage
ATTACH;FMTTYPE=image/jpeg:https://www.lyktan.net/wp-content/uploads/2025/09/Sagoland-2025-scaled.jpg
END:VEVENT
BEGIN:VEVENT
DTSTART;TZID=Europe/Stockholm:20251206T120000
DTEND;TZID=Europe/Stockholm:20251206T170000
DTSTAMP:20260426T031813
CREATED:20251117T032255Z
LAST-MODIFIED:20251117T040806Z
UID:10006328-1765022400-1765040400@www.lyktan.net
SUMMARY:Sagoland
DESCRIPTION:
URL:https://www.lyktan.net/event/sagoland-2/2025-12-06/
LOCATION:Galleri Lyktan\, Skogåstorget 7-9\, Skogås\, 142 30\, Sweden
CATEGORIES:Utställning,Vernissage
ATTACH;FMTTYPE=image/jpeg:https://www.lyktan.net/wp-content/uploads/2025/09/Sagoland-2025-scaled.jpg
END:VEVENT
BEGIN:VEVENT
DTSTART;VALUE=DATE:20251207
DTEND;VALUE=DATE:20251208
DTSTAMP:20260426T031813
CREATED:20250907T085224Z
LAST-MODIFIED:20260131T045303Z
UID:10005777-1765065600-1765151999@www.lyktan.net
SUMMARY:STÄNGT
DESCRIPTION:Denna dagen har vi stängt
URL:https://www.lyktan.net/event/stangt/2025-12-07/
CATEGORIES:Stängd
ATTACH;FMTTYPE=image/jpeg:https://www.lyktan.net/wp-content/uploads/2025/09/R.jpeg
END:VEVENT
BEGIN:VEVENT
DTSTART;VALUE=DATE:20251208
DTEND;VALUE=DATE:20251209
DTSTAMP:20260426T031813
CREATED:20250907T085224Z
LAST-MODIFIED:20260131T045303Z
UID:10005778-1765152000-1765238399@www.lyktan.net
SUMMARY:STÄNGT
DESCRIPTION:Denna dagen har vi stängt
URL:https://www.lyktan.net/event/stangt/2025-12-08/
CATEGORIES:Stängd
ATTACH;FMTTYPE=image/jpeg:https://www.lyktan.net/wp-content/uploads/2025/09/R.jpeg
END:VEVENT
BEGIN:VEVENT
DTSTART;TZID=Europe/Stockholm:20251208T120000
DTEND;TZID=Europe/Stockholm:20251208T170000
DTSTAMP:20260426T031813
CREATED:20251030T014111Z
LAST-MODIFIED:20251117T040512Z
UID:10006294-1765195200-1765213200@www.lyktan.net
SUMMARY:Prärievargen i Mexico City
DESCRIPTION:Fotoutställning om en megastad av Ulrika Hembjer
URL:https://www.lyktan.net/event/prarievargen-i-mexico-city/2025-12-08/
LOCATION:Östra Gymnasiet\, Kvartettvägen 2-6\, Trångsund\, 14263\, Sweden
CATEGORIES:Författarträff,Utställning
ATTACH;FMTTYPE=image/jpeg:https://www.lyktan.net/wp-content/uploads/2025/10/Prarievargen_Ostra2025-Affisch.jpg
GEO:59.2226737048;18.150960373
X-APPLE-STRUCTURED-LOCATION;VALUE=URI;X-ADDRESS=Östra Gymnasiet Kvartettvägen 2-6 Trångsund 14263 Sweden;X-APPLE-RADIUS=500;X-TITLE=Kvartettvägen 2-6:geo:18.150960373,59.2226737048
END:VEVENT
BEGIN:VEVENT
DTSTART;TZID=Europe/Stockholm:20251208T170000
DTEND;TZID=Europe/Stockholm:20251208T190000
DTSTAMP:20260426T031813
CREATED:20250902T000443Z
LAST-MODIFIED:20250905T174823Z
UID:10005747-1765213200-1765220400@www.lyktan.net
SUMMARY:Fotoklubben
DESCRIPTION:
URL:https://www.lyktan.net/event/fotoklubben/2025-12-08/
LOCATION:Galleri Lyktan\, Skogåstorget 7-9\, Skogås\, 142 30\, Sweden
CATEGORIES:Samtal
END:VEVENT
BEGIN:VEVENT
DTSTART;TZID=Europe/Stockholm:20251209T120000
DTEND;TZID=Europe/Stockholm:20251209T170000
DTSTAMP:20260426T031813
CREATED:20251030T014111Z
LAST-MODIFIED:20251117T040512Z
UID:10006295-1765281600-1765299600@www.lyktan.net
SUMMARY:Prärievargen i Mexico City
DESCRIPTION:Fotoutställning om en megastad av Ulrika Hembjer
URL:https://www.lyktan.net/event/prarievargen-i-mexico-city/2025-12-09/
LOCATION:Östra Gymnasiet\, Kvartettvägen 2-6\, Trångsund\, 14263\, Sweden
CATEGORIES:Författarträff,Utställning
ATTACH;FMTTYPE=image/jpeg:https://www.lyktan.net/wp-content/uploads/2025/10/Prarievargen_Ostra2025-Affisch.jpg
GEO:59.2226737048;18.150960373
X-APPLE-STRUCTURED-LOCATION;VALUE=URI;X-ADDRESS=Östra Gymnasiet Kvartettvägen 2-6 Trångsund 14263 Sweden;X-APPLE-RADIUS=500;X-TITLE=Kvartettvägen 2-6:geo:18.150960373,59.2226737048
END:VEVENT
END:VCALENDAR