BEGIN:VCALENDAR
VERSION:2.0
PRODID:-//Kulturföreningen Lyktan - ECPv6.15.17.1//NONSGML v1.0//EN
CALSCALE:GREGORIAN
METHOD:PUBLISH
X-ORIGINAL-URL:https://www.lyktan.net
X-WR-CALDESC:Händelser för Kulturföreningen Lyktan
REFRESH-INTERVAL;VALUE=DURATION:PT1H
X-Robots-Tag:noindex
X-PUBLISHED-TTL:PT1H
BEGIN:VTIMEZONE
TZID:Europe/Stockholm
BEGIN:DAYLIGHT
TZOFFSETFROM:+0100
TZOFFSETTO:+0200
TZNAME:CEST
DTSTART:20260329T010000
END:DAYLIGHT
BEGIN:STANDARD
TZOFFSETFROM:+0200
TZOFFSETTO:+0100
TZNAME:CET
DTSTART:20261025T010000
END:STANDARD
BEGIN:DAYLIGHT
TZOFFSETFROM:+0100
TZOFFSETTO:+0200
TZNAME:CEST
DTSTART:20270328T010000
END:DAYLIGHT
BEGIN:STANDARD
TZOFFSETFROM:+0200
TZOFFSETTO:+0100
TZNAME:CET
DTSTART:20271031T010000
END:STANDARD
BEGIN:DAYLIGHT
TZOFFSETFROM:+0100
TZOFFSETTO:+0200
TZNAME:CEST
DTSTART:20280326T010000
END:DAYLIGHT
BEGIN:STANDARD
TZOFFSETFROM:+0200
TZOFFSETTO:+0100
TZNAME:CET
DTSTART:20281029T010000
END:STANDARD
END:VTIMEZONE
BEGIN:VEVENT
DTSTART;TZID=Europe/Stockholm:20270520T180000
DTEND;TZID=Europe/Stockholm:20270520T200000
DTSTAMP:20260426T032923
CREATED:20250902T000603Z
LAST-MODIFIED:20250902T000603Z
UID:10005559-1810836000-1810843200@www.lyktan.net
SUMMARY:Torsdagsträffar
DESCRIPTION:
URL:https://www.lyktan.net/event/torsdagstraffar/2027-05-20/
CATEGORIES:Samtal
END:VEVENT
BEGIN:VEVENT
DTSTART;TZID=Europe/Stockholm:20270527T180000
DTEND;TZID=Europe/Stockholm:20270527T200000
DTSTAMP:20260426T032923
CREATED:20250902T000603Z
LAST-MODIFIED:20250902T000603Z
UID:10005560-1811440800-1811448000@www.lyktan.net
SUMMARY:Torsdagsträffar
DESCRIPTION:
URL:https://www.lyktan.net/event/torsdagstraffar/2027-05-27/
CATEGORIES:Samtal
END:VEVENT
BEGIN:VEVENT
DTSTART;TZID=Europe/Stockholm:20270603T180000
DTEND;TZID=Europe/Stockholm:20270603T200000
DTSTAMP:20260426T032923
CREATED:20250902T000603Z
LAST-MODIFIED:20250902T000603Z
UID:10005561-1812045600-1812052800@www.lyktan.net
SUMMARY:Torsdagsträffar
DESCRIPTION:
URL:https://www.lyktan.net/event/torsdagstraffar/2027-06-03/
CATEGORIES:Samtal
END:VEVENT
BEGIN:VEVENT
DTSTART;TZID=Europe/Stockholm:20270610T180000
DTEND;TZID=Europe/Stockholm:20270610T200000
DTSTAMP:20260426T032923
CREATED:20250902T000603Z
LAST-MODIFIED:20250902T000603Z
UID:10005562-1812650400-1812657600@www.lyktan.net
SUMMARY:Torsdagsträffar
DESCRIPTION:
URL:https://www.lyktan.net/event/torsdagstraffar/2027-06-10/
CATEGORIES:Samtal
END:VEVENT
BEGIN:VEVENT
DTSTART;TZID=Europe/Stockholm:20270617T180000
DTEND;TZID=Europe/Stockholm:20270617T200000
DTSTAMP:20260426T032923
CREATED:20250902T000603Z
LAST-MODIFIED:20250902T000603Z
UID:10005563-1813255200-1813262400@www.lyktan.net
SUMMARY:Torsdagsträffar
DESCRIPTION:
URL:https://www.lyktan.net/event/torsdagstraffar/2027-06-17/
CATEGORIES:Samtal
END:VEVENT
BEGIN:VEVENT
DTSTART;TZID=Europe/Stockholm:20270624T180000
DTEND;TZID=Europe/Stockholm:20270624T200000
DTSTAMP:20260426T032923
CREATED:20250902T000603Z
LAST-MODIFIED:20250902T000603Z
UID:10005564-1813860000-1813867200@www.lyktan.net
SUMMARY:Torsdagsträffar
DESCRIPTION:
URL:https://www.lyktan.net/event/torsdagstraffar/2027-06-24/
CATEGORIES:Samtal
END:VEVENT
BEGIN:VEVENT
DTSTART;TZID=Europe/Stockholm:20270701T180000
DTEND;TZID=Europe/Stockholm:20270701T200000
DTSTAMP:20260426T032923
CREATED:20250902T000603Z
LAST-MODIFIED:20250902T000603Z
UID:10005565-1814464800-1814472000@www.lyktan.net
SUMMARY:Torsdagsträffar
DESCRIPTION:
URL:https://www.lyktan.net/event/torsdagstraffar/2027-07-01/
CATEGORIES:Samtal
END:VEVENT
BEGIN:VEVENT
DTSTART;TZID=Europe/Stockholm:20270708T180000
DTEND;TZID=Europe/Stockholm:20270708T200000
DTSTAMP:20260426T032923
CREATED:20250902T000603Z
LAST-MODIFIED:20250902T000603Z
UID:10005566-1815069600-1815076800@www.lyktan.net
SUMMARY:Torsdagsträffar
DESCRIPTION:
URL:https://www.lyktan.net/event/torsdagstraffar/2027-07-08/
CATEGORIES:Samtal
END:VEVENT
BEGIN:VEVENT
DTSTART;TZID=Europe/Stockholm:20270715T180000
DTEND;TZID=Europe/Stockholm:20270715T200000
DTSTAMP:20260426T032923
CREATED:20250902T000603Z
LAST-MODIFIED:20250902T000603Z
UID:10005567-1815674400-1815681600@www.lyktan.net
SUMMARY:Torsdagsträffar
DESCRIPTION:
URL:https://www.lyktan.net/event/torsdagstraffar/2027-07-15/
CATEGORIES:Samtal
END:VEVENT
BEGIN:VEVENT
DTSTART;TZID=Europe/Stockholm:20270722T180000
DTEND;TZID=Europe/Stockholm:20270722T200000
DTSTAMP:20260426T032923
CREATED:20250902T000603Z
LAST-MODIFIED:20250902T000603Z
UID:10005568-1816279200-1816286400@www.lyktan.net
SUMMARY:Torsdagsträffar
DESCRIPTION:
URL:https://www.lyktan.net/event/torsdagstraffar/2027-07-22/
CATEGORIES:Samtal
END:VEVENT
BEGIN:VEVENT
DTSTART;TZID=Europe/Stockholm:20270729T180000
DTEND;TZID=Europe/Stockholm:20270729T200000
DTSTAMP:20260426T032923
CREATED:20250902T000603Z
LAST-MODIFIED:20250902T000603Z
UID:10005569-1816884000-1816891200@www.lyktan.net
SUMMARY:Torsdagsträffar
DESCRIPTION:
URL:https://www.lyktan.net/event/torsdagstraffar/2027-07-29/
CATEGORIES:Samtal
END:VEVENT
BEGIN:VEVENT
DTSTART;TZID=Europe/Stockholm:20270805T180000
DTEND;TZID=Europe/Stockholm:20270805T200000
DTSTAMP:20260426T032923
CREATED:20250902T000603Z
LAST-MODIFIED:20250902T000603Z
UID:10005570-1817488800-1817496000@www.lyktan.net
SUMMARY:Torsdagsträffar
DESCRIPTION:
URL:https://www.lyktan.net/event/torsdagstraffar/2027-08-05/
CATEGORIES:Samtal
END:VEVENT
BEGIN:VEVENT
DTSTART;TZID=Europe/Stockholm:20270812T180000
DTEND;TZID=Europe/Stockholm:20270812T200000
DTSTAMP:20260426T032923
CREATED:20250902T000603Z
LAST-MODIFIED:20250902T000603Z
UID:10005571-1818093600-1818100800@www.lyktan.net
SUMMARY:Torsdagsträffar
DESCRIPTION:
URL:https://www.lyktan.net/event/torsdagstraffar/2027-08-12/
CATEGORIES:Samtal
END:VEVENT
BEGIN:VEVENT
DTSTART;TZID=Europe/Stockholm:20270819T180000
DTEND;TZID=Europe/Stockholm:20270819T200000
DTSTAMP:20260426T032923
CREATED:20250902T000603Z
LAST-MODIFIED:20250902T000603Z
UID:10005572-1818698400-1818705600@www.lyktan.net
SUMMARY:Torsdagsträffar
DESCRIPTION:
URL:https://www.lyktan.net/event/torsdagstraffar/2027-08-19/
CATEGORIES:Samtal
END:VEVENT
BEGIN:VEVENT
DTSTART;TZID=Europe/Stockholm:20270826T180000
DTEND;TZID=Europe/Stockholm:20270826T200000
DTSTAMP:20260426T032923
CREATED:20250902T000603Z
LAST-MODIFIED:20250902T000603Z
UID:10005573-1819303200-1819310400@www.lyktan.net
SUMMARY:Torsdagsträffar
DESCRIPTION:
URL:https://www.lyktan.net/event/torsdagstraffar/2027-08-26/
CATEGORIES:Samtal
END:VEVENT
BEGIN:VEVENT
DTSTART;TZID=Europe/Stockholm:20270902T180000
DTEND;TZID=Europe/Stockholm:20270902T200000
DTSTAMP:20260426T032923
CREATED:20250902T000603Z
LAST-MODIFIED:20250902T000603Z
UID:10005574-1819908000-1819915200@www.lyktan.net
SUMMARY:Torsdagsträffar
DESCRIPTION:
URL:https://www.lyktan.net/event/torsdagstraffar/2027-09-02/
CATEGORIES:Samtal
END:VEVENT
BEGIN:VEVENT
DTSTART;TZID=Europe/Stockholm:20270909T180000
DTEND;TZID=Europe/Stockholm:20270909T200000
DTSTAMP:20260426T032923
CREATED:20250902T000603Z
LAST-MODIFIED:20250902T000603Z
UID:10005575-1820512800-1820520000@www.lyktan.net
SUMMARY:Torsdagsträffar
DESCRIPTION:
URL:https://www.lyktan.net/event/torsdagstraffar/2027-09-09/
CATEGORIES:Samtal
END:VEVENT
BEGIN:VEVENT
DTSTART;TZID=Europe/Stockholm:20270916T180000
DTEND;TZID=Europe/Stockholm:20270916T200000
DTSTAMP:20260426T032923
CREATED:20250902T000603Z
LAST-MODIFIED:20250902T000603Z
UID:10005576-1821117600-1821124800@www.lyktan.net
SUMMARY:Torsdagsträffar
DESCRIPTION:
URL:https://www.lyktan.net/event/torsdagstraffar/2027-09-16/
CATEGORIES:Samtal
END:VEVENT
BEGIN:VEVENT
DTSTART;TZID=Europe/Stockholm:20270923T180000
DTEND;TZID=Europe/Stockholm:20270923T200000
DTSTAMP:20260426T032923
CREATED:20250902T000603Z
LAST-MODIFIED:20250902T000603Z
UID:10005577-1821722400-1821729600@www.lyktan.net
SUMMARY:Torsdagsträffar
DESCRIPTION:
URL:https://www.lyktan.net/event/torsdagstraffar/2027-09-23/
CATEGORIES:Samtal
END:VEVENT
BEGIN:VEVENT
DTSTART;TZID=Europe/Stockholm:20270930T180000
DTEND;TZID=Europe/Stockholm:20270930T200000
DTSTAMP:20260426T032923
CREATED:20250902T000603Z
LAST-MODIFIED:20250902T000603Z
UID:10005578-1822327200-1822334400@www.lyktan.net
SUMMARY:Torsdagsträffar
DESCRIPTION:
URL:https://www.lyktan.net/event/torsdagstraffar/2027-09-30/
CATEGORIES:Samtal
END:VEVENT
BEGIN:VEVENT
DTSTART;TZID=Europe/Stockholm:20271007T180000
DTEND;TZID=Europe/Stockholm:20271007T200000
DTSTAMP:20260426T032923
CREATED:20250902T000603Z
LAST-MODIFIED:20250902T000603Z
UID:10005579-1822932000-1822939200@www.lyktan.net
SUMMARY:Torsdagsträffar
DESCRIPTION:
URL:https://www.lyktan.net/event/torsdagstraffar/2027-10-07/
CATEGORIES:Samtal
END:VEVENT
BEGIN:VEVENT
DTSTART;TZID=Europe/Stockholm:20271014T180000
DTEND;TZID=Europe/Stockholm:20271014T200000
DTSTAMP:20260426T032923
CREATED:20250902T000603Z
LAST-MODIFIED:20250902T000603Z
UID:10005580-1823536800-1823544000@www.lyktan.net
SUMMARY:Torsdagsträffar
DESCRIPTION:
URL:https://www.lyktan.net/event/torsdagstraffar/2027-10-14/
CATEGORIES:Samtal
END:VEVENT
BEGIN:VEVENT
DTSTART;TZID=Europe/Stockholm:20271021T180000
DTEND;TZID=Europe/Stockholm:20271021T200000
DTSTAMP:20260426T032923
CREATED:20250902T000603Z
LAST-MODIFIED:20250902T000603Z
UID:10005581-1824141600-1824148800@www.lyktan.net
SUMMARY:Torsdagsträffar
DESCRIPTION:
URL:https://www.lyktan.net/event/torsdagstraffar/2027-10-21/
CATEGORIES:Samtal
END:VEVENT
BEGIN:VEVENT
DTSTART;TZID=Europe/Stockholm:20271028T180000
DTEND;TZID=Europe/Stockholm:20271028T200000
DTSTAMP:20260426T032923
CREATED:20250902T000603Z
LAST-MODIFIED:20250902T000603Z
UID:10005582-1824746400-1824753600@www.lyktan.net
SUMMARY:Torsdagsträffar
DESCRIPTION:
URL:https://www.lyktan.net/event/torsdagstraffar/2027-10-28/
CATEGORIES:Samtal
END:VEVENT
BEGIN:VEVENT
DTSTART;TZID=Europe/Stockholm:20271104T180000
DTEND;TZID=Europe/Stockholm:20271104T200000
DTSTAMP:20260426T032923
CREATED:20250902T000603Z
LAST-MODIFIED:20250902T000603Z
UID:10005583-1825351200-1825358400@www.lyktan.net
SUMMARY:Torsdagsträffar
DESCRIPTION:
URL:https://www.lyktan.net/event/torsdagstraffar/2027-11-04/
CATEGORIES:Samtal
END:VEVENT
BEGIN:VEVENT
DTSTART;TZID=Europe/Stockholm:20271111T180000
DTEND;TZID=Europe/Stockholm:20271111T200000
DTSTAMP:20260426T032923
CREATED:20250902T000603Z
LAST-MODIFIED:20250902T000603Z
UID:10005584-1825956000-1825963200@www.lyktan.net
SUMMARY:Torsdagsträffar
DESCRIPTION:
URL:https://www.lyktan.net/event/torsdagstraffar/2027-11-11/
CATEGORIES:Samtal
END:VEVENT
BEGIN:VEVENT
DTSTART;TZID=Europe/Stockholm:20271118T180000
DTEND;TZID=Europe/Stockholm:20271118T200000
DTSTAMP:20260426T032923
CREATED:20250902T000603Z
LAST-MODIFIED:20250902T000603Z
UID:10005585-1826560800-1826568000@www.lyktan.net
SUMMARY:Torsdagsträffar
DESCRIPTION:
URL:https://www.lyktan.net/event/torsdagstraffar/2027-11-18/
CATEGORIES:Samtal
END:VEVENT
BEGIN:VEVENT
DTSTART;TZID=Europe/Stockholm:20271125T180000
DTEND;TZID=Europe/Stockholm:20271125T200000
DTSTAMP:20260426T032923
CREATED:20250902T000603Z
LAST-MODIFIED:20250902T000603Z
UID:10005586-1827165600-1827172800@www.lyktan.net
SUMMARY:Torsdagsträffar
DESCRIPTION:
URL:https://www.lyktan.net/event/torsdagstraffar/2027-11-25/
CATEGORIES:Samtal
END:VEVENT
BEGIN:VEVENT
DTSTART;TZID=Europe/Stockholm:20271202T180000
DTEND;TZID=Europe/Stockholm:20271202T200000
DTSTAMP:20260426T032923
CREATED:20250902T000603Z
LAST-MODIFIED:20250902T000603Z
UID:10005587-1827770400-1827777600@www.lyktan.net
SUMMARY:Torsdagsträffar
DESCRIPTION:
URL:https://www.lyktan.net/event/torsdagstraffar/2027-12-02/
CATEGORIES:Samtal
END:VEVENT
BEGIN:VEVENT
DTSTART;TZID=Europe/Stockholm:20271209T180000
DTEND;TZID=Europe/Stockholm:20271209T200000
DTSTAMP:20260426T032923
CREATED:20250902T000603Z
LAST-MODIFIED:20250902T000603Z
UID:10005588-1828375200-1828382400@www.lyktan.net
SUMMARY:Torsdagsträffar
DESCRIPTION:
URL:https://www.lyktan.net/event/torsdagstraffar/2027-12-09/
CATEGORIES:Samtal
END:VEVENT
END:VCALENDAR