BEGIN:VCALENDAR
VERSION:2.0
PRODID:-//Kulturföreningen Lyktan - ECPv6.15.17.1//NONSGML v1.0//EN
CALSCALE:GREGORIAN
METHOD:PUBLISH
X-WR-CALNAME:Kulturföreningen Lyktan
X-ORIGINAL-URL:https://www.lyktan.net
X-WR-CALDESC:Händelser för Kulturföreningen Lyktan
REFRESH-INTERVAL;VALUE=DURATION:PT1H
X-Robots-Tag:noindex
X-PUBLISHED-TTL:PT1H
BEGIN:VTIMEZONE
TZID:Europe/Stockholm
BEGIN:DAYLIGHT
TZOFFSETFROM:+0100
TZOFFSETTO:+0200
TZNAME:CEST
DTSTART:20250330T010000
END:DAYLIGHT
BEGIN:STANDARD
TZOFFSETFROM:+0200
TZOFFSETTO:+0100
TZNAME:CET
DTSTART:20251026T010000
END:STANDARD
BEGIN:DAYLIGHT
TZOFFSETFROM:+0100
TZOFFSETTO:+0200
TZNAME:CEST
DTSTART:20260329T010000
END:DAYLIGHT
BEGIN:STANDARD
TZOFFSETFROM:+0200
TZOFFSETTO:+0100
TZNAME:CET
DTSTART:20261025T010000
END:STANDARD
BEGIN:DAYLIGHT
TZOFFSETFROM:+0100
TZOFFSETTO:+0200
TZNAME:CEST
DTSTART:20270328T010000
END:DAYLIGHT
BEGIN:STANDARD
TZOFFSETFROM:+0200
TZOFFSETTO:+0100
TZNAME:CET
DTSTART:20271031T010000
END:STANDARD
BEGIN:DAYLIGHT
TZOFFSETFROM:+0100
TZOFFSETTO:+0200
TZNAME:CEST
DTSTART:20280326T010000
END:DAYLIGHT
BEGIN:STANDARD
TZOFFSETFROM:+0200
TZOFFSETTO:+0100
TZNAME:CET
DTSTART:20281029T010000
END:STANDARD
END:VTIMEZONE
BEGIN:VEVENT
DTSTART;TZID=Europe/Stockholm:20261203T180000
DTEND;TZID=Europe/Stockholm:20261203T200000
DTSTAMP:20260426T015313
CREATED:20250902T000603Z
LAST-MODIFIED:20250902T000603Z
UID:10005535-1796320800-1796328000@www.lyktan.net
SUMMARY:Torsdagsträffar
DESCRIPTION:
URL:https://www.lyktan.net/event/torsdagstraffar/2026-12-03/
CATEGORIES:Samtal
END:VEVENT
BEGIN:VEVENT
DTSTART;TZID=Europe/Stockholm:20261210T180000
DTEND;TZID=Europe/Stockholm:20261210T200000
DTSTAMP:20260426T015313
CREATED:20250902T000603Z
LAST-MODIFIED:20250902T000603Z
UID:10005536-1796925600-1796932800@www.lyktan.net
SUMMARY:Torsdagsträffar
DESCRIPTION:
URL:https://www.lyktan.net/event/torsdagstraffar/2026-12-10/
CATEGORIES:Samtal
END:VEVENT
BEGIN:VEVENT
DTSTART;TZID=Europe/Stockholm:20261217T180000
DTEND;TZID=Europe/Stockholm:20261217T200000
DTSTAMP:20260426T015313
CREATED:20250902T000603Z
LAST-MODIFIED:20250902T000603Z
UID:10005537-1797530400-1797537600@www.lyktan.net
SUMMARY:Torsdagsträffar
DESCRIPTION:
URL:https://www.lyktan.net/event/torsdagstraffar/2026-12-17/
CATEGORIES:Samtal
END:VEVENT
BEGIN:VEVENT
DTSTART;TZID=Europe/Stockholm:20261224T180000
DTEND;TZID=Europe/Stockholm:20261224T200000
DTSTAMP:20260426T015313
CREATED:20250902T000603Z
LAST-MODIFIED:20250902T000603Z
UID:10005538-1798135200-1798142400@www.lyktan.net
SUMMARY:Torsdagsträffar
DESCRIPTION:
URL:https://www.lyktan.net/event/torsdagstraffar/2026-12-24/
CATEGORIES:Samtal
END:VEVENT
BEGIN:VEVENT
DTSTART;TZID=Europe/Stockholm:20261231T180000
DTEND;TZID=Europe/Stockholm:20261231T200000
DTSTAMP:20260426T015313
CREATED:20250902T000603Z
LAST-MODIFIED:20250902T000603Z
UID:10005539-1798740000-1798747200@www.lyktan.net
SUMMARY:Torsdagsträffar
DESCRIPTION:
URL:https://www.lyktan.net/event/torsdagstraffar/2026-12-31/
CATEGORIES:Samtal
END:VEVENT
BEGIN:VEVENT
DTSTART;TZID=Europe/Stockholm:20270107T180000
DTEND;TZID=Europe/Stockholm:20270107T200000
DTSTAMP:20260426T015313
CREATED:20250902T000603Z
LAST-MODIFIED:20250902T000603Z
UID:10005540-1799344800-1799352000@www.lyktan.net
SUMMARY:Torsdagsträffar
DESCRIPTION:
URL:https://www.lyktan.net/event/torsdagstraffar/2027-01-07/
CATEGORIES:Samtal
END:VEVENT
BEGIN:VEVENT
DTSTART;TZID=Europe/Stockholm:20270114T180000
DTEND;TZID=Europe/Stockholm:20270114T200000
DTSTAMP:20260426T015313
CREATED:20250902T000603Z
LAST-MODIFIED:20250902T000603Z
UID:10005541-1799949600-1799956800@www.lyktan.net
SUMMARY:Torsdagsträffar
DESCRIPTION:
URL:https://www.lyktan.net/event/torsdagstraffar/2027-01-14/
CATEGORIES:Samtal
END:VEVENT
BEGIN:VEVENT
DTSTART;TZID=Europe/Stockholm:20270121T180000
DTEND;TZID=Europe/Stockholm:20270121T200000
DTSTAMP:20260426T015313
CREATED:20250902T000603Z
LAST-MODIFIED:20250902T000603Z
UID:10005542-1800554400-1800561600@www.lyktan.net
SUMMARY:Torsdagsträffar
DESCRIPTION:
URL:https://www.lyktan.net/event/torsdagstraffar/2027-01-21/
CATEGORIES:Samtal
END:VEVENT
BEGIN:VEVENT
DTSTART;TZID=Europe/Stockholm:20270128T180000
DTEND;TZID=Europe/Stockholm:20270128T200000
DTSTAMP:20260426T015313
CREATED:20250902T000603Z
LAST-MODIFIED:20250902T000603Z
UID:10005543-1801159200-1801166400@www.lyktan.net
SUMMARY:Torsdagsträffar
DESCRIPTION:
URL:https://www.lyktan.net/event/torsdagstraffar/2027-01-28/
CATEGORIES:Samtal
END:VEVENT
BEGIN:VEVENT
DTSTART;TZID=Europe/Stockholm:20270204T180000
DTEND;TZID=Europe/Stockholm:20270204T200000
DTSTAMP:20260426T015313
CREATED:20250902T000603Z
LAST-MODIFIED:20250902T000603Z
UID:10005544-1801764000-1801771200@www.lyktan.net
SUMMARY:Torsdagsträffar
DESCRIPTION:
URL:https://www.lyktan.net/event/torsdagstraffar/2027-02-04/
CATEGORIES:Samtal
END:VEVENT
BEGIN:VEVENT
DTSTART;TZID=Europe/Stockholm:20270211T180000
DTEND;TZID=Europe/Stockholm:20270211T200000
DTSTAMP:20260426T015313
CREATED:20250902T000603Z
LAST-MODIFIED:20250902T000603Z
UID:10005545-1802368800-1802376000@www.lyktan.net
SUMMARY:Torsdagsträffar
DESCRIPTION:
URL:https://www.lyktan.net/event/torsdagstraffar/2027-02-11/
CATEGORIES:Samtal
END:VEVENT
BEGIN:VEVENT
DTSTART;TZID=Europe/Stockholm:20270218T180000
DTEND;TZID=Europe/Stockholm:20270218T200000
DTSTAMP:20260426T015313
CREATED:20250902T000603Z
LAST-MODIFIED:20250902T000603Z
UID:10005546-1802973600-1802980800@www.lyktan.net
SUMMARY:Torsdagsträffar
DESCRIPTION:
URL:https://www.lyktan.net/event/torsdagstraffar/2027-02-18/
CATEGORIES:Samtal
END:VEVENT
BEGIN:VEVENT
DTSTART;TZID=Europe/Stockholm:20270225T180000
DTEND;TZID=Europe/Stockholm:20270225T200000
DTSTAMP:20260426T015313
CREATED:20250902T000603Z
LAST-MODIFIED:20250902T000603Z
UID:10005547-1803578400-1803585600@www.lyktan.net
SUMMARY:Torsdagsträffar
DESCRIPTION:
URL:https://www.lyktan.net/event/torsdagstraffar/2027-02-25/
CATEGORIES:Samtal
END:VEVENT
BEGIN:VEVENT
DTSTART;TZID=Europe/Stockholm:20270304T180000
DTEND;TZID=Europe/Stockholm:20270304T200000
DTSTAMP:20260426T015313
CREATED:20250902T000603Z
LAST-MODIFIED:20250902T000603Z
UID:10005548-1804183200-1804190400@www.lyktan.net
SUMMARY:Torsdagsträffar
DESCRIPTION:
URL:https://www.lyktan.net/event/torsdagstraffar/2027-03-04/
CATEGORIES:Samtal
END:VEVENT
BEGIN:VEVENT
DTSTART;TZID=Europe/Stockholm:20270311T180000
DTEND;TZID=Europe/Stockholm:20270311T200000
DTSTAMP:20260426T015313
CREATED:20250902T000603Z
LAST-MODIFIED:20250902T000603Z
UID:10005549-1804788000-1804795200@www.lyktan.net
SUMMARY:Torsdagsträffar
DESCRIPTION:
URL:https://www.lyktan.net/event/torsdagstraffar/2027-03-11/
CATEGORIES:Samtal
END:VEVENT
BEGIN:VEVENT
DTSTART;TZID=Europe/Stockholm:20270318T180000
DTEND;TZID=Europe/Stockholm:20270318T200000
DTSTAMP:20260426T015313
CREATED:20250902T000603Z
LAST-MODIFIED:20250902T000603Z
UID:10005550-1805392800-1805400000@www.lyktan.net
SUMMARY:Torsdagsträffar
DESCRIPTION:
URL:https://www.lyktan.net/event/torsdagstraffar/2027-03-18/
CATEGORIES:Samtal
END:VEVENT
BEGIN:VEVENT
DTSTART;TZID=Europe/Stockholm:20270325T180000
DTEND;TZID=Europe/Stockholm:20270325T200000
DTSTAMP:20260426T015313
CREATED:20250902T000603Z
LAST-MODIFIED:20250902T000603Z
UID:10005551-1805997600-1806004800@www.lyktan.net
SUMMARY:Torsdagsträffar
DESCRIPTION:
URL:https://www.lyktan.net/event/torsdagstraffar/2027-03-25/
CATEGORIES:Samtal
END:VEVENT
BEGIN:VEVENT
DTSTART;TZID=Europe/Stockholm:20270401T180000
DTEND;TZID=Europe/Stockholm:20270401T200000
DTSTAMP:20260426T015313
CREATED:20250902T000603Z
LAST-MODIFIED:20250902T000603Z
UID:10005552-1806602400-1806609600@www.lyktan.net
SUMMARY:Torsdagsträffar
DESCRIPTION:
URL:https://www.lyktan.net/event/torsdagstraffar/2027-04-01/
CATEGORIES:Samtal
END:VEVENT
BEGIN:VEVENT
DTSTART;TZID=Europe/Stockholm:20270408T180000
DTEND;TZID=Europe/Stockholm:20270408T200000
DTSTAMP:20260426T015313
CREATED:20250902T000603Z
LAST-MODIFIED:20250902T000603Z
UID:10005553-1807207200-1807214400@www.lyktan.net
SUMMARY:Torsdagsträffar
DESCRIPTION:
URL:https://www.lyktan.net/event/torsdagstraffar/2027-04-08/
CATEGORIES:Samtal
END:VEVENT
BEGIN:VEVENT
DTSTART;TZID=Europe/Stockholm:20270415T180000
DTEND;TZID=Europe/Stockholm:20270415T200000
DTSTAMP:20260426T015313
CREATED:20250902T000603Z
LAST-MODIFIED:20250902T000603Z
UID:10005554-1807812000-1807819200@www.lyktan.net
SUMMARY:Torsdagsträffar
DESCRIPTION:
URL:https://www.lyktan.net/event/torsdagstraffar/2027-04-15/
CATEGORIES:Samtal
END:VEVENT
BEGIN:VEVENT
DTSTART;TZID=Europe/Stockholm:20270422T180000
DTEND;TZID=Europe/Stockholm:20270422T200000
DTSTAMP:20260426T015313
CREATED:20250902T000603Z
LAST-MODIFIED:20250902T000603Z
UID:10005555-1808416800-1808424000@www.lyktan.net
SUMMARY:Torsdagsträffar
DESCRIPTION:
URL:https://www.lyktan.net/event/torsdagstraffar/2027-04-22/
CATEGORIES:Samtal
END:VEVENT
BEGIN:VEVENT
DTSTART;TZID=Europe/Stockholm:20270429T180000
DTEND;TZID=Europe/Stockholm:20270429T200000
DTSTAMP:20260426T015313
CREATED:20250902T000603Z
LAST-MODIFIED:20250902T000603Z
UID:10005556-1809021600-1809028800@www.lyktan.net
SUMMARY:Torsdagsträffar
DESCRIPTION:
URL:https://www.lyktan.net/event/torsdagstraffar/2027-04-29/
CATEGORIES:Samtal
END:VEVENT
BEGIN:VEVENT
DTSTART;TZID=Europe/Stockholm:20270506T180000
DTEND;TZID=Europe/Stockholm:20270506T200000
DTSTAMP:20260426T015313
CREATED:20250902T000603Z
LAST-MODIFIED:20250902T000603Z
UID:10005557-1809626400-1809633600@www.lyktan.net
SUMMARY:Torsdagsträffar
DESCRIPTION:
URL:https://www.lyktan.net/event/torsdagstraffar/2027-05-06/
CATEGORIES:Samtal
END:VEVENT
BEGIN:VEVENT
DTSTART;TZID=Europe/Stockholm:20270513T180000
DTEND;TZID=Europe/Stockholm:20270513T200000
DTSTAMP:20260426T015313
CREATED:20250902T000603Z
LAST-MODIFIED:20250902T000603Z
UID:10005558-1810231200-1810238400@www.lyktan.net
SUMMARY:Torsdagsträffar
DESCRIPTION:
URL:https://www.lyktan.net/event/torsdagstraffar/2027-05-13/
CATEGORIES:Samtal
END:VEVENT
BEGIN:VEVENT
DTSTART;TZID=Europe/Stockholm:20270520T180000
DTEND;TZID=Europe/Stockholm:20270520T200000
DTSTAMP:20260426T015313
CREATED:20250902T000603Z
LAST-MODIFIED:20250902T000603Z
UID:10005559-1810836000-1810843200@www.lyktan.net
SUMMARY:Torsdagsträffar
DESCRIPTION:
URL:https://www.lyktan.net/event/torsdagstraffar/2027-05-20/
CATEGORIES:Samtal
END:VEVENT
BEGIN:VEVENT
DTSTART;TZID=Europe/Stockholm:20270527T180000
DTEND;TZID=Europe/Stockholm:20270527T200000
DTSTAMP:20260426T015313
CREATED:20250902T000603Z
LAST-MODIFIED:20250902T000603Z
UID:10005560-1811440800-1811448000@www.lyktan.net
SUMMARY:Torsdagsträffar
DESCRIPTION:
URL:https://www.lyktan.net/event/torsdagstraffar/2027-05-27/
CATEGORIES:Samtal
END:VEVENT
BEGIN:VEVENT
DTSTART;TZID=Europe/Stockholm:20270603T180000
DTEND;TZID=Europe/Stockholm:20270603T200000
DTSTAMP:20260426T015313
CREATED:20250902T000603Z
LAST-MODIFIED:20250902T000603Z
UID:10005561-1812045600-1812052800@www.lyktan.net
SUMMARY:Torsdagsträffar
DESCRIPTION:
URL:https://www.lyktan.net/event/torsdagstraffar/2027-06-03/
CATEGORIES:Samtal
END:VEVENT
BEGIN:VEVENT
DTSTART;TZID=Europe/Stockholm:20270610T180000
DTEND;TZID=Europe/Stockholm:20270610T200000
DTSTAMP:20260426T015313
CREATED:20250902T000603Z
LAST-MODIFIED:20250902T000603Z
UID:10005562-1812650400-1812657600@www.lyktan.net
SUMMARY:Torsdagsträffar
DESCRIPTION:
URL:https://www.lyktan.net/event/torsdagstraffar/2027-06-10/
CATEGORIES:Samtal
END:VEVENT
BEGIN:VEVENT
DTSTART;TZID=Europe/Stockholm:20270617T180000
DTEND;TZID=Europe/Stockholm:20270617T200000
DTSTAMP:20260426T015313
CREATED:20250902T000603Z
LAST-MODIFIED:20250902T000603Z
UID:10005563-1813255200-1813262400@www.lyktan.net
SUMMARY:Torsdagsträffar
DESCRIPTION:
URL:https://www.lyktan.net/event/torsdagstraffar/2027-06-17/
CATEGORIES:Samtal
END:VEVENT
BEGIN:VEVENT
DTSTART;TZID=Europe/Stockholm:20270624T180000
DTEND;TZID=Europe/Stockholm:20270624T200000
DTSTAMP:20260426T015313
CREATED:20250902T000603Z
LAST-MODIFIED:20250902T000603Z
UID:10005564-1813860000-1813867200@www.lyktan.net
SUMMARY:Torsdagsträffar
DESCRIPTION:
URL:https://www.lyktan.net/event/torsdagstraffar/2027-06-24/
CATEGORIES:Samtal
END:VEVENT
END:VCALENDAR