BEGIN:VCALENDAR
VERSION:2.0
PRODID:-//Kulturföreningen Lyktan - ECPv6.15.17.1//NONSGML v1.0//EN
CALSCALE:GREGORIAN
METHOD:PUBLISH
X-WR-CALNAME:Kulturföreningen Lyktan
X-ORIGINAL-URL:https://www.lyktan.net
X-WR-CALDESC:Händelser för Kulturföreningen Lyktan
REFRESH-INTERVAL;VALUE=DURATION:PT1H
X-Robots-Tag:noindex
X-PUBLISHED-TTL:PT1H
BEGIN:VTIMEZONE
TZID:Europe/Stockholm
BEGIN:DAYLIGHT
TZOFFSETFROM:+0100
TZOFFSETTO:+0200
TZNAME:CEST
DTSTART:20250330T010000
END:DAYLIGHT
BEGIN:STANDARD
TZOFFSETFROM:+0200
TZOFFSETTO:+0100
TZNAME:CET
DTSTART:20251026T010000
END:STANDARD
BEGIN:DAYLIGHT
TZOFFSETFROM:+0100
TZOFFSETTO:+0200
TZNAME:CEST
DTSTART:20260329T010000
END:DAYLIGHT
BEGIN:STANDARD
TZOFFSETFROM:+0200
TZOFFSETTO:+0100
TZNAME:CET
DTSTART:20261025T010000
END:STANDARD
BEGIN:DAYLIGHT
TZOFFSETFROM:+0100
TZOFFSETTO:+0200
TZNAME:CEST
DTSTART:20270328T010000
END:DAYLIGHT
BEGIN:STANDARD
TZOFFSETFROM:+0200
TZOFFSETTO:+0100
TZNAME:CET
DTSTART:20271031T010000
END:STANDARD
END:VTIMEZONE
BEGIN:VEVENT
DTSTART;TZID=Europe/Stockholm:20260416T180000
DTEND;TZID=Europe/Stockholm:20260416T200000
DTSTAMP:20260426T051332
CREATED:20250902T000603Z
LAST-MODIFIED:20250902T000603Z
UID:10005502-1776362400-1776369600@www.lyktan.net
SUMMARY:Torsdagsträffar
DESCRIPTION:
URL:https://www.lyktan.net/event/torsdagstraffar/2026-04-16/
CATEGORIES:Samtal
END:VEVENT
BEGIN:VEVENT
DTSTART;TZID=Europe/Stockholm:20260423T180000
DTEND;TZID=Europe/Stockholm:20260423T200000
DTSTAMP:20260426T051332
CREATED:20250902T000603Z
LAST-MODIFIED:20250902T000603Z
UID:10005503-1776967200-1776974400@www.lyktan.net
SUMMARY:Torsdagsträffar
DESCRIPTION:
URL:https://www.lyktan.net/event/torsdagstraffar/2026-04-23/
CATEGORIES:Samtal
END:VEVENT
BEGIN:VEVENT
DTSTART;TZID=Europe/Stockholm:20260430T180000
DTEND;TZID=Europe/Stockholm:20260430T200000
DTSTAMP:20260426T051332
CREATED:20250902T000603Z
LAST-MODIFIED:20250902T000603Z
UID:10005504-1777572000-1777579200@www.lyktan.net
SUMMARY:Torsdagsträffar
DESCRIPTION:
URL:https://www.lyktan.net/event/torsdagstraffar/2026-04-30/
CATEGORIES:Samtal
END:VEVENT
BEGIN:VEVENT
DTSTART;TZID=Europe/Stockholm:20260507T180000
DTEND;TZID=Europe/Stockholm:20260507T200000
DTSTAMP:20260426T051332
CREATED:20250902T000603Z
LAST-MODIFIED:20250902T000603Z
UID:10005505-1778176800-1778184000@www.lyktan.net
SUMMARY:Torsdagsträffar
DESCRIPTION:
URL:https://www.lyktan.net/event/torsdagstraffar/2026-05-07/
CATEGORIES:Samtal
END:VEVENT
BEGIN:VEVENT
DTSTART;TZID=Europe/Stockholm:20260514T180000
DTEND;TZID=Europe/Stockholm:20260514T200000
DTSTAMP:20260426T051332
CREATED:20250902T000603Z
LAST-MODIFIED:20250902T000603Z
UID:10005506-1778781600-1778788800@www.lyktan.net
SUMMARY:Torsdagsträffar
DESCRIPTION:
URL:https://www.lyktan.net/event/torsdagstraffar/2026-05-14/
CATEGORIES:Samtal
END:VEVENT
BEGIN:VEVENT
DTSTART;TZID=Europe/Stockholm:20260521T180000
DTEND;TZID=Europe/Stockholm:20260521T200000
DTSTAMP:20260426T051332
CREATED:20250902T000603Z
LAST-MODIFIED:20250902T000603Z
UID:10005507-1779386400-1779393600@www.lyktan.net
SUMMARY:Torsdagsträffar
DESCRIPTION:
URL:https://www.lyktan.net/event/torsdagstraffar/2026-05-21/
CATEGORIES:Samtal
END:VEVENT
BEGIN:VEVENT
DTSTART;TZID=Europe/Stockholm:20260528T180000
DTEND;TZID=Europe/Stockholm:20260528T200000
DTSTAMP:20260426T051332
CREATED:20250902T000603Z
LAST-MODIFIED:20250902T000603Z
UID:10005508-1779991200-1779998400@www.lyktan.net
SUMMARY:Torsdagsträffar
DESCRIPTION:
URL:https://www.lyktan.net/event/torsdagstraffar/2026-05-28/
CATEGORIES:Samtal
END:VEVENT
BEGIN:VEVENT
DTSTART;TZID=Europe/Stockholm:20260604T180000
DTEND;TZID=Europe/Stockholm:20260604T200000
DTSTAMP:20260426T051332
CREATED:20250902T000603Z
LAST-MODIFIED:20250902T000603Z
UID:10005509-1780596000-1780603200@www.lyktan.net
SUMMARY:Torsdagsträffar
DESCRIPTION:
URL:https://www.lyktan.net/event/torsdagstraffar/2026-06-04/
CATEGORIES:Samtal
END:VEVENT
BEGIN:VEVENT
DTSTART;TZID=Europe/Stockholm:20260611T180000
DTEND;TZID=Europe/Stockholm:20260611T200000
DTSTAMP:20260426T051332
CREATED:20250902T000603Z
LAST-MODIFIED:20250902T000603Z
UID:10005510-1781200800-1781208000@www.lyktan.net
SUMMARY:Torsdagsträffar
DESCRIPTION:
URL:https://www.lyktan.net/event/torsdagstraffar/2026-06-11/
CATEGORIES:Samtal
END:VEVENT
BEGIN:VEVENT
DTSTART;TZID=Europe/Stockholm:20260618T180000
DTEND;TZID=Europe/Stockholm:20260618T200000
DTSTAMP:20260426T051332
CREATED:20250902T000603Z
LAST-MODIFIED:20250902T000603Z
UID:10005511-1781805600-1781812800@www.lyktan.net
SUMMARY:Torsdagsträffar
DESCRIPTION:
URL:https://www.lyktan.net/event/torsdagstraffar/2026-06-18/
CATEGORIES:Samtal
END:VEVENT
BEGIN:VEVENT
DTSTART;TZID=Europe/Stockholm:20260813T180000
DTEND;TZID=Europe/Stockholm:20260813T200000
DTSTAMP:20260426T051332
CREATED:20250902T000603Z
LAST-MODIFIED:20250902T000603Z
UID:10005519-1786644000-1786651200@www.lyktan.net
SUMMARY:Torsdagsträffar
DESCRIPTION:
URL:https://www.lyktan.net/event/torsdagstraffar/2026-08-13/
CATEGORIES:Samtal
END:VEVENT
BEGIN:VEVENT
DTSTART;TZID=Europe/Stockholm:20260820T180000
DTEND;TZID=Europe/Stockholm:20260820T200000
DTSTAMP:20260426T051332
CREATED:20250902T000603Z
LAST-MODIFIED:20250902T000603Z
UID:10005520-1787248800-1787256000@www.lyktan.net
SUMMARY:Torsdagsträffar
DESCRIPTION:
URL:https://www.lyktan.net/event/torsdagstraffar/2026-08-20/
CATEGORIES:Samtal
END:VEVENT
BEGIN:VEVENT
DTSTART;TZID=Europe/Stockholm:20260827T180000
DTEND;TZID=Europe/Stockholm:20260827T200000
DTSTAMP:20260426T051332
CREATED:20250902T000603Z
LAST-MODIFIED:20250902T000603Z
UID:10005521-1787853600-1787860800@www.lyktan.net
SUMMARY:Torsdagsträffar
DESCRIPTION:
URL:https://www.lyktan.net/event/torsdagstraffar/2026-08-27/
CATEGORIES:Samtal
END:VEVENT
BEGIN:VEVENT
DTSTART;TZID=Europe/Stockholm:20260903T180000
DTEND;TZID=Europe/Stockholm:20260903T200000
DTSTAMP:20260426T051332
CREATED:20250902T000603Z
LAST-MODIFIED:20250902T000603Z
UID:10005522-1788458400-1788465600@www.lyktan.net
SUMMARY:Torsdagsträffar
DESCRIPTION:
URL:https://www.lyktan.net/event/torsdagstraffar/2026-09-03/
CATEGORIES:Samtal
END:VEVENT
BEGIN:VEVENT
DTSTART;TZID=Europe/Stockholm:20260910T180000
DTEND;TZID=Europe/Stockholm:20260910T200000
DTSTAMP:20260426T051332
CREATED:20250902T000603Z
LAST-MODIFIED:20250902T000603Z
UID:10005523-1789063200-1789070400@www.lyktan.net
SUMMARY:Torsdagsträffar
DESCRIPTION:
URL:https://www.lyktan.net/event/torsdagstraffar/2026-09-10/
CATEGORIES:Samtal
END:VEVENT
BEGIN:VEVENT
DTSTART;TZID=Europe/Stockholm:20260917T180000
DTEND;TZID=Europe/Stockholm:20260917T200000
DTSTAMP:20260426T051332
CREATED:20250902T000603Z
LAST-MODIFIED:20250902T000603Z
UID:10005524-1789668000-1789675200@www.lyktan.net
SUMMARY:Torsdagsträffar
DESCRIPTION:
URL:https://www.lyktan.net/event/torsdagstraffar/2026-09-17/
CATEGORIES:Samtal
END:VEVENT
BEGIN:VEVENT
DTSTART;TZID=Europe/Stockholm:20260924T180000
DTEND;TZID=Europe/Stockholm:20260924T200000
DTSTAMP:20260426T051332
CREATED:20250902T000603Z
LAST-MODIFIED:20250902T000603Z
UID:10005525-1790272800-1790280000@www.lyktan.net
SUMMARY:Torsdagsträffar
DESCRIPTION:
URL:https://www.lyktan.net/event/torsdagstraffar/2026-09-24/
CATEGORIES:Samtal
END:VEVENT
BEGIN:VEVENT
DTSTART;TZID=Europe/Stockholm:20261001T180000
DTEND;TZID=Europe/Stockholm:20261001T200000
DTSTAMP:20260426T051332
CREATED:20250902T000603Z
LAST-MODIFIED:20250902T000603Z
UID:10005526-1790877600-1790884800@www.lyktan.net
SUMMARY:Torsdagsträffar
DESCRIPTION:
URL:https://www.lyktan.net/event/torsdagstraffar/2026-10-01/
CATEGORIES:Samtal
END:VEVENT
BEGIN:VEVENT
DTSTART;TZID=Europe/Stockholm:20261008T180000
DTEND;TZID=Europe/Stockholm:20261008T200000
DTSTAMP:20260426T051332
CREATED:20250902T000603Z
LAST-MODIFIED:20250902T000603Z
UID:10005527-1791482400-1791489600@www.lyktan.net
SUMMARY:Torsdagsträffar
DESCRIPTION:
URL:https://www.lyktan.net/event/torsdagstraffar/2026-10-08/
CATEGORIES:Samtal
END:VEVENT
BEGIN:VEVENT
DTSTART;TZID=Europe/Stockholm:20261015T180000
DTEND;TZID=Europe/Stockholm:20261015T200000
DTSTAMP:20260426T051332
CREATED:20250902T000603Z
LAST-MODIFIED:20250902T000603Z
UID:10005528-1792087200-1792094400@www.lyktan.net
SUMMARY:Torsdagsträffar
DESCRIPTION:
URL:https://www.lyktan.net/event/torsdagstraffar/2026-10-15/
CATEGORIES:Samtal
END:VEVENT
BEGIN:VEVENT
DTSTART;TZID=Europe/Stockholm:20261022T180000
DTEND;TZID=Europe/Stockholm:20261022T200000
DTSTAMP:20260426T051332
CREATED:20250902T000603Z
LAST-MODIFIED:20250902T000603Z
UID:10005529-1792692000-1792699200@www.lyktan.net
SUMMARY:Torsdagsträffar
DESCRIPTION:
URL:https://www.lyktan.net/event/torsdagstraffar/2026-10-22/
CATEGORIES:Samtal
END:VEVENT
BEGIN:VEVENT
DTSTART;TZID=Europe/Stockholm:20261029T180000
DTEND;TZID=Europe/Stockholm:20261029T200000
DTSTAMP:20260426T051332
CREATED:20250902T000603Z
LAST-MODIFIED:20250902T000603Z
UID:10005530-1793296800-1793304000@www.lyktan.net
SUMMARY:Torsdagsträffar
DESCRIPTION:
URL:https://www.lyktan.net/event/torsdagstraffar/2026-10-29/
CATEGORIES:Samtal
END:VEVENT
BEGIN:VEVENT
DTSTART;TZID=Europe/Stockholm:20261105T180000
DTEND;TZID=Europe/Stockholm:20261105T200000
DTSTAMP:20260426T051332
CREATED:20250902T000603Z
LAST-MODIFIED:20250902T000603Z
UID:10005531-1793901600-1793908800@www.lyktan.net
SUMMARY:Torsdagsträffar
DESCRIPTION:
URL:https://www.lyktan.net/event/torsdagstraffar/2026-11-05/
CATEGORIES:Samtal
END:VEVENT
BEGIN:VEVENT
DTSTART;TZID=Europe/Stockholm:20261112T180000
DTEND;TZID=Europe/Stockholm:20261112T200000
DTSTAMP:20260426T051332
CREATED:20250902T000603Z
LAST-MODIFIED:20250902T000603Z
UID:10005532-1794506400-1794513600@www.lyktan.net
SUMMARY:Torsdagsträffar
DESCRIPTION:
URL:https://www.lyktan.net/event/torsdagstraffar/2026-11-12/
CATEGORIES:Samtal
END:VEVENT
BEGIN:VEVENT
DTSTART;TZID=Europe/Stockholm:20261119T180000
DTEND;TZID=Europe/Stockholm:20261119T200000
DTSTAMP:20260426T051332
CREATED:20250902T000603Z
LAST-MODIFIED:20250902T000603Z
UID:10005533-1795111200-1795118400@www.lyktan.net
SUMMARY:Torsdagsträffar
DESCRIPTION:
URL:https://www.lyktan.net/event/torsdagstraffar/2026-11-19/
CATEGORIES:Samtal
END:VEVENT
BEGIN:VEVENT
DTSTART;TZID=Europe/Stockholm:20261126T180000
DTEND;TZID=Europe/Stockholm:20261126T200000
DTSTAMP:20260426T051332
CREATED:20250902T000603Z
LAST-MODIFIED:20250902T000603Z
UID:10005534-1795716000-1795723200@www.lyktan.net
SUMMARY:Torsdagsträffar
DESCRIPTION:
URL:https://www.lyktan.net/event/torsdagstraffar/2026-11-26/
CATEGORIES:Samtal
END:VEVENT
BEGIN:VEVENT
DTSTART;TZID=Europe/Stockholm:20261203T180000
DTEND;TZID=Europe/Stockholm:20261203T200000
DTSTAMP:20260426T051332
CREATED:20250902T000603Z
LAST-MODIFIED:20250902T000603Z
UID:10005535-1796320800-1796328000@www.lyktan.net
SUMMARY:Torsdagsträffar
DESCRIPTION:
URL:https://www.lyktan.net/event/torsdagstraffar/2026-12-03/
CATEGORIES:Samtal
END:VEVENT
BEGIN:VEVENT
DTSTART;TZID=Europe/Stockholm:20261210T180000
DTEND;TZID=Europe/Stockholm:20261210T200000
DTSTAMP:20260426T051332
CREATED:20250902T000603Z
LAST-MODIFIED:20250902T000603Z
UID:10005536-1796925600-1796932800@www.lyktan.net
SUMMARY:Torsdagsträffar
DESCRIPTION:
URL:https://www.lyktan.net/event/torsdagstraffar/2026-12-10/
CATEGORIES:Samtal
END:VEVENT
BEGIN:VEVENT
DTSTART;TZID=Europe/Stockholm:20261217T180000
DTEND;TZID=Europe/Stockholm:20261217T200000
DTSTAMP:20260426T051332
CREATED:20250902T000603Z
LAST-MODIFIED:20250902T000603Z
UID:10005537-1797530400-1797537600@www.lyktan.net
SUMMARY:Torsdagsträffar
DESCRIPTION:
URL:https://www.lyktan.net/event/torsdagstraffar/2026-12-17/
CATEGORIES:Samtal
END:VEVENT
BEGIN:VEVENT
DTSTART;TZID=Europe/Stockholm:20261224T180000
DTEND;TZID=Europe/Stockholm:20261224T200000
DTSTAMP:20260426T051332
CREATED:20250902T000603Z
LAST-MODIFIED:20250902T000603Z
UID:10005538-1798135200-1798142400@www.lyktan.net
SUMMARY:Torsdagsträffar
DESCRIPTION:
URL:https://www.lyktan.net/event/torsdagstraffar/2026-12-24/
CATEGORIES:Samtal
END:VEVENT
END:VCALENDAR