BEGIN:VCALENDAR
VERSION:2.0
PRODID:-//Kulturföreningen Lyktan - ECPv6.15.17.1//NONSGML v1.0//EN
CALSCALE:GREGORIAN
METHOD:PUBLISH
X-ORIGINAL-URL:https://www.lyktan.net
X-WR-CALDESC:Händelser för Kulturföreningen Lyktan
REFRESH-INTERVAL;VALUE=DURATION:PT1H
X-Robots-Tag:noindex
X-PUBLISHED-TTL:PT1H
BEGIN:VTIMEZONE
TZID:Europe/Stockholm
BEGIN:DAYLIGHT
TZOFFSETFROM:+0100
TZOFFSETTO:+0200
TZNAME:CEST
DTSTART:20240331T010000
END:DAYLIGHT
BEGIN:STANDARD
TZOFFSETFROM:+0200
TZOFFSETTO:+0100
TZNAME:CET
DTSTART:20241027T010000
END:STANDARD
BEGIN:DAYLIGHT
TZOFFSETFROM:+0100
TZOFFSETTO:+0200
TZNAME:CEST
DTSTART:20250330T010000
END:DAYLIGHT
BEGIN:STANDARD
TZOFFSETFROM:+0200
TZOFFSETTO:+0100
TZNAME:CET
DTSTART:20251026T010000
END:STANDARD
BEGIN:DAYLIGHT
TZOFFSETFROM:+0100
TZOFFSETTO:+0200
TZNAME:CEST
DTSTART:20260329T010000
END:DAYLIGHT
BEGIN:STANDARD
TZOFFSETFROM:+0200
TZOFFSETTO:+0100
TZNAME:CET
DTSTART:20261025T010000
END:STANDARD
END:VTIMEZONE
BEGIN:VEVENT
DTSTART;TZID=Europe/Stockholm:20251125T120000
DTEND;TZID=Europe/Stockholm:20251125T170000
DTSTAMP:20260426T034652
CREATED:20251030T014111Z
LAST-MODIFIED:20251117T040512Z
UID:10006285-1764072000-1764090000@www.lyktan.net
SUMMARY:Prärievargen i Mexico City
DESCRIPTION:Fotoutställning om en megastad av Ulrika Hembjer
URL:https://www.lyktan.net/event/prarievargen-i-mexico-city/2025-11-25/
LOCATION:Östra Gymnasiet\, Kvartettvägen 2-6\, Trångsund\, 14263\, Sweden
CATEGORIES:Författarträff,Utställning
ATTACH;FMTTYPE=image/jpeg:https://www.lyktan.net/wp-content/uploads/2025/10/Prarievargen_Ostra2025-Affisch.jpg
GEO:59.2226737048;18.150960373
X-APPLE-STRUCTURED-LOCATION;VALUE=URI;X-ADDRESS=Östra Gymnasiet Kvartettvägen 2-6 Trångsund 14263 Sweden;X-APPLE-RADIUS=500;X-TITLE=Kvartettvägen 2-6:geo:18.150960373,59.2226737048
END:VEVENT
BEGIN:VEVENT
DTSTART;TZID=Europe/Stockholm:20251124T170000
DTEND;TZID=Europe/Stockholm:20251124T190000
DTSTAMP:20260426T034652
CREATED:20250902T000443Z
LAST-MODIFIED:20250905T174823Z
UID:10005746-1764003600-1764010800@www.lyktan.net
SUMMARY:Fotoklubben
DESCRIPTION:
URL:https://www.lyktan.net/event/fotoklubben/2025-11-24/
LOCATION:Galleri Lyktan\, Skogåstorget 7-9\, Skogås\, 142 30\, Sweden
CATEGORIES:Samtal
END:VEVENT
BEGIN:VEVENT
DTSTART;TZID=Europe/Stockholm:20251124T120000
DTEND;TZID=Europe/Stockholm:20251124T170000
DTSTAMP:20260426T034652
CREATED:20251030T014111Z
LAST-MODIFIED:20251117T040512Z
UID:10006284-1763985600-1764003600@www.lyktan.net
SUMMARY:Prärievargen i Mexico City
DESCRIPTION:Fotoutställning om en megastad av Ulrika Hembjer
URL:https://www.lyktan.net/event/prarievargen-i-mexico-city/2025-11-24/
LOCATION:Östra Gymnasiet\, Kvartettvägen 2-6\, Trångsund\, 14263\, Sweden
CATEGORIES:Författarträff,Utställning
ATTACH;FMTTYPE=image/jpeg:https://www.lyktan.net/wp-content/uploads/2025/10/Prarievargen_Ostra2025-Affisch.jpg
GEO:59.2226737048;18.150960373
X-APPLE-STRUCTURED-LOCATION;VALUE=URI;X-ADDRESS=Östra Gymnasiet Kvartettvägen 2-6 Trångsund 14263 Sweden;X-APPLE-RADIUS=500;X-TITLE=Kvartettvägen 2-6:geo:18.150960373,59.2226737048
END:VEVENT
BEGIN:VEVENT
DTSTART;TZID=Europe/Stockholm:20251121T120000
DTEND;TZID=Europe/Stockholm:20251121T170000
DTSTAMP:20260426T034652
CREATED:20251030T014111Z
LAST-MODIFIED:20251117T040512Z
UID:10006283-1763726400-1763744400@www.lyktan.net
SUMMARY:Prärievargen i Mexico City
DESCRIPTION:Fotoutställning om en megastad av Ulrika Hembjer
URL:https://www.lyktan.net/event/prarievargen-i-mexico-city/2025-11-21/
LOCATION:Östra Gymnasiet\, Kvartettvägen 2-6\, Trångsund\, 14263\, Sweden
CATEGORIES:Författarträff,Utställning
ATTACH;FMTTYPE=image/jpeg:https://www.lyktan.net/wp-content/uploads/2025/10/Prarievargen_Ostra2025-Affisch.jpg
GEO:59.2226737048;18.150960373
X-APPLE-STRUCTURED-LOCATION;VALUE=URI;X-ADDRESS=Östra Gymnasiet Kvartettvägen 2-6 Trångsund 14263 Sweden;X-APPLE-RADIUS=500;X-TITLE=Kvartettvägen 2-6:geo:18.150960373,59.2226737048
END:VEVENT
BEGIN:VEVENT
DTSTART;TZID=Europe/Stockholm:20251120T120000
DTEND;TZID=Europe/Stockholm:20251120T170000
DTSTAMP:20260426T034652
CREATED:20251030T014111Z
LAST-MODIFIED:20251117T040512Z
UID:10006282-1763640000-1763658000@www.lyktan.net
SUMMARY:Prärievargen i Mexico City
DESCRIPTION:Fotoutställning om en megastad av Ulrika Hembjer
URL:https://www.lyktan.net/event/prarievargen-i-mexico-city/2025-11-20/
LOCATION:Östra Gymnasiet\, Kvartettvägen 2-6\, Trångsund\, 14263\, Sweden
CATEGORIES:Författarträff,Utställning
ATTACH;FMTTYPE=image/jpeg:https://www.lyktan.net/wp-content/uploads/2025/10/Prarievargen_Ostra2025-Affisch.jpg
GEO:59.2226737048;18.150960373
X-APPLE-STRUCTURED-LOCATION;VALUE=URI;X-ADDRESS=Östra Gymnasiet Kvartettvägen 2-6 Trångsund 14263 Sweden;X-APPLE-RADIUS=500;X-TITLE=Kvartettvägen 2-6:geo:18.150960373,59.2226737048
END:VEVENT
BEGIN:VEVENT
DTSTART;TZID=Europe/Stockholm:20251119T120000
DTEND;TZID=Europe/Stockholm:20251119T170000
DTSTAMP:20260426T034652
CREATED:20251030T014111Z
LAST-MODIFIED:20251117T040512Z
UID:10006281-1763553600-1763571600@www.lyktan.net
SUMMARY:Prärievargen i Mexico City
DESCRIPTION:Fotoutställning om en megastad av Ulrika Hembjer
URL:https://www.lyktan.net/event/prarievargen-i-mexico-city/2025-11-19/
LOCATION:Östra Gymnasiet\, Kvartettvägen 2-6\, Trångsund\, 14263\, Sweden
CATEGORIES:Författarträff,Utställning
ATTACH;FMTTYPE=image/jpeg:https://www.lyktan.net/wp-content/uploads/2025/10/Prarievargen_Ostra2025-Affisch.jpg
GEO:59.2226737048;18.150960373
X-APPLE-STRUCTURED-LOCATION;VALUE=URI;X-ADDRESS=Östra Gymnasiet Kvartettvägen 2-6 Trångsund 14263 Sweden;X-APPLE-RADIUS=500;X-TITLE=Kvartettvägen 2-6:geo:18.150960373,59.2226737048
END:VEVENT
BEGIN:VEVENT
DTSTART;TZID=Europe/Stockholm:20251118T120000
DTEND;TZID=Europe/Stockholm:20251118T170000
DTSTAMP:20260426T034652
CREATED:20251030T014111Z
LAST-MODIFIED:20251117T040512Z
UID:10006280-1763467200-1763485200@www.lyktan.net
SUMMARY:Prärievargen i Mexico City
DESCRIPTION:Fotoutställning om en megastad av Ulrika Hembjer
URL:https://www.lyktan.net/event/prarievargen-i-mexico-city/2025-11-18/
LOCATION:Östra Gymnasiet\, Kvartettvägen 2-6\, Trångsund\, 14263\, Sweden
CATEGORIES:Författarträff,Utställning
ATTACH;FMTTYPE=image/jpeg:https://www.lyktan.net/wp-content/uploads/2025/10/Prarievargen_Ostra2025-Affisch.jpg
GEO:59.2226737048;18.150960373
X-APPLE-STRUCTURED-LOCATION;VALUE=URI;X-ADDRESS=Östra Gymnasiet Kvartettvägen 2-6 Trångsund 14263 Sweden;X-APPLE-RADIUS=500;X-TITLE=Kvartettvägen 2-6:geo:18.150960373,59.2226737048
END:VEVENT
BEGIN:VEVENT
DTSTART;TZID=Europe/Stockholm:20251117T120000
DTEND;TZID=Europe/Stockholm:20251117T170000
DTSTAMP:20260426T034652
CREATED:20251030T014111Z
LAST-MODIFIED:20251117T040512Z
UID:10006279-1763380800-1763398800@www.lyktan.net
SUMMARY:Prärievargen i Mexico City
DESCRIPTION:Fotoutställning om en megastad av Ulrika Hembjer
URL:https://www.lyktan.net/event/prarievargen-i-mexico-city/2025-11-17/
LOCATION:Östra Gymnasiet\, Kvartettvägen 2-6\, Trångsund\, 14263\, Sweden
CATEGORIES:Författarträff,Utställning
ATTACH;FMTTYPE=image/jpeg:https://www.lyktan.net/wp-content/uploads/2025/10/Prarievargen_Ostra2025-Affisch.jpg
GEO:59.2226737048;18.150960373
X-APPLE-STRUCTURED-LOCATION;VALUE=URI;X-ADDRESS=Östra Gymnasiet Kvartettvägen 2-6 Trångsund 14263 Sweden;X-APPLE-RADIUS=500;X-TITLE=Kvartettvägen 2-6:geo:18.150960373,59.2226737048
END:VEVENT
BEGIN:VEVENT
DTSTART;TZID=Europe/Stockholm:20251114T120000
DTEND;TZID=Europe/Stockholm:20251114T170000
DTSTAMP:20260426T034652
CREATED:20251030T014111Z
LAST-MODIFIED:20251117T040512Z
UID:10006278-1763121600-1763139600@www.lyktan.net
SUMMARY:Prärievargen i Mexico City
DESCRIPTION:Fotoutställning om en megastad av Ulrika Hembjer
URL:https://www.lyktan.net/event/prarievargen-i-mexico-city/2025-11-14/
LOCATION:Östra Gymnasiet\, Kvartettvägen 2-6\, Trångsund\, 14263\, Sweden
CATEGORIES:Författarträff,Utställning
ATTACH;FMTTYPE=image/jpeg:https://www.lyktan.net/wp-content/uploads/2025/10/Prarievargen_Ostra2025-Affisch.jpg
GEO:59.2226737048;18.150960373
X-APPLE-STRUCTURED-LOCATION;VALUE=URI;X-ADDRESS=Östra Gymnasiet Kvartettvägen 2-6 Trångsund 14263 Sweden;X-APPLE-RADIUS=500;X-TITLE=Kvartettvägen 2-6:geo:18.150960373,59.2226737048
END:VEVENT
BEGIN:VEVENT
DTSTART;TZID=Europe/Stockholm:20251113T120000
DTEND;TZID=Europe/Stockholm:20251113T170000
DTSTAMP:20260426T034652
CREATED:20251030T014111Z
LAST-MODIFIED:20251117T040512Z
UID:10006277-1763035200-1763053200@www.lyktan.net
SUMMARY:Prärievargen i Mexico City
DESCRIPTION:Fotoutställning om en megastad av Ulrika Hembjer
URL:https://www.lyktan.net/event/prarievargen-i-mexico-city/2025-11-13/
LOCATION:Östra Gymnasiet\, Kvartettvägen 2-6\, Trångsund\, 14263\, Sweden
CATEGORIES:Författarträff,Utställning
ATTACH;FMTTYPE=image/jpeg:https://www.lyktan.net/wp-content/uploads/2025/10/Prarievargen_Ostra2025-Affisch.jpg
GEO:59.2226737048;18.150960373
X-APPLE-STRUCTURED-LOCATION;VALUE=URI;X-ADDRESS=Östra Gymnasiet Kvartettvägen 2-6 Trångsund 14263 Sweden;X-APPLE-RADIUS=500;X-TITLE=Kvartettvägen 2-6:geo:18.150960373,59.2226737048
END:VEVENT
BEGIN:VEVENT
DTSTART;TZID=Europe/Stockholm:20251112T120000
DTEND;TZID=Europe/Stockholm:20251112T170000
DTSTAMP:20260426T034652
CREATED:20251030T014111Z
LAST-MODIFIED:20251117T040512Z
UID:10006276-1762948800-1762966800@www.lyktan.net
SUMMARY:Prärievargen i Mexico City
DESCRIPTION:Fotoutställning om en megastad av Ulrika Hembjer
URL:https://www.lyktan.net/event/prarievargen-i-mexico-city/2025-11-12/
LOCATION:Östra Gymnasiet\, Kvartettvägen 2-6\, Trångsund\, 14263\, Sweden
CATEGORIES:Författarträff,Utställning
ATTACH;FMTTYPE=image/jpeg:https://www.lyktan.net/wp-content/uploads/2025/10/Prarievargen_Ostra2025-Affisch.jpg
GEO:59.2226737048;18.150960373
X-APPLE-STRUCTURED-LOCATION;VALUE=URI;X-ADDRESS=Östra Gymnasiet Kvartettvägen 2-6 Trångsund 14263 Sweden;X-APPLE-RADIUS=500;X-TITLE=Kvartettvägen 2-6:geo:18.150960373,59.2226737048
END:VEVENT
BEGIN:VEVENT
DTSTART;TZID=Europe/Stockholm:20251111T120000
DTEND;TZID=Europe/Stockholm:20251111T170000
DTSTAMP:20260426T034652
CREATED:20251030T014111Z
LAST-MODIFIED:20251117T040512Z
UID:10006275-1762862400-1762880400@www.lyktan.net
SUMMARY:Prärievargen i Mexico City
DESCRIPTION:Fotoutställning om en megastad av Ulrika Hembjer
URL:https://www.lyktan.net/event/prarievargen-i-mexico-city/2025-11-11/
LOCATION:Östra Gymnasiet\, Kvartettvägen 2-6\, Trångsund\, 14263\, Sweden
CATEGORIES:Författarträff,Utställning
ATTACH;FMTTYPE=image/jpeg:https://www.lyktan.net/wp-content/uploads/2025/10/Prarievargen_Ostra2025-Affisch.jpg
GEO:59.2226737048;18.150960373
X-APPLE-STRUCTURED-LOCATION;VALUE=URI;X-ADDRESS=Östra Gymnasiet Kvartettvägen 2-6 Trångsund 14263 Sweden;X-APPLE-RADIUS=500;X-TITLE=Kvartettvägen 2-6:geo:18.150960373,59.2226737048
END:VEVENT
BEGIN:VEVENT
DTSTART;TZID=Europe/Stockholm:20251110T170000
DTEND;TZID=Europe/Stockholm:20251110T190000
DTSTAMP:20260426T034652
CREATED:20250902T000443Z
LAST-MODIFIED:20250905T174823Z
UID:10005745-1762794000-1762801200@www.lyktan.net
SUMMARY:Fotoklubben
DESCRIPTION:
URL:https://www.lyktan.net/event/fotoklubben/2025-11-10/
LOCATION:Galleri Lyktan\, Skogåstorget 7-9\, Skogås\, 142 30\, Sweden
CATEGORIES:Samtal
END:VEVENT
BEGIN:VEVENT
DTSTART;TZID=Europe/Stockholm:20251110T120000
DTEND;TZID=Europe/Stockholm:20251110T170000
DTSTAMP:20260426T034652
CREATED:20251030T014111Z
LAST-MODIFIED:20251117T040512Z
UID:10006274-1762776000-1762794000@www.lyktan.net
SUMMARY:Prärievargen i Mexico City
DESCRIPTION:Fotoutställning om en megastad av Ulrika Hembjer
URL:https://www.lyktan.net/event/prarievargen-i-mexico-city/2025-11-10/
LOCATION:Östra Gymnasiet\, Kvartettvägen 2-6\, Trångsund\, 14263\, Sweden
CATEGORIES:Författarträff,Utställning
ATTACH;FMTTYPE=image/jpeg:https://www.lyktan.net/wp-content/uploads/2025/10/Prarievargen_Ostra2025-Affisch.jpg
GEO:59.2226737048;18.150960373
X-APPLE-STRUCTURED-LOCATION;VALUE=URI;X-ADDRESS=Östra Gymnasiet Kvartettvägen 2-6 Trångsund 14263 Sweden;X-APPLE-RADIUS=500;X-TITLE=Kvartettvägen 2-6:geo:18.150960373,59.2226737048
END:VEVENT
BEGIN:VEVENT
DTSTART;TZID=Europe/Stockholm:20251102T130000
DTEND;TZID=Europe/Stockholm:20251102T170000
DTSTAMP:20260426T034652
CREATED:20251030T015748Z
LAST-MODIFIED:20251030T015751Z
UID:10006304-1762088400-1762102800@www.lyktan.net
SUMMARY:Finissage på foto/konst-utställningen
DESCRIPTION:Finissage på foto/konst-utställningen på Mariakyrkan i Skogås. Sista dagen på Eivors ochJuhas utställning. Café Maria\, plan 2.Medlemmar från Lyktans Fotoklubb ställer också ut på Capio vårdcentral i Skogås.
URL:https://www.lyktan.net/event/finissage-pa-foto-konst-utstallningen/
LOCATION:Mariakyrkan i Skogås\, Kommunalvägen 21\, Huddinge\, 14148\, Sweden
CATEGORIES:Finissage,Författarträff,Utställning
ATTACH;FMTTYPE=image/jpeg:https://www.lyktan.net/wp-content/uploads/2025/09/Aff-Utst-i-Kyrkan-2025-scaled.jpg
END:VEVENT
BEGIN:VEVENT
DTSTART;TZID=Europe/Stockholm:20251027T170000
DTEND;TZID=Europe/Stockholm:20251027T190000
DTSTAMP:20260426T034652
CREATED:20250902T000443Z
LAST-MODIFIED:20250905T174823Z
UID:10005744-1761584400-1761591600@www.lyktan.net
SUMMARY:Fotoklubben
DESCRIPTION:
URL:https://www.lyktan.net/event/fotoklubben/2025-10-27/
LOCATION:Galleri Lyktan\, Skogåstorget 7-9\, Skogås\, 142 30\, Sweden
CATEGORIES:Samtal
END:VEVENT
BEGIN:VEVENT
DTSTART;TZID=Europe/Stockholm:20251025T130000
DTEND;TZID=Europe/Stockholm:20251025T170000
DTSTAMP:20260426T034652
CREATED:20251030T012257Z
LAST-MODIFIED:20251030T012257Z
UID:10006273-1761397200-1761411600@www.lyktan.net
SUMMARY:Fotografträff på Mariakyrkan
DESCRIPTION:Fotografträff på Mariakyrkan i Skogås\ni samband med kyrkkaffet.
URL:https://www.lyktan.net/event/fotograftraff-pa-mariakyrkan/
LOCATION:Mariakyrkan i Skogås\, Kommunalvägen 21\, Huddinge\, 14148\, Sweden
CATEGORIES:Författarträff
ATTACH;FMTTYPE=image/jpeg:https://www.lyktan.net/wp-content/uploads/2025/10/Fotoklubben-Hostprogram.jpg
END:VEVENT
BEGIN:VEVENT
DTSTART;TZID=Europe/Stockholm:20251013T170000
DTEND;TZID=Europe/Stockholm:20251013T190000
DTSTAMP:20260426T034652
CREATED:20250902T000443Z
LAST-MODIFIED:20250905T174823Z
UID:10005743-1760374800-1760382000@www.lyktan.net
SUMMARY:Fotoklubben
DESCRIPTION:
URL:https://www.lyktan.net/event/fotoklubben/2025-10-13/
LOCATION:Galleri Lyktan\, Skogåstorget 7-9\, Skogås\, 142 30\, Sweden
CATEGORIES:Samtal
END:VEVENT
BEGIN:VEVENT
DTSTART;TZID=Europe/Stockholm:20250929T170000
DTEND;TZID=Europe/Stockholm:20250929T190000
DTSTAMP:20260426T034652
CREATED:20250902T000443Z
LAST-MODIFIED:20250905T174823Z
UID:10005742-1759165200-1759172400@www.lyktan.net
SUMMARY:Fotoklubben
DESCRIPTION:
URL:https://www.lyktan.net/event/fotoklubben/2025-09-29/
LOCATION:Galleri Lyktan\, Skogåstorget 7-9\, Skogås\, 142 30\, Sweden
CATEGORIES:Samtal
END:VEVENT
BEGIN:VEVENT
DTSTART;TZID=Europe/Stockholm:20250915T170000
DTEND;TZID=Europe/Stockholm:20250915T190000
DTSTAMP:20260426T034652
CREATED:20250902T000443Z
LAST-MODIFIED:20250905T174823Z
UID:10005741-1757955600-1757962800@www.lyktan.net
SUMMARY:Fotoklubben
DESCRIPTION:
URL:https://www.lyktan.net/event/fotoklubben/2025-09-15/
LOCATION:Galleri Lyktan\, Skogåstorget 7-9\, Skogås\, 142 30\, Sweden
CATEGORIES:Samtal
END:VEVENT
BEGIN:VEVENT
DTSTART;TZID=Europe/Stockholm:20250814T093000
DTEND;TZID=Europe/Stockholm:20251102T180000
DTSTAMP:20260426T034652
CREATED:20250821T074940Z
LAST-MODIFIED:20250907T073342Z
UID:10005070-1755163800-1762106400@www.lyktan.net
SUMMARY:Eivor Pettersson  och  Juha Vilppunen
DESCRIPTION:Eivor Pettersson och Juha Vilppunen\nKulturföreningen Lyktans Fotoklubb\nställer ut fotokonst i\nMariakyrkan i Skogås\nUtställningen pågår under tiden \n14/8 och 2/11
URL:https://www.lyktan.net/event/eivor-pettersson-och-juha-vilppunen/
LOCATION:Mariakyrkan i Skogås\, Kommunalvägen 21\, Huddinge\, 14148\, Sweden
CATEGORIES:Utställning
ATTACH;FMTTYPE=image/jpeg:https://www.lyktan.net/wp-content/uploads/2025/09/Aff-Utst-i-Kyrkan-2025-scaled.jpg
END:VEVENT
END:VCALENDAR