BEGIN:VCALENDAR
VERSION:2.0
PRODID:-//Kulturföreningen Lyktan - ECPv6.15.17.1//NONSGML v1.0//EN
CALSCALE:GREGORIAN
METHOD:PUBLISH
X-WR-CALNAME:Kulturföreningen Lyktan
X-ORIGINAL-URL:https://www.lyktan.net
X-WR-CALDESC:Händelser för Kulturföreningen Lyktan
REFRESH-INTERVAL;VALUE=DURATION:PT1H
X-Robots-Tag:noindex
X-PUBLISHED-TTL:PT1H
BEGIN:VTIMEZONE
TZID:Europe/Stockholm
BEGIN:DAYLIGHT
TZOFFSETFROM:+0100
TZOFFSETTO:+0200
TZNAME:CEST
DTSTART:20260329T010000
END:DAYLIGHT
BEGIN:STANDARD
TZOFFSETFROM:+0200
TZOFFSETTO:+0100
TZNAME:CET
DTSTART:20261025T010000
END:STANDARD
BEGIN:DAYLIGHT
TZOFFSETFROM:+0100
TZOFFSETTO:+0200
TZNAME:CEST
DTSTART:20270328T010000
END:DAYLIGHT
BEGIN:STANDARD
TZOFFSETFROM:+0200
TZOFFSETTO:+0100
TZNAME:CET
DTSTART:20271031T010000
END:STANDARD
BEGIN:DAYLIGHT
TZOFFSETFROM:+0100
TZOFFSETTO:+0200
TZNAME:CEST
DTSTART:20280326T010000
END:DAYLIGHT
BEGIN:STANDARD
TZOFFSETFROM:+0200
TZOFFSETTO:+0100
TZNAME:CET
DTSTART:20281029T010000
END:STANDARD
BEGIN:DAYLIGHT
TZOFFSETFROM:+0100
TZOFFSETTO:+0200
TZNAME:CEST
DTSTART:20290325T010000
END:DAYLIGHT
BEGIN:STANDARD
TZOFFSETFROM:+0200
TZOFFSETTO:+0100
TZNAME:CET
DTSTART:20291028T010000
END:STANDARD
END:VTIMEZONE
BEGIN:VEVENT
DTSTART;TZID=Europe/Stockholm:20271103T120000
DTEND;TZID=Europe/Stockholm:20271103T160000
DTSTAMP:20260426T050403
CREATED:20250902T000248Z
LAST-MODIFIED:20260131T042930Z
UID:10005191-1825243200-1825257600@www.lyktan.net
SUMMARY:Hantverk med Kathrine
DESCRIPTION:
URL:https://www.lyktan.net/event/hantverk-med-kathrine/2027-11-03/
LOCATION:Galleri Lyktan\, Skogåstorget 7-9\, Skogås\, 142 30\, Sweden
CATEGORIES:Workshop
ATTACH;FMTTYPE=image/jpeg:https://www.lyktan.net/wp-content/uploads/2025/05/OIP-1.jpeg
END:VEVENT
BEGIN:VEVENT
DTSTART;TZID=Europe/Stockholm:20271110T120000
DTEND;TZID=Europe/Stockholm:20271110T160000
DTSTAMP:20260426T050403
CREATED:20250902T000248Z
LAST-MODIFIED:20260131T042930Z
UID:10005192-1825848000-1825862400@www.lyktan.net
SUMMARY:Hantverk med Kathrine
DESCRIPTION:
URL:https://www.lyktan.net/event/hantverk-med-kathrine/2027-11-10/
LOCATION:Galleri Lyktan\, Skogåstorget 7-9\, Skogås\, 142 30\, Sweden
CATEGORIES:Workshop
ATTACH;FMTTYPE=image/jpeg:https://www.lyktan.net/wp-content/uploads/2025/05/OIP-1.jpeg
END:VEVENT
BEGIN:VEVENT
DTSTART;TZID=Europe/Stockholm:20271117T120000
DTEND;TZID=Europe/Stockholm:20271117T160000
DTSTAMP:20260426T050403
CREATED:20250902T000248Z
LAST-MODIFIED:20260131T042930Z
UID:10005193-1826452800-1826467200@www.lyktan.net
SUMMARY:Hantverk med Kathrine
DESCRIPTION:
URL:https://www.lyktan.net/event/hantverk-med-kathrine/2027-11-17/
LOCATION:Galleri Lyktan\, Skogåstorget 7-9\, Skogås\, 142 30\, Sweden
CATEGORIES:Workshop
ATTACH;FMTTYPE=image/jpeg:https://www.lyktan.net/wp-content/uploads/2025/05/OIP-1.jpeg
END:VEVENT
BEGIN:VEVENT
DTSTART;TZID=Europe/Stockholm:20271124T120000
DTEND;TZID=Europe/Stockholm:20271124T160000
DTSTAMP:20260426T050403
CREATED:20250902T000248Z
LAST-MODIFIED:20260131T042930Z
UID:10005194-1827057600-1827072000@www.lyktan.net
SUMMARY:Hantverk med Kathrine
DESCRIPTION:
URL:https://www.lyktan.net/event/hantverk-med-kathrine/2027-11-24/
LOCATION:Galleri Lyktan\, Skogåstorget 7-9\, Skogås\, 142 30\, Sweden
CATEGORIES:Workshop
ATTACH;FMTTYPE=image/jpeg:https://www.lyktan.net/wp-content/uploads/2025/05/OIP-1.jpeg
END:VEVENT
BEGIN:VEVENT
DTSTART;TZID=Europe/Stockholm:20271201T120000
DTEND;TZID=Europe/Stockholm:20271201T160000
DTSTAMP:20260426T050403
CREATED:20250902T000248Z
LAST-MODIFIED:20260131T042930Z
UID:10005195-1827662400-1827676800@www.lyktan.net
SUMMARY:Hantverk med Kathrine
DESCRIPTION:
URL:https://www.lyktan.net/event/hantverk-med-kathrine/2027-12-01/
LOCATION:Galleri Lyktan\, Skogåstorget 7-9\, Skogås\, 142 30\, Sweden
CATEGORIES:Workshop
ATTACH;FMTTYPE=image/jpeg:https://www.lyktan.net/wp-content/uploads/2025/05/OIP-1.jpeg
END:VEVENT
BEGIN:VEVENT
DTSTART;TZID=Europe/Stockholm:20271208T120000
DTEND;TZID=Europe/Stockholm:20271208T160000
DTSTAMP:20260426T050403
CREATED:20250902T000248Z
LAST-MODIFIED:20260131T042930Z
UID:10005196-1828267200-1828281600@www.lyktan.net
SUMMARY:Hantverk med Kathrine
DESCRIPTION:
URL:https://www.lyktan.net/event/hantverk-med-kathrine/2027-12-08/
LOCATION:Galleri Lyktan\, Skogåstorget 7-9\, Skogås\, 142 30\, Sweden
CATEGORIES:Workshop
ATTACH;FMTTYPE=image/jpeg:https://www.lyktan.net/wp-content/uploads/2025/05/OIP-1.jpeg
END:VEVENT
BEGIN:VEVENT
DTSTART;TZID=Europe/Stockholm:20271215T120000
DTEND;TZID=Europe/Stockholm:20271215T160000
DTSTAMP:20260426T050403
CREATED:20250902T000248Z
LAST-MODIFIED:20260131T042930Z
UID:10005197-1828872000-1828886400@www.lyktan.net
SUMMARY:Hantverk med Kathrine
DESCRIPTION:
URL:https://www.lyktan.net/event/hantverk-med-kathrine/2027-12-15/
LOCATION:Galleri Lyktan\, Skogåstorget 7-9\, Skogås\, 142 30\, Sweden
CATEGORIES:Workshop
ATTACH;FMTTYPE=image/jpeg:https://www.lyktan.net/wp-content/uploads/2025/05/OIP-1.jpeg
END:VEVENT
BEGIN:VEVENT
DTSTART;TZID=Europe/Stockholm:20271222T120000
DTEND;TZID=Europe/Stockholm:20271222T160000
DTSTAMP:20260426T050403
CREATED:20250902T000248Z
LAST-MODIFIED:20260131T042930Z
UID:10005198-1829476800-1829491200@www.lyktan.net
SUMMARY:Hantverk med Kathrine
DESCRIPTION:
URL:https://www.lyktan.net/event/hantverk-med-kathrine/2027-12-22/
LOCATION:Galleri Lyktan\, Skogåstorget 7-9\, Skogås\, 142 30\, Sweden
CATEGORIES:Workshop
ATTACH;FMTTYPE=image/jpeg:https://www.lyktan.net/wp-content/uploads/2025/05/OIP-1.jpeg
END:VEVENT
BEGIN:VEVENT
DTSTART;TZID=Europe/Stockholm:20271229T120000
DTEND;TZID=Europe/Stockholm:20271229T160000
DTSTAMP:20260426T050403
CREATED:20250902T000248Z
LAST-MODIFIED:20260131T042930Z
UID:10005199-1830081600-1830096000@www.lyktan.net
SUMMARY:Hantverk med Kathrine
DESCRIPTION:
URL:https://www.lyktan.net/event/hantverk-med-kathrine/2027-12-29/
LOCATION:Galleri Lyktan\, Skogåstorget 7-9\, Skogås\, 142 30\, Sweden
CATEGORIES:Workshop
ATTACH;FMTTYPE=image/jpeg:https://www.lyktan.net/wp-content/uploads/2025/05/OIP-1.jpeg
END:VEVENT
BEGIN:VEVENT
DTSTART;TZID=Europe/Stockholm:20280105T120000
DTEND;TZID=Europe/Stockholm:20280105T160000
DTSTAMP:20260426T050403
CREATED:20250902T000248Z
LAST-MODIFIED:20260131T042930Z
UID:10005200-1830686400-1830700800@www.lyktan.net
SUMMARY:Hantverk med Kathrine
DESCRIPTION:
URL:https://www.lyktan.net/event/hantverk-med-kathrine/2028-01-05/
LOCATION:Galleri Lyktan\, Skogåstorget 7-9\, Skogås\, 142 30\, Sweden
CATEGORIES:Workshop
ATTACH;FMTTYPE=image/jpeg:https://www.lyktan.net/wp-content/uploads/2025/05/OIP-1.jpeg
END:VEVENT
BEGIN:VEVENT
DTSTART;TZID=Europe/Stockholm:20280112T120000
DTEND;TZID=Europe/Stockholm:20280112T160000
DTSTAMP:20260426T050403
CREATED:20250902T000248Z
LAST-MODIFIED:20260131T042930Z
UID:10005201-1831291200-1831305600@www.lyktan.net
SUMMARY:Hantverk med Kathrine
DESCRIPTION:
URL:https://www.lyktan.net/event/hantverk-med-kathrine/2028-01-12/
LOCATION:Galleri Lyktan\, Skogåstorget 7-9\, Skogås\, 142 30\, Sweden
CATEGORIES:Workshop
ATTACH;FMTTYPE=image/jpeg:https://www.lyktan.net/wp-content/uploads/2025/05/OIP-1.jpeg
END:VEVENT
BEGIN:VEVENT
DTSTART;TZID=Europe/Stockholm:20280119T120000
DTEND;TZID=Europe/Stockholm:20280119T160000
DTSTAMP:20260426T050403
CREATED:20250902T000248Z
LAST-MODIFIED:20260131T042930Z
UID:10005202-1831896000-1831910400@www.lyktan.net
SUMMARY:Hantverk med Kathrine
DESCRIPTION:
URL:https://www.lyktan.net/event/hantverk-med-kathrine/2028-01-19/
LOCATION:Galleri Lyktan\, Skogåstorget 7-9\, Skogås\, 142 30\, Sweden
CATEGORIES:Workshop
ATTACH;FMTTYPE=image/jpeg:https://www.lyktan.net/wp-content/uploads/2025/05/OIP-1.jpeg
END:VEVENT
BEGIN:VEVENT
DTSTART;TZID=Europe/Stockholm:20280126T120000
DTEND;TZID=Europe/Stockholm:20280126T160000
DTSTAMP:20260426T050403
CREATED:20250902T000248Z
LAST-MODIFIED:20260131T042930Z
UID:10005203-1832500800-1832515200@www.lyktan.net
SUMMARY:Hantverk med Kathrine
DESCRIPTION:
URL:https://www.lyktan.net/event/hantverk-med-kathrine/2028-01-26/
LOCATION:Galleri Lyktan\, Skogåstorget 7-9\, Skogås\, 142 30\, Sweden
CATEGORIES:Workshop
ATTACH;FMTTYPE=image/jpeg:https://www.lyktan.net/wp-content/uploads/2025/05/OIP-1.jpeg
END:VEVENT
BEGIN:VEVENT
DTSTART;TZID=Europe/Stockholm:20280202T120000
DTEND;TZID=Europe/Stockholm:20280202T160000
DTSTAMP:20260426T050403
CREATED:20250902T000248Z
LAST-MODIFIED:20260131T042930Z
UID:10005204-1833105600-1833120000@www.lyktan.net
SUMMARY:Hantverk med Kathrine
DESCRIPTION:
URL:https://www.lyktan.net/event/hantverk-med-kathrine/2028-02-02/
LOCATION:Galleri Lyktan\, Skogåstorget 7-9\, Skogås\, 142 30\, Sweden
CATEGORIES:Workshop
ATTACH;FMTTYPE=image/jpeg:https://www.lyktan.net/wp-content/uploads/2025/05/OIP-1.jpeg
END:VEVENT
BEGIN:VEVENT
DTSTART;TZID=Europe/Stockholm:20280209T120000
DTEND;TZID=Europe/Stockholm:20280209T160000
DTSTAMP:20260426T050403
CREATED:20250902T000248Z
LAST-MODIFIED:20260131T042930Z
UID:10005205-1833710400-1833724800@www.lyktan.net
SUMMARY:Hantverk med Kathrine
DESCRIPTION:
URL:https://www.lyktan.net/event/hantverk-med-kathrine/2028-02-09/
LOCATION:Galleri Lyktan\, Skogåstorget 7-9\, Skogås\, 142 30\, Sweden
CATEGORIES:Workshop
ATTACH;FMTTYPE=image/jpeg:https://www.lyktan.net/wp-content/uploads/2025/05/OIP-1.jpeg
END:VEVENT
BEGIN:VEVENT
DTSTART;TZID=Europe/Stockholm:20280216T120000
DTEND;TZID=Europe/Stockholm:20280216T160000
DTSTAMP:20260426T050403
CREATED:20250902T000248Z
LAST-MODIFIED:20260131T042930Z
UID:10005206-1834315200-1834329600@www.lyktan.net
SUMMARY:Hantverk med Kathrine
DESCRIPTION:
URL:https://www.lyktan.net/event/hantverk-med-kathrine/2028-02-16/
LOCATION:Galleri Lyktan\, Skogåstorget 7-9\, Skogås\, 142 30\, Sweden
CATEGORIES:Workshop
ATTACH;FMTTYPE=image/jpeg:https://www.lyktan.net/wp-content/uploads/2025/05/OIP-1.jpeg
END:VEVENT
BEGIN:VEVENT
DTSTART;TZID=Europe/Stockholm:20280223T120000
DTEND;TZID=Europe/Stockholm:20280223T160000
DTSTAMP:20260426T050403
CREATED:20250902T000248Z
LAST-MODIFIED:20260131T042930Z
UID:10005207-1834920000-1834934400@www.lyktan.net
SUMMARY:Hantverk med Kathrine
DESCRIPTION:
URL:https://www.lyktan.net/event/hantverk-med-kathrine/2028-02-23/
LOCATION:Galleri Lyktan\, Skogåstorget 7-9\, Skogås\, 142 30\, Sweden
CATEGORIES:Workshop
ATTACH;FMTTYPE=image/jpeg:https://www.lyktan.net/wp-content/uploads/2025/05/OIP-1.jpeg
END:VEVENT
BEGIN:VEVENT
DTSTART;TZID=Europe/Stockholm:20280301T120000
DTEND;TZID=Europe/Stockholm:20280301T160000
DTSTAMP:20260426T050403
CREATED:20250902T000248Z
LAST-MODIFIED:20260131T042930Z
UID:10005208-1835524800-1835539200@www.lyktan.net
SUMMARY:Hantverk med Kathrine
DESCRIPTION:
URL:https://www.lyktan.net/event/hantverk-med-kathrine/2028-03-01/
LOCATION:Galleri Lyktan\, Skogåstorget 7-9\, Skogås\, 142 30\, Sweden
CATEGORIES:Workshop
ATTACH;FMTTYPE=image/jpeg:https://www.lyktan.net/wp-content/uploads/2025/05/OIP-1.jpeg
END:VEVENT
BEGIN:VEVENT
DTSTART;TZID=Europe/Stockholm:20280308T120000
DTEND;TZID=Europe/Stockholm:20280308T160000
DTSTAMP:20260426T050403
CREATED:20250902T000248Z
LAST-MODIFIED:20260131T042930Z
UID:10005209-1836129600-1836144000@www.lyktan.net
SUMMARY:Hantverk med Kathrine
DESCRIPTION:
URL:https://www.lyktan.net/event/hantverk-med-kathrine/2028-03-08/
LOCATION:Galleri Lyktan\, Skogåstorget 7-9\, Skogås\, 142 30\, Sweden
CATEGORIES:Workshop
ATTACH;FMTTYPE=image/jpeg:https://www.lyktan.net/wp-content/uploads/2025/05/OIP-1.jpeg
END:VEVENT
BEGIN:VEVENT
DTSTART;TZID=Europe/Stockholm:20280315T120000
DTEND;TZID=Europe/Stockholm:20280315T160000
DTSTAMP:20260426T050403
CREATED:20250902T000248Z
LAST-MODIFIED:20260131T042930Z
UID:10005210-1836734400-1836748800@www.lyktan.net
SUMMARY:Hantverk med Kathrine
DESCRIPTION:
URL:https://www.lyktan.net/event/hantverk-med-kathrine/2028-03-15/
LOCATION:Galleri Lyktan\, Skogåstorget 7-9\, Skogås\, 142 30\, Sweden
CATEGORIES:Workshop
ATTACH;FMTTYPE=image/jpeg:https://www.lyktan.net/wp-content/uploads/2025/05/OIP-1.jpeg
END:VEVENT
BEGIN:VEVENT
DTSTART;TZID=Europe/Stockholm:20280322T120000
DTEND;TZID=Europe/Stockholm:20280322T160000
DTSTAMP:20260426T050403
CREATED:20250902T000248Z
LAST-MODIFIED:20260131T042930Z
UID:10005211-1837339200-1837353600@www.lyktan.net
SUMMARY:Hantverk med Kathrine
DESCRIPTION:
URL:https://www.lyktan.net/event/hantverk-med-kathrine/2028-03-22/
LOCATION:Galleri Lyktan\, Skogåstorget 7-9\, Skogås\, 142 30\, Sweden
CATEGORIES:Workshop
ATTACH;FMTTYPE=image/jpeg:https://www.lyktan.net/wp-content/uploads/2025/05/OIP-1.jpeg
END:VEVENT
BEGIN:VEVENT
DTSTART;TZID=Europe/Stockholm:20280329T120000
DTEND;TZID=Europe/Stockholm:20280329T160000
DTSTAMP:20260426T050403
CREATED:20250902T000248Z
LAST-MODIFIED:20260131T042930Z
UID:10005212-1837944000-1837958400@www.lyktan.net
SUMMARY:Hantverk med Kathrine
DESCRIPTION:
URL:https://www.lyktan.net/event/hantverk-med-kathrine/2028-03-29/
LOCATION:Galleri Lyktan\, Skogåstorget 7-9\, Skogås\, 142 30\, Sweden
CATEGORIES:Workshop
ATTACH;FMTTYPE=image/jpeg:https://www.lyktan.net/wp-content/uploads/2025/05/OIP-1.jpeg
END:VEVENT
BEGIN:VEVENT
DTSTART;TZID=Europe/Stockholm:20280405T120000
DTEND;TZID=Europe/Stockholm:20280405T160000
DTSTAMP:20260426T050403
CREATED:20250902T000248Z
LAST-MODIFIED:20260131T042930Z
UID:10005213-1838548800-1838563200@www.lyktan.net
SUMMARY:Hantverk med Kathrine
DESCRIPTION:
URL:https://www.lyktan.net/event/hantverk-med-kathrine/2028-04-05/
LOCATION:Galleri Lyktan\, Skogåstorget 7-9\, Skogås\, 142 30\, Sweden
CATEGORIES:Workshop
ATTACH;FMTTYPE=image/jpeg:https://www.lyktan.net/wp-content/uploads/2025/05/OIP-1.jpeg
END:VEVENT
BEGIN:VEVENT
DTSTART;TZID=Europe/Stockholm:20280412T120000
DTEND;TZID=Europe/Stockholm:20280412T160000
DTSTAMP:20260426T050403
CREATED:20250902T000248Z
LAST-MODIFIED:20260131T042930Z
UID:10005214-1839153600-1839168000@www.lyktan.net
SUMMARY:Hantverk med Kathrine
DESCRIPTION:
URL:https://www.lyktan.net/event/hantverk-med-kathrine/2028-04-12/
LOCATION:Galleri Lyktan\, Skogåstorget 7-9\, Skogås\, 142 30\, Sweden
CATEGORIES:Workshop
ATTACH;FMTTYPE=image/jpeg:https://www.lyktan.net/wp-content/uploads/2025/05/OIP-1.jpeg
END:VEVENT
BEGIN:VEVENT
DTSTART;TZID=Europe/Stockholm:20280419T120000
DTEND;TZID=Europe/Stockholm:20280419T160000
DTSTAMP:20260426T050403
CREATED:20250902T000248Z
LAST-MODIFIED:20260131T042930Z
UID:10005215-1839758400-1839772800@www.lyktan.net
SUMMARY:Hantverk med Kathrine
DESCRIPTION:
URL:https://www.lyktan.net/event/hantverk-med-kathrine/2028-04-19/
LOCATION:Galleri Lyktan\, Skogåstorget 7-9\, Skogås\, 142 30\, Sweden
CATEGORIES:Workshop
ATTACH;FMTTYPE=image/jpeg:https://www.lyktan.net/wp-content/uploads/2025/05/OIP-1.jpeg
END:VEVENT
BEGIN:VEVENT
DTSTART;TZID=Europe/Stockholm:20280426T120000
DTEND;TZID=Europe/Stockholm:20280426T160000
DTSTAMP:20260426T050403
CREATED:20250902T000248Z
LAST-MODIFIED:20260131T042930Z
UID:10005216-1840363200-1840377600@www.lyktan.net
SUMMARY:Hantverk med Kathrine
DESCRIPTION:
URL:https://www.lyktan.net/event/hantverk-med-kathrine/2028-04-26/
LOCATION:Galleri Lyktan\, Skogåstorget 7-9\, Skogås\, 142 30\, Sweden
CATEGORIES:Workshop
ATTACH;FMTTYPE=image/jpeg:https://www.lyktan.net/wp-content/uploads/2025/05/OIP-1.jpeg
END:VEVENT
BEGIN:VEVENT
DTSTART;TZID=Europe/Stockholm:20280503T120000
DTEND;TZID=Europe/Stockholm:20280503T160000
DTSTAMP:20260426T050404
CREATED:20250902T000248Z
LAST-MODIFIED:20260131T042930Z
UID:10005217-1840968000-1840982400@www.lyktan.net
SUMMARY:Hantverk med Kathrine
DESCRIPTION:
URL:https://www.lyktan.net/event/hantverk-med-kathrine/2028-05-03/
LOCATION:Galleri Lyktan\, Skogåstorget 7-9\, Skogås\, 142 30\, Sweden
CATEGORIES:Workshop
ATTACH;FMTTYPE=image/jpeg:https://www.lyktan.net/wp-content/uploads/2025/05/OIP-1.jpeg
END:VEVENT
BEGIN:VEVENT
DTSTART;TZID=Europe/Stockholm:20280510T120000
DTEND;TZID=Europe/Stockholm:20280510T160000
DTSTAMP:20260426T050404
CREATED:20250902T000248Z
LAST-MODIFIED:20260131T042930Z
UID:10005218-1841572800-1841587200@www.lyktan.net
SUMMARY:Hantverk med Kathrine
DESCRIPTION:
URL:https://www.lyktan.net/event/hantverk-med-kathrine/2028-05-10/
LOCATION:Galleri Lyktan\, Skogåstorget 7-9\, Skogås\, 142 30\, Sweden
CATEGORIES:Workshop
ATTACH;FMTTYPE=image/jpeg:https://www.lyktan.net/wp-content/uploads/2025/05/OIP-1.jpeg
END:VEVENT
BEGIN:VEVENT
DTSTART;TZID=Europe/Stockholm:20280517T120000
DTEND;TZID=Europe/Stockholm:20280517T160000
DTSTAMP:20260426T050404
CREATED:20250902T000248Z
LAST-MODIFIED:20260131T042930Z
UID:10005219-1842177600-1842192000@www.lyktan.net
SUMMARY:Hantverk med Kathrine
DESCRIPTION:
URL:https://www.lyktan.net/event/hantverk-med-kathrine/2028-05-17/
LOCATION:Galleri Lyktan\, Skogåstorget 7-9\, Skogås\, 142 30\, Sweden
CATEGORIES:Workshop
ATTACH;FMTTYPE=image/jpeg:https://www.lyktan.net/wp-content/uploads/2025/05/OIP-1.jpeg
END:VEVENT
BEGIN:VEVENT
DTSTART;TZID=Europe/Stockholm:20280524T120000
DTEND;TZID=Europe/Stockholm:20280524T160000
DTSTAMP:20260426T050404
CREATED:20250902T000248Z
LAST-MODIFIED:20260131T042930Z
UID:10005220-1842782400-1842796800@www.lyktan.net
SUMMARY:Hantverk med Kathrine
DESCRIPTION:
URL:https://www.lyktan.net/event/hantverk-med-kathrine/2028-05-24/
LOCATION:Galleri Lyktan\, Skogåstorget 7-9\, Skogås\, 142 30\, Sweden
CATEGORIES:Workshop
ATTACH;FMTTYPE=image/jpeg:https://www.lyktan.net/wp-content/uploads/2025/05/OIP-1.jpeg
END:VEVENT
END:VCALENDAR