BEGIN:VCALENDAR
VERSION:2.0
PRODID:-//Kulturföreningen Lyktan - ECPv6.15.17.1//NONSGML v1.0//EN
CALSCALE:GREGORIAN
METHOD:PUBLISH
X-WR-CALNAME:Kulturföreningen Lyktan
X-ORIGINAL-URL:https://www.lyktan.net
X-WR-CALDESC:Händelser för Kulturföreningen Lyktan
REFRESH-INTERVAL;VALUE=DURATION:PT1H
X-Robots-Tag:noindex
X-PUBLISHED-TTL:PT1H
BEGIN:VTIMEZONE
TZID:Europe/Stockholm
BEGIN:DAYLIGHT
TZOFFSETFROM:+0100
TZOFFSETTO:+0200
TZNAME:CEST
DTSTART:20250330T010000
END:DAYLIGHT
BEGIN:STANDARD
TZOFFSETFROM:+0200
TZOFFSETTO:+0100
TZNAME:CET
DTSTART:20251026T010000
END:STANDARD
BEGIN:DAYLIGHT
TZOFFSETFROM:+0100
TZOFFSETTO:+0200
TZNAME:CEST
DTSTART:20260329T010000
END:DAYLIGHT
BEGIN:STANDARD
TZOFFSETFROM:+0200
TZOFFSETTO:+0100
TZNAME:CET
DTSTART:20261025T010000
END:STANDARD
BEGIN:DAYLIGHT
TZOFFSETFROM:+0100
TZOFFSETTO:+0200
TZNAME:CEST
DTSTART:20270328T010000
END:DAYLIGHT
BEGIN:STANDARD
TZOFFSETFROM:+0200
TZOFFSETTO:+0100
TZNAME:CET
DTSTART:20271031T010000
END:STANDARD
BEGIN:DAYLIGHT
TZOFFSETFROM:+0100
TZOFFSETTO:+0200
TZNAME:CEST
DTSTART:20280326T010000
END:DAYLIGHT
BEGIN:STANDARD
TZOFFSETFROM:+0200
TZOFFSETTO:+0100
TZNAME:CET
DTSTART:20281029T010000
END:STANDARD
END:VTIMEZONE
BEGIN:VEVENT
DTSTART;TZID=Europe/Stockholm:20261202T120000
DTEND;TZID=Europe/Stockholm:20261202T160000
DTSTAMP:20260426T015030
CREATED:20250902T000248Z
LAST-MODIFIED:20260131T042930Z
UID:10005143-1796212800-1796227200@www.lyktan.net
SUMMARY:Hantverk med Kathrine
DESCRIPTION:
URL:https://www.lyktan.net/event/hantverk-med-kathrine/2026-12-02/
LOCATION:Galleri Lyktan\, Skogåstorget 7-9\, Skogås\, 142 30\, Sweden
CATEGORIES:Workshop
ATTACH;FMTTYPE=image/jpeg:https://www.lyktan.net/wp-content/uploads/2025/05/OIP-1.jpeg
END:VEVENT
BEGIN:VEVENT
DTSTART;TZID=Europe/Stockholm:20261209T120000
DTEND;TZID=Europe/Stockholm:20261209T160000
DTSTAMP:20260426T015030
CREATED:20250902T000248Z
LAST-MODIFIED:20260131T042930Z
UID:10005144-1796817600-1796832000@www.lyktan.net
SUMMARY:Hantverk med Kathrine
DESCRIPTION:
URL:https://www.lyktan.net/event/hantverk-med-kathrine/2026-12-09/
LOCATION:Galleri Lyktan\, Skogåstorget 7-9\, Skogås\, 142 30\, Sweden
CATEGORIES:Workshop
ATTACH;FMTTYPE=image/jpeg:https://www.lyktan.net/wp-content/uploads/2025/05/OIP-1.jpeg
END:VEVENT
BEGIN:VEVENT
DTSTART;TZID=Europe/Stockholm:20261216T120000
DTEND;TZID=Europe/Stockholm:20261216T160000
DTSTAMP:20260426T015030
CREATED:20250902T000248Z
LAST-MODIFIED:20260131T042930Z
UID:10005145-1797422400-1797436800@www.lyktan.net
SUMMARY:Hantverk med Kathrine
DESCRIPTION:
URL:https://www.lyktan.net/event/hantverk-med-kathrine/2026-12-16/
LOCATION:Galleri Lyktan\, Skogåstorget 7-9\, Skogås\, 142 30\, Sweden
CATEGORIES:Workshop
ATTACH;FMTTYPE=image/jpeg:https://www.lyktan.net/wp-content/uploads/2025/05/OIP-1.jpeg
END:VEVENT
BEGIN:VEVENT
DTSTART;TZID=Europe/Stockholm:20261223T120000
DTEND;TZID=Europe/Stockholm:20261223T160000
DTSTAMP:20260426T015030
CREATED:20250902T000248Z
LAST-MODIFIED:20260131T042930Z
UID:10005146-1798027200-1798041600@www.lyktan.net
SUMMARY:Hantverk med Kathrine
DESCRIPTION:
URL:https://www.lyktan.net/event/hantverk-med-kathrine/2026-12-23/
LOCATION:Galleri Lyktan\, Skogåstorget 7-9\, Skogås\, 142 30\, Sweden
CATEGORIES:Workshop
ATTACH;FMTTYPE=image/jpeg:https://www.lyktan.net/wp-content/uploads/2025/05/OIP-1.jpeg
END:VEVENT
BEGIN:VEVENT
DTSTART;TZID=Europe/Stockholm:20261230T120000
DTEND;TZID=Europe/Stockholm:20261230T160000
DTSTAMP:20260426T015030
CREATED:20250902T000248Z
LAST-MODIFIED:20260131T042930Z
UID:10005147-1798632000-1798646400@www.lyktan.net
SUMMARY:Hantverk med Kathrine
DESCRIPTION:
URL:https://www.lyktan.net/event/hantverk-med-kathrine/2026-12-30/
LOCATION:Galleri Lyktan\, Skogåstorget 7-9\, Skogås\, 142 30\, Sweden
CATEGORIES:Workshop
ATTACH;FMTTYPE=image/jpeg:https://www.lyktan.net/wp-content/uploads/2025/05/OIP-1.jpeg
END:VEVENT
BEGIN:VEVENT
DTSTART;TZID=Europe/Stockholm:20270106T120000
DTEND;TZID=Europe/Stockholm:20270106T160000
DTSTAMP:20260426T015030
CREATED:20250902T000248Z
LAST-MODIFIED:20260131T042930Z
UID:10005148-1799236800-1799251200@www.lyktan.net
SUMMARY:Hantverk med Kathrine
DESCRIPTION:
URL:https://www.lyktan.net/event/hantverk-med-kathrine/2027-01-06/
LOCATION:Galleri Lyktan\, Skogåstorget 7-9\, Skogås\, 142 30\, Sweden
CATEGORIES:Workshop
ATTACH;FMTTYPE=image/jpeg:https://www.lyktan.net/wp-content/uploads/2025/05/OIP-1.jpeg
END:VEVENT
BEGIN:VEVENT
DTSTART;TZID=Europe/Stockholm:20270113T120000
DTEND;TZID=Europe/Stockholm:20270113T160000
DTSTAMP:20260426T015030
CREATED:20250902T000248Z
LAST-MODIFIED:20260131T042930Z
UID:10005149-1799841600-1799856000@www.lyktan.net
SUMMARY:Hantverk med Kathrine
DESCRIPTION:
URL:https://www.lyktan.net/event/hantverk-med-kathrine/2027-01-13/
LOCATION:Galleri Lyktan\, Skogåstorget 7-9\, Skogås\, 142 30\, Sweden
CATEGORIES:Workshop
ATTACH;FMTTYPE=image/jpeg:https://www.lyktan.net/wp-content/uploads/2025/05/OIP-1.jpeg
END:VEVENT
BEGIN:VEVENT
DTSTART;TZID=Europe/Stockholm:20270120T120000
DTEND;TZID=Europe/Stockholm:20270120T160000
DTSTAMP:20260426T015030
CREATED:20250902T000248Z
LAST-MODIFIED:20260131T042930Z
UID:10005150-1800446400-1800460800@www.lyktan.net
SUMMARY:Hantverk med Kathrine
DESCRIPTION:
URL:https://www.lyktan.net/event/hantverk-med-kathrine/2027-01-20/
LOCATION:Galleri Lyktan\, Skogåstorget 7-9\, Skogås\, 142 30\, Sweden
CATEGORIES:Workshop
ATTACH;FMTTYPE=image/jpeg:https://www.lyktan.net/wp-content/uploads/2025/05/OIP-1.jpeg
END:VEVENT
BEGIN:VEVENT
DTSTART;TZID=Europe/Stockholm:20270127T120000
DTEND;TZID=Europe/Stockholm:20270127T160000
DTSTAMP:20260426T015030
CREATED:20250902T000248Z
LAST-MODIFIED:20260131T042930Z
UID:10005151-1801051200-1801065600@www.lyktan.net
SUMMARY:Hantverk med Kathrine
DESCRIPTION:
URL:https://www.lyktan.net/event/hantverk-med-kathrine/2027-01-27/
LOCATION:Galleri Lyktan\, Skogåstorget 7-9\, Skogås\, 142 30\, Sweden
CATEGORIES:Workshop
ATTACH;FMTTYPE=image/jpeg:https://www.lyktan.net/wp-content/uploads/2025/05/OIP-1.jpeg
END:VEVENT
BEGIN:VEVENT
DTSTART;TZID=Europe/Stockholm:20270203T120000
DTEND;TZID=Europe/Stockholm:20270203T160000
DTSTAMP:20260426T015030
CREATED:20250902T000248Z
LAST-MODIFIED:20260131T042930Z
UID:10005152-1801656000-1801670400@www.lyktan.net
SUMMARY:Hantverk med Kathrine
DESCRIPTION:
URL:https://www.lyktan.net/event/hantverk-med-kathrine/2027-02-03/
LOCATION:Galleri Lyktan\, Skogåstorget 7-9\, Skogås\, 142 30\, Sweden
CATEGORIES:Workshop
ATTACH;FMTTYPE=image/jpeg:https://www.lyktan.net/wp-content/uploads/2025/05/OIP-1.jpeg
END:VEVENT
BEGIN:VEVENT
DTSTART;TZID=Europe/Stockholm:20270210T120000
DTEND;TZID=Europe/Stockholm:20270210T160000
DTSTAMP:20260426T015030
CREATED:20250902T000248Z
LAST-MODIFIED:20260131T042930Z
UID:10005153-1802260800-1802275200@www.lyktan.net
SUMMARY:Hantverk med Kathrine
DESCRIPTION:
URL:https://www.lyktan.net/event/hantverk-med-kathrine/2027-02-10/
LOCATION:Galleri Lyktan\, Skogåstorget 7-9\, Skogås\, 142 30\, Sweden
CATEGORIES:Workshop
ATTACH;FMTTYPE=image/jpeg:https://www.lyktan.net/wp-content/uploads/2025/05/OIP-1.jpeg
END:VEVENT
BEGIN:VEVENT
DTSTART;TZID=Europe/Stockholm:20270217T120000
DTEND;TZID=Europe/Stockholm:20270217T160000
DTSTAMP:20260426T015030
CREATED:20250902T000248Z
LAST-MODIFIED:20260131T042930Z
UID:10005154-1802865600-1802880000@www.lyktan.net
SUMMARY:Hantverk med Kathrine
DESCRIPTION:
URL:https://www.lyktan.net/event/hantverk-med-kathrine/2027-02-17/
LOCATION:Galleri Lyktan\, Skogåstorget 7-9\, Skogås\, 142 30\, Sweden
CATEGORIES:Workshop
ATTACH;FMTTYPE=image/jpeg:https://www.lyktan.net/wp-content/uploads/2025/05/OIP-1.jpeg
END:VEVENT
BEGIN:VEVENT
DTSTART;TZID=Europe/Stockholm:20270224T120000
DTEND;TZID=Europe/Stockholm:20270224T160000
DTSTAMP:20260426T015030
CREATED:20250902T000248Z
LAST-MODIFIED:20260131T042930Z
UID:10005155-1803470400-1803484800@www.lyktan.net
SUMMARY:Hantverk med Kathrine
DESCRIPTION:
URL:https://www.lyktan.net/event/hantverk-med-kathrine/2027-02-24/
LOCATION:Galleri Lyktan\, Skogåstorget 7-9\, Skogås\, 142 30\, Sweden
CATEGORIES:Workshop
ATTACH;FMTTYPE=image/jpeg:https://www.lyktan.net/wp-content/uploads/2025/05/OIP-1.jpeg
END:VEVENT
BEGIN:VEVENT
DTSTART;TZID=Europe/Stockholm:20270303T120000
DTEND;TZID=Europe/Stockholm:20270303T160000
DTSTAMP:20260426T015030
CREATED:20250902T000248Z
LAST-MODIFIED:20260131T042930Z
UID:10005156-1804075200-1804089600@www.lyktan.net
SUMMARY:Hantverk med Kathrine
DESCRIPTION:
URL:https://www.lyktan.net/event/hantverk-med-kathrine/2027-03-03/
LOCATION:Galleri Lyktan\, Skogåstorget 7-9\, Skogås\, 142 30\, Sweden
CATEGORIES:Workshop
ATTACH;FMTTYPE=image/jpeg:https://www.lyktan.net/wp-content/uploads/2025/05/OIP-1.jpeg
END:VEVENT
BEGIN:VEVENT
DTSTART;TZID=Europe/Stockholm:20270310T120000
DTEND;TZID=Europe/Stockholm:20270310T160000
DTSTAMP:20260426T015030
CREATED:20250902T000248Z
LAST-MODIFIED:20260131T042930Z
UID:10005157-1804680000-1804694400@www.lyktan.net
SUMMARY:Hantverk med Kathrine
DESCRIPTION:
URL:https://www.lyktan.net/event/hantverk-med-kathrine/2027-03-10/
LOCATION:Galleri Lyktan\, Skogåstorget 7-9\, Skogås\, 142 30\, Sweden
CATEGORIES:Workshop
ATTACH;FMTTYPE=image/jpeg:https://www.lyktan.net/wp-content/uploads/2025/05/OIP-1.jpeg
END:VEVENT
BEGIN:VEVENT
DTSTART;TZID=Europe/Stockholm:20270317T120000
DTEND;TZID=Europe/Stockholm:20270317T160000
DTSTAMP:20260426T015030
CREATED:20250902T000248Z
LAST-MODIFIED:20260131T042930Z
UID:10005158-1805284800-1805299200@www.lyktan.net
SUMMARY:Hantverk med Kathrine
DESCRIPTION:
URL:https://www.lyktan.net/event/hantverk-med-kathrine/2027-03-17/
LOCATION:Galleri Lyktan\, Skogåstorget 7-9\, Skogås\, 142 30\, Sweden
CATEGORIES:Workshop
ATTACH;FMTTYPE=image/jpeg:https://www.lyktan.net/wp-content/uploads/2025/05/OIP-1.jpeg
END:VEVENT
BEGIN:VEVENT
DTSTART;TZID=Europe/Stockholm:20270324T120000
DTEND;TZID=Europe/Stockholm:20270324T160000
DTSTAMP:20260426T015030
CREATED:20250902T000248Z
LAST-MODIFIED:20260131T042930Z
UID:10005159-1805889600-1805904000@www.lyktan.net
SUMMARY:Hantverk med Kathrine
DESCRIPTION:
URL:https://www.lyktan.net/event/hantverk-med-kathrine/2027-03-24/
LOCATION:Galleri Lyktan\, Skogåstorget 7-9\, Skogås\, 142 30\, Sweden
CATEGORIES:Workshop
ATTACH;FMTTYPE=image/jpeg:https://www.lyktan.net/wp-content/uploads/2025/05/OIP-1.jpeg
END:VEVENT
BEGIN:VEVENT
DTSTART;TZID=Europe/Stockholm:20270331T120000
DTEND;TZID=Europe/Stockholm:20270331T160000
DTSTAMP:20260426T015030
CREATED:20250902T000248Z
LAST-MODIFIED:20260131T042930Z
UID:10005160-1806494400-1806508800@www.lyktan.net
SUMMARY:Hantverk med Kathrine
DESCRIPTION:
URL:https://www.lyktan.net/event/hantverk-med-kathrine/2027-03-31/
LOCATION:Galleri Lyktan\, Skogåstorget 7-9\, Skogås\, 142 30\, Sweden
CATEGORIES:Workshop
ATTACH;FMTTYPE=image/jpeg:https://www.lyktan.net/wp-content/uploads/2025/05/OIP-1.jpeg
END:VEVENT
BEGIN:VEVENT
DTSTART;TZID=Europe/Stockholm:20270407T120000
DTEND;TZID=Europe/Stockholm:20270407T160000
DTSTAMP:20260426T015030
CREATED:20250902T000248Z
LAST-MODIFIED:20260131T042930Z
UID:10005161-1807099200-1807113600@www.lyktan.net
SUMMARY:Hantverk med Kathrine
DESCRIPTION:
URL:https://www.lyktan.net/event/hantverk-med-kathrine/2027-04-07/
LOCATION:Galleri Lyktan\, Skogåstorget 7-9\, Skogås\, 142 30\, Sweden
CATEGORIES:Workshop
ATTACH;FMTTYPE=image/jpeg:https://www.lyktan.net/wp-content/uploads/2025/05/OIP-1.jpeg
END:VEVENT
BEGIN:VEVENT
DTSTART;TZID=Europe/Stockholm:20270414T120000
DTEND;TZID=Europe/Stockholm:20270414T160000
DTSTAMP:20260426T015030
CREATED:20250902T000248Z
LAST-MODIFIED:20260131T042930Z
UID:10005162-1807704000-1807718400@www.lyktan.net
SUMMARY:Hantverk med Kathrine
DESCRIPTION:
URL:https://www.lyktan.net/event/hantverk-med-kathrine/2027-04-14/
LOCATION:Galleri Lyktan\, Skogåstorget 7-9\, Skogås\, 142 30\, Sweden
CATEGORIES:Workshop
ATTACH;FMTTYPE=image/jpeg:https://www.lyktan.net/wp-content/uploads/2025/05/OIP-1.jpeg
END:VEVENT
BEGIN:VEVENT
DTSTART;TZID=Europe/Stockholm:20270421T120000
DTEND;TZID=Europe/Stockholm:20270421T160000
DTSTAMP:20260426T015030
CREATED:20250902T000248Z
LAST-MODIFIED:20260131T042930Z
UID:10005163-1808308800-1808323200@www.lyktan.net
SUMMARY:Hantverk med Kathrine
DESCRIPTION:
URL:https://www.lyktan.net/event/hantverk-med-kathrine/2027-04-21/
LOCATION:Galleri Lyktan\, Skogåstorget 7-9\, Skogås\, 142 30\, Sweden
CATEGORIES:Workshop
ATTACH;FMTTYPE=image/jpeg:https://www.lyktan.net/wp-content/uploads/2025/05/OIP-1.jpeg
END:VEVENT
BEGIN:VEVENT
DTSTART;TZID=Europe/Stockholm:20270428T120000
DTEND;TZID=Europe/Stockholm:20270428T160000
DTSTAMP:20260426T015030
CREATED:20250902T000248Z
LAST-MODIFIED:20260131T042930Z
UID:10005164-1808913600-1808928000@www.lyktan.net
SUMMARY:Hantverk med Kathrine
DESCRIPTION:
URL:https://www.lyktan.net/event/hantverk-med-kathrine/2027-04-28/
LOCATION:Galleri Lyktan\, Skogåstorget 7-9\, Skogås\, 142 30\, Sweden
CATEGORIES:Workshop
ATTACH;FMTTYPE=image/jpeg:https://www.lyktan.net/wp-content/uploads/2025/05/OIP-1.jpeg
END:VEVENT
BEGIN:VEVENT
DTSTART;TZID=Europe/Stockholm:20270505T120000
DTEND;TZID=Europe/Stockholm:20270505T160000
DTSTAMP:20260426T015030
CREATED:20250902T000248Z
LAST-MODIFIED:20260131T042930Z
UID:10005165-1809518400-1809532800@www.lyktan.net
SUMMARY:Hantverk med Kathrine
DESCRIPTION:
URL:https://www.lyktan.net/event/hantverk-med-kathrine/2027-05-05/
LOCATION:Galleri Lyktan\, Skogåstorget 7-9\, Skogås\, 142 30\, Sweden
CATEGORIES:Workshop
ATTACH;FMTTYPE=image/jpeg:https://www.lyktan.net/wp-content/uploads/2025/05/OIP-1.jpeg
END:VEVENT
BEGIN:VEVENT
DTSTART;TZID=Europe/Stockholm:20270512T120000
DTEND;TZID=Europe/Stockholm:20270512T160000
DTSTAMP:20260426T015030
CREATED:20250902T000248Z
LAST-MODIFIED:20260131T042930Z
UID:10005166-1810123200-1810137600@www.lyktan.net
SUMMARY:Hantverk med Kathrine
DESCRIPTION:
URL:https://www.lyktan.net/event/hantverk-med-kathrine/2027-05-12/
LOCATION:Galleri Lyktan\, Skogåstorget 7-9\, Skogås\, 142 30\, Sweden
CATEGORIES:Workshop
ATTACH;FMTTYPE=image/jpeg:https://www.lyktan.net/wp-content/uploads/2025/05/OIP-1.jpeg
END:VEVENT
BEGIN:VEVENT
DTSTART;TZID=Europe/Stockholm:20270519T120000
DTEND;TZID=Europe/Stockholm:20270519T160000
DTSTAMP:20260426T015030
CREATED:20250902T000248Z
LAST-MODIFIED:20260131T042930Z
UID:10005167-1810728000-1810742400@www.lyktan.net
SUMMARY:Hantverk med Kathrine
DESCRIPTION:
URL:https://www.lyktan.net/event/hantverk-med-kathrine/2027-05-19/
LOCATION:Galleri Lyktan\, Skogåstorget 7-9\, Skogås\, 142 30\, Sweden
CATEGORIES:Workshop
ATTACH;FMTTYPE=image/jpeg:https://www.lyktan.net/wp-content/uploads/2025/05/OIP-1.jpeg
END:VEVENT
BEGIN:VEVENT
DTSTART;TZID=Europe/Stockholm:20270526T120000
DTEND;TZID=Europe/Stockholm:20270526T160000
DTSTAMP:20260426T015030
CREATED:20250902T000248Z
LAST-MODIFIED:20260131T042930Z
UID:10005168-1811332800-1811347200@www.lyktan.net
SUMMARY:Hantverk med Kathrine
DESCRIPTION:
URL:https://www.lyktan.net/event/hantverk-med-kathrine/2027-05-26/
LOCATION:Galleri Lyktan\, Skogåstorget 7-9\, Skogås\, 142 30\, Sweden
CATEGORIES:Workshop
ATTACH;FMTTYPE=image/jpeg:https://www.lyktan.net/wp-content/uploads/2025/05/OIP-1.jpeg
END:VEVENT
BEGIN:VEVENT
DTSTART;TZID=Europe/Stockholm:20270602T120000
DTEND;TZID=Europe/Stockholm:20270602T160000
DTSTAMP:20260426T015030
CREATED:20250902T000248Z
LAST-MODIFIED:20260131T042930Z
UID:10005169-1811937600-1811952000@www.lyktan.net
SUMMARY:Hantverk med Kathrine
DESCRIPTION:
URL:https://www.lyktan.net/event/hantverk-med-kathrine/2027-06-02/
LOCATION:Galleri Lyktan\, Skogåstorget 7-9\, Skogås\, 142 30\, Sweden
CATEGORIES:Workshop
ATTACH;FMTTYPE=image/jpeg:https://www.lyktan.net/wp-content/uploads/2025/05/OIP-1.jpeg
END:VEVENT
BEGIN:VEVENT
DTSTART;TZID=Europe/Stockholm:20270609T120000
DTEND;TZID=Europe/Stockholm:20270609T160000
DTSTAMP:20260426T015030
CREATED:20250902T000248Z
LAST-MODIFIED:20260131T042930Z
UID:10005170-1812542400-1812556800@www.lyktan.net
SUMMARY:Hantverk med Kathrine
DESCRIPTION:
URL:https://www.lyktan.net/event/hantverk-med-kathrine/2027-06-09/
LOCATION:Galleri Lyktan\, Skogåstorget 7-9\, Skogås\, 142 30\, Sweden
CATEGORIES:Workshop
ATTACH;FMTTYPE=image/jpeg:https://www.lyktan.net/wp-content/uploads/2025/05/OIP-1.jpeg
END:VEVENT
BEGIN:VEVENT
DTSTART;TZID=Europe/Stockholm:20270616T120000
DTEND;TZID=Europe/Stockholm:20270616T160000
DTSTAMP:20260426T015030
CREATED:20250902T000248Z
LAST-MODIFIED:20260131T042930Z
UID:10005171-1813147200-1813161600@www.lyktan.net
SUMMARY:Hantverk med Kathrine
DESCRIPTION:
URL:https://www.lyktan.net/event/hantverk-med-kathrine/2027-06-16/
LOCATION:Galleri Lyktan\, Skogåstorget 7-9\, Skogås\, 142 30\, Sweden
CATEGORIES:Workshop
ATTACH;FMTTYPE=image/jpeg:https://www.lyktan.net/wp-content/uploads/2025/05/OIP-1.jpeg
END:VEVENT
BEGIN:VEVENT
DTSTART;TZID=Europe/Stockholm:20270623T120000
DTEND;TZID=Europe/Stockholm:20270623T160000
DTSTAMP:20260426T015030
CREATED:20250902T000248Z
LAST-MODIFIED:20260131T042930Z
UID:10005172-1813752000-1813766400@www.lyktan.net
SUMMARY:Hantverk med Kathrine
DESCRIPTION:
URL:https://www.lyktan.net/event/hantverk-med-kathrine/2027-06-23/
LOCATION:Galleri Lyktan\, Skogåstorget 7-9\, Skogås\, 142 30\, Sweden
CATEGORIES:Workshop
ATTACH;FMTTYPE=image/jpeg:https://www.lyktan.net/wp-content/uploads/2025/05/OIP-1.jpeg
END:VEVENT
END:VCALENDAR