BEGIN:VCALENDAR
VERSION:2.0
PRODID:-//Kulturföreningen Lyktan - ECPv6.15.17.1//NONSGML v1.0//EN
CALSCALE:GREGORIAN
METHOD:PUBLISH
X-WR-CALNAME:Kulturföreningen Lyktan
X-ORIGINAL-URL:https://www.lyktan.net
X-WR-CALDESC:Händelser för Kulturföreningen Lyktan
REFRESH-INTERVAL;VALUE=DURATION:PT1H
X-Robots-Tag:noindex
X-PUBLISHED-TTL:PT1H
BEGIN:VTIMEZONE
TZID:Europe/Stockholm
BEGIN:DAYLIGHT
TZOFFSETFROM:+0100
TZOFFSETTO:+0200
TZNAME:CEST
DTSTART:20240331T010000
END:DAYLIGHT
BEGIN:STANDARD
TZOFFSETFROM:+0200
TZOFFSETTO:+0100
TZNAME:CET
DTSTART:20241027T010000
END:STANDARD
BEGIN:DAYLIGHT
TZOFFSETFROM:+0100
TZOFFSETTO:+0200
TZNAME:CEST
DTSTART:20250330T010000
END:DAYLIGHT
BEGIN:STANDARD
TZOFFSETFROM:+0200
TZOFFSETTO:+0100
TZNAME:CET
DTSTART:20251026T010000
END:STANDARD
BEGIN:DAYLIGHT
TZOFFSETFROM:+0100
TZOFFSETTO:+0200
TZNAME:CEST
DTSTART:20260329T010000
END:DAYLIGHT
BEGIN:STANDARD
TZOFFSETFROM:+0200
TZOFFSETTO:+0100
TZNAME:CET
DTSTART:20261025T010000
END:STANDARD
BEGIN:DAYLIGHT
TZOFFSETFROM:+0100
TZOFFSETTO:+0200
TZNAME:CEST
DTSTART:20270328T010000
END:DAYLIGHT
BEGIN:STANDARD
TZOFFSETFROM:+0200
TZOFFSETTO:+0100
TZNAME:CET
DTSTART:20271031T010000
END:STANDARD
END:VTIMEZONE
BEGIN:VEVENT
DTSTART;TZID=Europe/Stockholm:20250528T120000
DTEND;TZID=Europe/Stockholm:20250528T180000
DTSTAMP:20260426T050412
CREATED:20250521T104350Z
LAST-MODIFIED:20250522T104732Z
UID:10005066-1748433600-1748455200@www.lyktan.net
SUMMARY:Hantverksträff med Kathrine Hultman Eriksson
DESCRIPTION:
URL:https://www.lyktan.net/event/hantverkstraff-med-kathrine-hultman-eriksson/
LOCATION:Galleri Lyktan\, Skogåstorget 7-9\, Skogås\, 142 30\, Sweden
CATEGORIES:Hantverkarträff
ATTACH;FMTTYPE=image/jpeg:https://www.lyktan.net/wp-content/uploads/2025/05/OIP-1.jpeg
END:VEVENT
BEGIN:VEVENT
DTSTART;TZID=Europe/Stockholm:20250903T120000
DTEND;TZID=Europe/Stockholm:20250903T160000
DTSTAMP:20260426T050412
CREATED:20250902T000248Z
LAST-MODIFIED:20260131T042930Z
UID:10005078-1756900800-1756915200@www.lyktan.net
SUMMARY:Hantverk med Kathrine
DESCRIPTION:
URL:https://www.lyktan.net/event/hantverk-med-kathrine/2025-09-03/
LOCATION:Galleri Lyktan\, Skogåstorget 7-9\, Skogås\, 142 30\, Sweden
CATEGORIES:Workshop
ATTACH;FMTTYPE=image/jpeg:https://www.lyktan.net/wp-content/uploads/2025/05/OIP-1.jpeg
END:VEVENT
BEGIN:VEVENT
DTSTART;TZID=Europe/Stockholm:20250910T120000
DTEND;TZID=Europe/Stockholm:20250910T160000
DTSTAMP:20260426T050412
CREATED:20250902T000248Z
LAST-MODIFIED:20260131T042930Z
UID:10005079-1757505600-1757520000@www.lyktan.net
SUMMARY:Hantverk med Kathrine
DESCRIPTION:
URL:https://www.lyktan.net/event/hantverk-med-kathrine/2025-09-10/
LOCATION:Galleri Lyktan\, Skogåstorget 7-9\, Skogås\, 142 30\, Sweden
CATEGORIES:Workshop
ATTACH;FMTTYPE=image/jpeg:https://www.lyktan.net/wp-content/uploads/2025/05/OIP-1.jpeg
END:VEVENT
BEGIN:VEVENT
DTSTART;TZID=Europe/Stockholm:20250917T120000
DTEND;TZID=Europe/Stockholm:20250917T160000
DTSTAMP:20260426T050412
CREATED:20250902T000248Z
LAST-MODIFIED:20260131T042930Z
UID:10005080-1758110400-1758124800@www.lyktan.net
SUMMARY:Hantverk med Kathrine
DESCRIPTION:
URL:https://www.lyktan.net/event/hantverk-med-kathrine/2025-09-17/
LOCATION:Galleri Lyktan\, Skogåstorget 7-9\, Skogås\, 142 30\, Sweden
CATEGORIES:Workshop
ATTACH;FMTTYPE=image/jpeg:https://www.lyktan.net/wp-content/uploads/2025/05/OIP-1.jpeg
END:VEVENT
BEGIN:VEVENT
DTSTART;TZID=Europe/Stockholm:20250924T120000
DTEND;TZID=Europe/Stockholm:20250924T160000
DTSTAMP:20260426T050412
CREATED:20250902T000248Z
LAST-MODIFIED:20260131T042930Z
UID:10005081-1758715200-1758729600@www.lyktan.net
SUMMARY:Hantverk med Kathrine
DESCRIPTION:
URL:https://www.lyktan.net/event/hantverk-med-kathrine/2025-09-24/
LOCATION:Galleri Lyktan\, Skogåstorget 7-9\, Skogås\, 142 30\, Sweden
CATEGORIES:Workshop
ATTACH;FMTTYPE=image/jpeg:https://www.lyktan.net/wp-content/uploads/2025/05/OIP-1.jpeg
END:VEVENT
BEGIN:VEVENT
DTSTART;TZID=Europe/Stockholm:20251001T120000
DTEND;TZID=Europe/Stockholm:20251001T160000
DTSTAMP:20260426T050412
CREATED:20250902T000248Z
LAST-MODIFIED:20260131T042930Z
UID:10005082-1759320000-1759334400@www.lyktan.net
SUMMARY:Hantverk med Kathrine
DESCRIPTION:
URL:https://www.lyktan.net/event/hantverk-med-kathrine/2025-10-01/
LOCATION:Galleri Lyktan\, Skogåstorget 7-9\, Skogås\, 142 30\, Sweden
CATEGORIES:Workshop
ATTACH;FMTTYPE=image/jpeg:https://www.lyktan.net/wp-content/uploads/2025/05/OIP-1.jpeg
END:VEVENT
BEGIN:VEVENT
DTSTART;TZID=Europe/Stockholm:20251002T120000
DTEND;TZID=Europe/Stockholm:20251002T170000
DTSTAMP:20260426T050412
CREATED:20250902T000940Z
LAST-MODIFIED:20250902T000940Z
UID:10005733-1759406400-1759424400@www.lyktan.net
SUMMARY:Workshop. Introduction i läderhantverk
DESCRIPTION:
URL:https://www.lyktan.net/event/workshop-introduction-i-laderhantverk/2025-10-02/
LOCATION:Galleri Lyktan\, Skogåstorget 7-9\, Skogås\, 142 30\, Sweden
CATEGORIES:Workshop
END:VEVENT
BEGIN:VEVENT
DTSTART;TZID=Europe/Stockholm:20251003T120000
DTEND;TZID=Europe/Stockholm:20251003T170000
DTSTAMP:20260426T050412
CREATED:20250902T000940Z
LAST-MODIFIED:20250902T000940Z
UID:10005734-1759492800-1759510800@www.lyktan.net
SUMMARY:Workshop. Introduction i läderhantverk
DESCRIPTION:
URL:https://www.lyktan.net/event/workshop-introduction-i-laderhantverk/2025-10-03/
LOCATION:Galleri Lyktan\, Skogåstorget 7-9\, Skogås\, 142 30\, Sweden
CATEGORIES:Workshop
END:VEVENT
BEGIN:VEVENT
DTSTART;TZID=Europe/Stockholm:20251004T120000
DTEND;TZID=Europe/Stockholm:20251004T170000
DTSTAMP:20260426T050412
CREATED:20250902T000940Z
LAST-MODIFIED:20250902T000940Z
UID:10005735-1759579200-1759597200@www.lyktan.net
SUMMARY:Workshop. Introduction i läderhantverk
DESCRIPTION:
URL:https://www.lyktan.net/event/workshop-introduction-i-laderhantverk/2025-10-04/
LOCATION:Galleri Lyktan\, Skogåstorget 7-9\, Skogås\, 142 30\, Sweden
CATEGORIES:Workshop
END:VEVENT
BEGIN:VEVENT
DTSTART;TZID=Europe/Stockholm:20251008T120000
DTEND;TZID=Europe/Stockholm:20251008T160000
DTSTAMP:20260426T050412
CREATED:20250902T000248Z
LAST-MODIFIED:20260131T042930Z
UID:10005083-1759924800-1759939200@www.lyktan.net
SUMMARY:Hantverk med Kathrine
DESCRIPTION:
URL:https://www.lyktan.net/event/hantverk-med-kathrine/2025-10-08/
LOCATION:Galleri Lyktan\, Skogåstorget 7-9\, Skogås\, 142 30\, Sweden
CATEGORIES:Workshop
ATTACH;FMTTYPE=image/jpeg:https://www.lyktan.net/wp-content/uploads/2025/05/OIP-1.jpeg
END:VEVENT
BEGIN:VEVENT
DTSTART;TZID=Europe/Stockholm:20251015T120000
DTEND;TZID=Europe/Stockholm:20251015T160000
DTSTAMP:20260426T050412
CREATED:20250902T000248Z
LAST-MODIFIED:20260131T042930Z
UID:10005084-1760529600-1760544000@www.lyktan.net
SUMMARY:Hantverk med Kathrine
DESCRIPTION:
URL:https://www.lyktan.net/event/hantverk-med-kathrine/2025-10-15/
LOCATION:Galleri Lyktan\, Skogåstorget 7-9\, Skogås\, 142 30\, Sweden
CATEGORIES:Workshop
ATTACH;FMTTYPE=image/jpeg:https://www.lyktan.net/wp-content/uploads/2025/05/OIP-1.jpeg
END:VEVENT
BEGIN:VEVENT
DTSTART;TZID=Europe/Stockholm:20251022T120000
DTEND;TZID=Europe/Stockholm:20251022T160000
DTSTAMP:20260426T050412
CREATED:20250902T000248Z
LAST-MODIFIED:20260131T042930Z
UID:10005085-1761134400-1761148800@www.lyktan.net
SUMMARY:Hantverk med Kathrine
DESCRIPTION:
URL:https://www.lyktan.net/event/hantverk-med-kathrine/2025-10-22/
LOCATION:Galleri Lyktan\, Skogåstorget 7-9\, Skogås\, 142 30\, Sweden
CATEGORIES:Workshop
ATTACH;FMTTYPE=image/jpeg:https://www.lyktan.net/wp-content/uploads/2025/05/OIP-1.jpeg
END:VEVENT
BEGIN:VEVENT
DTSTART;TZID=Europe/Stockholm:20251029T120000
DTEND;TZID=Europe/Stockholm:20251029T160000
DTSTAMP:20260426T050412
CREATED:20250902T000248Z
LAST-MODIFIED:20260131T042930Z
UID:10005086-1761739200-1761753600@www.lyktan.net
SUMMARY:Hantverk med Kathrine
DESCRIPTION:
URL:https://www.lyktan.net/event/hantverk-med-kathrine/2025-10-29/
LOCATION:Galleri Lyktan\, Skogåstorget 7-9\, Skogås\, 142 30\, Sweden
CATEGORIES:Workshop
ATTACH;FMTTYPE=image/jpeg:https://www.lyktan.net/wp-content/uploads/2025/05/OIP-1.jpeg
END:VEVENT
BEGIN:VEVENT
DTSTART;TZID=Europe/Stockholm:20251105T120000
DTEND;TZID=Europe/Stockholm:20251105T160000
DTSTAMP:20260426T050412
CREATED:20250902T000248Z
LAST-MODIFIED:20260131T042930Z
UID:10005087-1762344000-1762358400@www.lyktan.net
SUMMARY:Hantverk med Kathrine
DESCRIPTION:
URL:https://www.lyktan.net/event/hantverk-med-kathrine/2025-11-05/
LOCATION:Galleri Lyktan\, Skogåstorget 7-9\, Skogås\, 142 30\, Sweden
CATEGORIES:Workshop
ATTACH;FMTTYPE=image/jpeg:https://www.lyktan.net/wp-content/uploads/2025/05/OIP-1.jpeg
END:VEVENT
BEGIN:VEVENT
DTSTART;TZID=Europe/Stockholm:20251112T120000
DTEND;TZID=Europe/Stockholm:20251112T160000
DTSTAMP:20260426T050412
CREATED:20250902T000248Z
LAST-MODIFIED:20260131T042930Z
UID:10005088-1762948800-1762963200@www.lyktan.net
SUMMARY:Hantverk med Kathrine
DESCRIPTION:
URL:https://www.lyktan.net/event/hantverk-med-kathrine/2025-11-12/
LOCATION:Galleri Lyktan\, Skogåstorget 7-9\, Skogås\, 142 30\, Sweden
CATEGORIES:Workshop
ATTACH;FMTTYPE=image/jpeg:https://www.lyktan.net/wp-content/uploads/2025/05/OIP-1.jpeg
END:VEVENT
BEGIN:VEVENT
DTSTART;TZID=Europe/Stockholm:20251119T120000
DTEND;TZID=Europe/Stockholm:20251119T160000
DTSTAMP:20260426T050412
CREATED:20250902T000248Z
LAST-MODIFIED:20260131T042930Z
UID:10005089-1763553600-1763568000@www.lyktan.net
SUMMARY:Hantverk med Kathrine
DESCRIPTION:
URL:https://www.lyktan.net/event/hantverk-med-kathrine/2025-11-19/
LOCATION:Galleri Lyktan\, Skogåstorget 7-9\, Skogås\, 142 30\, Sweden
CATEGORIES:Workshop
ATTACH;FMTTYPE=image/jpeg:https://www.lyktan.net/wp-content/uploads/2025/05/OIP-1.jpeg
END:VEVENT
BEGIN:VEVENT
DTSTART;TZID=Europe/Stockholm:20251126T120000
DTEND;TZID=Europe/Stockholm:20251126T160000
DTSTAMP:20260426T050412
CREATED:20250902T000248Z
LAST-MODIFIED:20260131T042930Z
UID:10005090-1764158400-1764172800@www.lyktan.net
SUMMARY:Hantverk med Kathrine
DESCRIPTION:
URL:https://www.lyktan.net/event/hantverk-med-kathrine/2025-11-26/
LOCATION:Galleri Lyktan\, Skogåstorget 7-9\, Skogås\, 142 30\, Sweden
CATEGORIES:Workshop
ATTACH;FMTTYPE=image/jpeg:https://www.lyktan.net/wp-content/uploads/2025/05/OIP-1.jpeg
END:VEVENT
BEGIN:VEVENT
DTSTART;TZID=Europe/Stockholm:20251203T120000
DTEND;TZID=Europe/Stockholm:20251203T160000
DTSTAMP:20260426T050412
CREATED:20250902T000248Z
LAST-MODIFIED:20260131T042930Z
UID:10005091-1764763200-1764777600@www.lyktan.net
SUMMARY:Hantverk med Kathrine
DESCRIPTION:
URL:https://www.lyktan.net/event/hantverk-med-kathrine/2025-12-03/
LOCATION:Galleri Lyktan\, Skogåstorget 7-9\, Skogås\, 142 30\, Sweden
CATEGORIES:Workshop
ATTACH;FMTTYPE=image/jpeg:https://www.lyktan.net/wp-content/uploads/2025/05/OIP-1.jpeg
END:VEVENT
BEGIN:VEVENT
DTSTART;TZID=Europe/Stockholm:20251210T120000
DTEND;TZID=Europe/Stockholm:20251210T160000
DTSTAMP:20260426T050412
CREATED:20250902T000248Z
LAST-MODIFIED:20260131T042930Z
UID:10005092-1765368000-1765382400@www.lyktan.net
SUMMARY:Hantverk med Kathrine
DESCRIPTION:
URL:https://www.lyktan.net/event/hantverk-med-kathrine/2025-12-10/
LOCATION:Galleri Lyktan\, Skogåstorget 7-9\, Skogås\, 142 30\, Sweden
CATEGORIES:Workshop
ATTACH;FMTTYPE=image/jpeg:https://www.lyktan.net/wp-content/uploads/2025/05/OIP-1.jpeg
END:VEVENT
BEGIN:VEVENT
DTSTART;TZID=Europe/Stockholm:20251217T120000
DTEND;TZID=Europe/Stockholm:20251217T160000
DTSTAMP:20260426T050412
CREATED:20250902T000248Z
LAST-MODIFIED:20260131T042930Z
UID:10005093-1765972800-1765987200@www.lyktan.net
SUMMARY:Hantverk med Kathrine
DESCRIPTION:
URL:https://www.lyktan.net/event/hantverk-med-kathrine/2025-12-17/
LOCATION:Galleri Lyktan\, Skogåstorget 7-9\, Skogås\, 142 30\, Sweden
CATEGORIES:Workshop
ATTACH;FMTTYPE=image/jpeg:https://www.lyktan.net/wp-content/uploads/2025/05/OIP-1.jpeg
END:VEVENT
BEGIN:VEVENT
DTSTART;TZID=Europe/Stockholm:20251224T120000
DTEND;TZID=Europe/Stockholm:20251224T160000
DTSTAMP:20260426T050412
CREATED:20250902T000248Z
LAST-MODIFIED:20260131T042930Z
UID:10005094-1766577600-1766592000@www.lyktan.net
SUMMARY:Hantverk med Kathrine
DESCRIPTION:
URL:https://www.lyktan.net/event/hantverk-med-kathrine/2025-12-24/
LOCATION:Galleri Lyktan\, Skogåstorget 7-9\, Skogås\, 142 30\, Sweden
CATEGORIES:Workshop
ATTACH;FMTTYPE=image/jpeg:https://www.lyktan.net/wp-content/uploads/2025/05/OIP-1.jpeg
END:VEVENT
BEGIN:VEVENT
DTSTART;TZID=Europe/Stockholm:20251231T120000
DTEND;TZID=Europe/Stockholm:20251231T160000
DTSTAMP:20260426T050412
CREATED:20250902T000248Z
LAST-MODIFIED:20260131T042930Z
UID:10005095-1767182400-1767196800@www.lyktan.net
SUMMARY:Hantverk med Kathrine
DESCRIPTION:
URL:https://www.lyktan.net/event/hantverk-med-kathrine/2025-12-31/
LOCATION:Galleri Lyktan\, Skogåstorget 7-9\, Skogås\, 142 30\, Sweden
CATEGORIES:Workshop
ATTACH;FMTTYPE=image/jpeg:https://www.lyktan.net/wp-content/uploads/2025/05/OIP-1.jpeg
END:VEVENT
BEGIN:VEVENT
DTSTART;TZID=Europe/Stockholm:20260107T120000
DTEND;TZID=Europe/Stockholm:20260107T160000
DTSTAMP:20260426T050412
CREATED:20250902T000248Z
LAST-MODIFIED:20260131T042930Z
UID:10005096-1767787200-1767801600@www.lyktan.net
SUMMARY:Hantverk med Kathrine
DESCRIPTION:
URL:https://www.lyktan.net/event/hantverk-med-kathrine/2026-01-07/
LOCATION:Galleri Lyktan\, Skogåstorget 7-9\, Skogås\, 142 30\, Sweden
CATEGORIES:Workshop
ATTACH;FMTTYPE=image/jpeg:https://www.lyktan.net/wp-content/uploads/2025/05/OIP-1.jpeg
END:VEVENT
BEGIN:VEVENT
DTSTART;TZID=Europe/Stockholm:20260114T120000
DTEND;TZID=Europe/Stockholm:20260114T160000
DTSTAMP:20260426T050412
CREATED:20250902T000248Z
LAST-MODIFIED:20260131T042930Z
UID:10005097-1768392000-1768406400@www.lyktan.net
SUMMARY:Hantverk med Kathrine
DESCRIPTION:
URL:https://www.lyktan.net/event/hantverk-med-kathrine/2026-01-14/
LOCATION:Galleri Lyktan\, Skogåstorget 7-9\, Skogås\, 142 30\, Sweden
CATEGORIES:Workshop
ATTACH;FMTTYPE=image/jpeg:https://www.lyktan.net/wp-content/uploads/2025/05/OIP-1.jpeg
END:VEVENT
BEGIN:VEVENT
DTSTART;TZID=Europe/Stockholm:20260121T120000
DTEND;TZID=Europe/Stockholm:20260121T160000
DTSTAMP:20260426T050412
CREATED:20250902T000248Z
LAST-MODIFIED:20260131T042930Z
UID:10005098-1768996800-1769011200@www.lyktan.net
SUMMARY:Hantverk med Kathrine
DESCRIPTION:
URL:https://www.lyktan.net/event/hantverk-med-kathrine/2026-01-21/
LOCATION:Galleri Lyktan\, Skogåstorget 7-9\, Skogås\, 142 30\, Sweden
CATEGORIES:Workshop
ATTACH;FMTTYPE=image/jpeg:https://www.lyktan.net/wp-content/uploads/2025/05/OIP-1.jpeg
END:VEVENT
BEGIN:VEVENT
DTSTART;TZID=Europe/Stockholm:20260128T120000
DTEND;TZID=Europe/Stockholm:20260128T160000
DTSTAMP:20260426T050412
CREATED:20250902T000248Z
LAST-MODIFIED:20260131T042930Z
UID:10005099-1769601600-1769616000@www.lyktan.net
SUMMARY:Hantverk med Kathrine
DESCRIPTION:
URL:https://www.lyktan.net/event/hantverk-med-kathrine/2026-01-28/
LOCATION:Galleri Lyktan\, Skogåstorget 7-9\, Skogås\, 142 30\, Sweden
CATEGORIES:Workshop
ATTACH;FMTTYPE=image/jpeg:https://www.lyktan.net/wp-content/uploads/2025/05/OIP-1.jpeg
END:VEVENT
BEGIN:VEVENT
DTSTART;TZID=Europe/Stockholm:20260204T120000
DTEND;TZID=Europe/Stockholm:20260204T160000
DTSTAMP:20260426T050412
CREATED:20250902T000248Z
LAST-MODIFIED:20260131T042930Z
UID:10005100-1770206400-1770220800@www.lyktan.net
SUMMARY:Hantverk med Kathrine
DESCRIPTION:
URL:https://www.lyktan.net/event/hantverk-med-kathrine/2026-02-04/
LOCATION:Galleri Lyktan\, Skogåstorget 7-9\, Skogås\, 142 30\, Sweden
CATEGORIES:Workshop
ATTACH;FMTTYPE=image/jpeg:https://www.lyktan.net/wp-content/uploads/2025/05/OIP-1.jpeg
END:VEVENT
BEGIN:VEVENT
DTSTART;TZID=Europe/Stockholm:20260211T120000
DTEND;TZID=Europe/Stockholm:20260211T160000
DTSTAMP:20260426T050412
CREATED:20250902T000248Z
LAST-MODIFIED:20260131T042930Z
UID:10005101-1770811200-1770825600@www.lyktan.net
SUMMARY:Hantverk med Kathrine
DESCRIPTION:
URL:https://www.lyktan.net/event/hantverk-med-kathrine/2026-02-11/
LOCATION:Galleri Lyktan\, Skogåstorget 7-9\, Skogås\, 142 30\, Sweden
CATEGORIES:Workshop
ATTACH;FMTTYPE=image/jpeg:https://www.lyktan.net/wp-content/uploads/2025/05/OIP-1.jpeg
END:VEVENT
BEGIN:VEVENT
DTSTART;TZID=Europe/Stockholm:20260218T120000
DTEND;TZID=Europe/Stockholm:20260218T160000
DTSTAMP:20260426T050412
CREATED:20250902T000248Z
LAST-MODIFIED:20260131T042930Z
UID:10005102-1771416000-1771430400@www.lyktan.net
SUMMARY:Hantverk med Kathrine
DESCRIPTION:
URL:https://www.lyktan.net/event/hantverk-med-kathrine/2026-02-18/
LOCATION:Galleri Lyktan\, Skogåstorget 7-9\, Skogås\, 142 30\, Sweden
CATEGORIES:Workshop
ATTACH;FMTTYPE=image/jpeg:https://www.lyktan.net/wp-content/uploads/2025/05/OIP-1.jpeg
END:VEVENT
BEGIN:VEVENT
DTSTART;TZID=Europe/Stockholm:20260225T120000
DTEND;TZID=Europe/Stockholm:20260225T160000
DTSTAMP:20260426T050412
CREATED:20250902T000248Z
LAST-MODIFIED:20260131T042930Z
UID:10005103-1772020800-1772035200@www.lyktan.net
SUMMARY:Hantverk med Kathrine
DESCRIPTION:
URL:https://www.lyktan.net/event/hantverk-med-kathrine/2026-02-25/
LOCATION:Galleri Lyktan\, Skogåstorget 7-9\, Skogås\, 142 30\, Sweden
CATEGORIES:Workshop
ATTACH;FMTTYPE=image/jpeg:https://www.lyktan.net/wp-content/uploads/2025/05/OIP-1.jpeg
END:VEVENT
END:VCALENDAR