BEGIN:VCALENDAR
VERSION:2.0
PRODID:-//Kulturföreningen Lyktan - ECPv6.15.17.1//NONSGML v1.0//EN
CALSCALE:GREGORIAN
METHOD:PUBLISH
X-WR-CALNAME:Kulturföreningen Lyktan
X-ORIGINAL-URL:https://www.lyktan.net
X-WR-CALDESC:Händelser för Kulturföreningen Lyktan
REFRESH-INTERVAL;VALUE=DURATION:PT1H
X-Robots-Tag:noindex
X-PUBLISHED-TTL:PT1H
BEGIN:VTIMEZONE
TZID:Europe/Stockholm
BEGIN:DAYLIGHT
TZOFFSETFROM:+0100
TZOFFSETTO:+0200
TZNAME:CEST
DTSTART:20250330T010000
END:DAYLIGHT
BEGIN:STANDARD
TZOFFSETFROM:+0200
TZOFFSETTO:+0100
TZNAME:CET
DTSTART:20251026T010000
END:STANDARD
BEGIN:DAYLIGHT
TZOFFSETFROM:+0100
TZOFFSETTO:+0200
TZNAME:CEST
DTSTART:20260329T010000
END:DAYLIGHT
BEGIN:STANDARD
TZOFFSETFROM:+0200
TZOFFSETTO:+0100
TZNAME:CET
DTSTART:20261025T010000
END:STANDARD
BEGIN:DAYLIGHT
TZOFFSETFROM:+0100
TZOFFSETTO:+0200
TZNAME:CEST
DTSTART:20270328T010000
END:DAYLIGHT
BEGIN:STANDARD
TZOFFSETFROM:+0200
TZOFFSETTO:+0100
TZNAME:CET
DTSTART:20271031T010000
END:STANDARD
END:VTIMEZONE
BEGIN:VEVENT
DTSTART;VALUE=DATE:20260413
DTEND;VALUE=DATE:20260414
DTSTAMP:20260426T051512
CREATED:20250907T085224Z
LAST-MODIFIED:20260131T045303Z
UID:10005814-1776038400-1776124799@www.lyktan.net
SUMMARY:STÄNGT
DESCRIPTION:Denna dagen har vi stängt
URL:https://www.lyktan.net/event/stangt/2026-04-13/
CATEGORIES:Stängd
ATTACH;FMTTYPE=image/jpeg:https://www.lyktan.net/wp-content/uploads/2025/09/R.jpeg
END:VEVENT
BEGIN:VEVENT
DTSTART;TZID=Europe/Stockholm:20260416T180000
DTEND;TZID=Europe/Stockholm:20260416T200000
DTSTAMP:20260426T051512
CREATED:20250902T000603Z
LAST-MODIFIED:20250902T000603Z
UID:10005502-1776362400-1776369600@www.lyktan.net
SUMMARY:Torsdagsträffar
DESCRIPTION:
URL:https://www.lyktan.net/event/torsdagstraffar/2026-04-16/
CATEGORIES:Samtal
END:VEVENT
BEGIN:VEVENT
DTSTART;VALUE=DATE:20260419
DTEND;VALUE=DATE:20260420
DTSTAMP:20260426T051512
CREATED:20250907T085224Z
LAST-MODIFIED:20260131T045303Z
UID:10005815-1776556800-1776643199@www.lyktan.net
SUMMARY:STÄNGT
DESCRIPTION:Denna dagen har vi stängt
URL:https://www.lyktan.net/event/stangt/2026-04-19/
CATEGORIES:Stängd
ATTACH;FMTTYPE=image/jpeg:https://www.lyktan.net/wp-content/uploads/2025/09/R.jpeg
END:VEVENT
BEGIN:VEVENT
DTSTART;TZID=Europe/Stockholm:20260419T130000
DTEND;TZID=Europe/Stockholm:20260419T140000
DTSTAMP:20260426T051512
CREATED:20260304T021711Z
LAST-MODIFIED:20260304T234108Z
UID:10009037-1776603600-1776607200@www.lyktan.net
SUMMARY:Cirkelns mitt – Mötesplatser - Workshop
DESCRIPTION:Cirkelns mitt – Mötesplatser är också en konstnärlig workshop som hålls på Galleri Lyktan i Skogås centrum där konstnärens utställning fortsätter: \n\n\n\n22 & 29 mars \n\n\n\n12 & 19 aprilkl. 13–14 \n\n\n\nAlla är välkomna. Avgiftsfritt. Ingen förkunskap behövs. \n\n\n\nAnita Wernström (f. 1980) är en konstnär baserad i Stockholm\, uppvuxen i Skogås.  \n\n\n\nHon arbetar med materialitet\, lärande och det kollektiva genom ett intuitivt och konceptuellt uttryck. Wernström har en Bachelor of Arts i fri konst från The Slade School of Fine Art\, University College London. Hennes verk har visats internationellt\, bland annat på Bloomsbury New Contemporaries och Camden Art Centre i London. På Statens Konstråd samt Färgfabriken i Stockholm. 
URL:https://www.lyktan.net/event/cirkelns-mitt-motesplatser-workshop/2026-04-19/
LOCATION:Galleri Lyktan\, Skogåstorget 7-9\, Skogås\, 142 30\, Sweden
CATEGORIES:Utställning,Workshop
ATTACH;FMTTYPE=image/jpeg:https://www.lyktan.net/wp-content/uploads/2026/03/Affich_Circelns_mitt.1-scaled.jpg
END:VEVENT
BEGIN:VEVENT
DTSTART;VALUE=DATE:20260420
DTEND;VALUE=DATE:20260421
DTSTAMP:20260426T051512
CREATED:20250907T085224Z
LAST-MODIFIED:20260131T045303Z
UID:10005816-1776643200-1776729599@www.lyktan.net
SUMMARY:STÄNGT
DESCRIPTION:Denna dagen har vi stängt
URL:https://www.lyktan.net/event/stangt/2026-04-20/
CATEGORIES:Stängd
ATTACH;FMTTYPE=image/jpeg:https://www.lyktan.net/wp-content/uploads/2025/09/R.jpeg
END:VEVENT
BEGIN:VEVENT
DTSTART;TZID=Europe/Stockholm:20260423T180000
DTEND;TZID=Europe/Stockholm:20260423T200000
DTSTAMP:20260426T051512
CREATED:20250902T000603Z
LAST-MODIFIED:20250902T000603Z
UID:10005503-1776967200-1776974400@www.lyktan.net
SUMMARY:Torsdagsträffar
DESCRIPTION:
URL:https://www.lyktan.net/event/torsdagstraffar/2026-04-23/
CATEGORIES:Samtal
END:VEVENT
BEGIN:VEVENT
DTSTART;TZID=Europe/Stockholm:20260425T120000
DTEND;TZID=Europe/Stockholm:20260425T180000
DTSTAMP:20260426T051512
CREATED:20260131T043240Z
LAST-MODIFIED:20260131T043241Z
UID:10008395-1777118400-1777140000@www.lyktan.net
SUMMARY:Vernissage Keramik
DESCRIPTION:Keramik (av grekiska: keramos\, krukmakarlera) betecknar såväl framställningen\, som själva godsen av bränd plastisk lera\, såsom lergods\, stengods\, flintgods\, porslin\, fajans med mera. Ett av de äldsta kända föremålen i keramik är Venus från Dolní Věstonice\, omkring 26 000 år gammal\, tillverkad av lera magrad med benmjöl.Under utställningen ordnas en föreläsning om keramik.
URL:https://www.lyktan.net/event/vernissage-keramik/
LOCATION:Galleri Lyktan\, Skogåstorget 7-9\, Skogås\, 142 30\, Sweden
CATEGORIES:Utställning,Vernissage
END:VEVENT
BEGIN:VEVENT
DTSTART;TZID=Europe/Stockholm:20260425T120000
DTEND;TZID=Europe/Stockholm:20260425T180000
DTSTAMP:20260426T051512
CREATED:20260131T043356Z
LAST-MODIFIED:20260131T043359Z
UID:10008396-1777118400-1777140000@www.lyktan.net
SUMMARY:Keramik
DESCRIPTION:Keramik (av grekiska: keramos\, krukmakarlera) betecknar såväl framställningen\, som själva godsen av bränd plastisk lera\, såsom lergods\, stengods\, flintgods\, porslin\, fajans med mera. Ett av de äldsta kända föremålen i keramik är Venus från Dolní Věstonice\, omkring 26 000 år gammal\, tillverkad av lera magrad med benmjöl.Under utställningen ordnas en föreläsning om keramik.
URL:https://www.lyktan.net/event/keramik/2026-04-25/
LOCATION:Galleri Lyktan\, Skogåstorget 7-9\, Skogås\, 142 30\, Sweden
CATEGORIES:Utställning,Vernissage
END:VEVENT
BEGIN:VEVENT
DTSTART;VALUE=DATE:20260426
DTEND;VALUE=DATE:20260427
DTSTAMP:20260426T051512
CREATED:20250907T085224Z
LAST-MODIFIED:20260131T045303Z
UID:10005817-1777161600-1777247999@www.lyktan.net
SUMMARY:STÄNGT
DESCRIPTION:Denna dagen har vi stängt
URL:https://www.lyktan.net/event/stangt/2026-04-26/
CATEGORIES:Stängd
ATTACH;FMTTYPE=image/jpeg:https://www.lyktan.net/wp-content/uploads/2025/09/R.jpeg
END:VEVENT
BEGIN:VEVENT
DTSTART;VALUE=DATE:20260427
DTEND;VALUE=DATE:20260428
DTSTAMP:20260426T051512
CREATED:20250907T085224Z
LAST-MODIFIED:20260131T045303Z
UID:10005818-1777248000-1777334399@www.lyktan.net
SUMMARY:STÄNGT
DESCRIPTION:Denna dagen har vi stängt
URL:https://www.lyktan.net/event/stangt/2026-04-27/
CATEGORIES:Stängd
ATTACH;FMTTYPE=image/jpeg:https://www.lyktan.net/wp-content/uploads/2025/09/R.jpeg
END:VEVENT
BEGIN:VEVENT
DTSTART;TZID=Europe/Stockholm:20260428T120000
DTEND;TZID=Europe/Stockholm:20260428T180000
DTSTAMP:20260426T051512
CREATED:20260131T043356Z
LAST-MODIFIED:20260131T043359Z
UID:10008397-1777377600-1777399200@www.lyktan.net
SUMMARY:Keramik
DESCRIPTION:Keramik (av grekiska: keramos\, krukmakarlera) betecknar såväl framställningen\, som själva godsen av bränd plastisk lera\, såsom lergods\, stengods\, flintgods\, porslin\, fajans med mera. Ett av de äldsta kända föremålen i keramik är Venus från Dolní Věstonice\, omkring 26 000 år gammal\, tillverkad av lera magrad med benmjöl.Under utställningen ordnas en föreläsning om keramik.
URL:https://www.lyktan.net/event/keramik/2026-04-28/
LOCATION:Galleri Lyktan\, Skogåstorget 7-9\, Skogås\, 142 30\, Sweden
CATEGORIES:Utställning,Vernissage
END:VEVENT
BEGIN:VEVENT
DTSTART;TZID=Europe/Stockholm:20260429T120000
DTEND;TZID=Europe/Stockholm:20260429T180000
DTSTAMP:20260426T051512
CREATED:20260131T043356Z
LAST-MODIFIED:20260131T043359Z
UID:10008398-1777464000-1777485600@www.lyktan.net
SUMMARY:Keramik
DESCRIPTION:Keramik (av grekiska: keramos\, krukmakarlera) betecknar såväl framställningen\, som själva godsen av bränd plastisk lera\, såsom lergods\, stengods\, flintgods\, porslin\, fajans med mera. Ett av de äldsta kända föremålen i keramik är Venus från Dolní Věstonice\, omkring 26 000 år gammal\, tillverkad av lera magrad med benmjöl.Under utställningen ordnas en föreläsning om keramik.
URL:https://www.lyktan.net/event/keramik/2026-04-29/
LOCATION:Galleri Lyktan\, Skogåstorget 7-9\, Skogås\, 142 30\, Sweden
CATEGORIES:Utställning,Vernissage
END:VEVENT
BEGIN:VEVENT
DTSTART;TZID=Europe/Stockholm:20260430T120000
DTEND;TZID=Europe/Stockholm:20260430T180000
DTSTAMP:20260426T051512
CREATED:20260131T043356Z
LAST-MODIFIED:20260131T043359Z
UID:10008399-1777550400-1777572000@www.lyktan.net
SUMMARY:Keramik
DESCRIPTION:Keramik (av grekiska: keramos\, krukmakarlera) betecknar såväl framställningen\, som själva godsen av bränd plastisk lera\, såsom lergods\, stengods\, flintgods\, porslin\, fajans med mera. Ett av de äldsta kända föremålen i keramik är Venus från Dolní Věstonice\, omkring 26 000 år gammal\, tillverkad av lera magrad med benmjöl.Under utställningen ordnas en föreläsning om keramik.
URL:https://www.lyktan.net/event/keramik/2026-04-30/
LOCATION:Galleri Lyktan\, Skogåstorget 7-9\, Skogås\, 142 30\, Sweden
CATEGORIES:Utställning,Vernissage
END:VEVENT
BEGIN:VEVENT
DTSTART;TZID=Europe/Stockholm:20260430T180000
DTEND;TZID=Europe/Stockholm:20260430T200000
DTSTAMP:20260426T051512
CREATED:20250902T000603Z
LAST-MODIFIED:20250902T000603Z
UID:10005504-1777572000-1777579200@www.lyktan.net
SUMMARY:Torsdagsträffar
DESCRIPTION:
URL:https://www.lyktan.net/event/torsdagstraffar/2026-04-30/
CATEGORIES:Samtal
END:VEVENT
BEGIN:VEVENT
DTSTART;TZID=Europe/Stockholm:20260501T120000
DTEND;TZID=Europe/Stockholm:20260501T180000
DTSTAMP:20260426T051512
CREATED:20260131T043356Z
LAST-MODIFIED:20260131T043359Z
UID:10008400-1777636800-1777658400@www.lyktan.net
SUMMARY:Keramik
DESCRIPTION:Keramik (av grekiska: keramos\, krukmakarlera) betecknar såväl framställningen\, som själva godsen av bränd plastisk lera\, såsom lergods\, stengods\, flintgods\, porslin\, fajans med mera. Ett av de äldsta kända föremålen i keramik är Venus från Dolní Věstonice\, omkring 26 000 år gammal\, tillverkad av lera magrad med benmjöl.Under utställningen ordnas en föreläsning om keramik.
URL:https://www.lyktan.net/event/keramik/2026-05-01/
LOCATION:Galleri Lyktan\, Skogåstorget 7-9\, Skogås\, 142 30\, Sweden
CATEGORIES:Utställning,Vernissage
END:VEVENT
BEGIN:VEVENT
DTSTART;TZID=Europe/Stockholm:20260502T120000
DTEND;TZID=Europe/Stockholm:20260502T180000
DTSTAMP:20260426T051512
CREATED:20260131T043356Z
LAST-MODIFIED:20260131T043359Z
UID:10008401-1777723200-1777744800@www.lyktan.net
SUMMARY:Keramik
DESCRIPTION:Keramik (av grekiska: keramos\, krukmakarlera) betecknar såväl framställningen\, som själva godsen av bränd plastisk lera\, såsom lergods\, stengods\, flintgods\, porslin\, fajans med mera. Ett av de äldsta kända föremålen i keramik är Venus från Dolní Věstonice\, omkring 26 000 år gammal\, tillverkad av lera magrad med benmjöl.Under utställningen ordnas en föreläsning om keramik.
URL:https://www.lyktan.net/event/keramik/2026-05-02/
LOCATION:Galleri Lyktan\, Skogåstorget 7-9\, Skogås\, 142 30\, Sweden
CATEGORIES:Utställning,Vernissage
END:VEVENT
BEGIN:VEVENT
DTSTART;VALUE=DATE:20260503
DTEND;VALUE=DATE:20260504
DTSTAMP:20260426T051512
CREATED:20250907T085224Z
LAST-MODIFIED:20260131T045303Z
UID:10005819-1777766400-1777852799@www.lyktan.net
SUMMARY:STÄNGT
DESCRIPTION:Denna dagen har vi stängt
URL:https://www.lyktan.net/event/stangt/2026-05-03/
CATEGORIES:Stängd
ATTACH;FMTTYPE=image/jpeg:https://www.lyktan.net/wp-content/uploads/2025/09/R.jpeg
END:VEVENT
BEGIN:VEVENT
DTSTART;VALUE=DATE:20260504
DTEND;VALUE=DATE:20260505
DTSTAMP:20260426T051512
CREATED:20250907T085224Z
LAST-MODIFIED:20260131T045303Z
UID:10005820-1777852800-1777939199@www.lyktan.net
SUMMARY:STÄNGT
DESCRIPTION:Denna dagen har vi stängt
URL:https://www.lyktan.net/event/stangt/2026-05-04/
CATEGORIES:Stängd
ATTACH;FMTTYPE=image/jpeg:https://www.lyktan.net/wp-content/uploads/2025/09/R.jpeg
END:VEVENT
BEGIN:VEVENT
DTSTART;TZID=Europe/Stockholm:20260505T120000
DTEND;TZID=Europe/Stockholm:20260505T180000
DTSTAMP:20260426T051512
CREATED:20260131T043356Z
LAST-MODIFIED:20260131T043359Z
UID:10008402-1777982400-1778004000@www.lyktan.net
SUMMARY:Keramik
DESCRIPTION:Keramik (av grekiska: keramos\, krukmakarlera) betecknar såväl framställningen\, som själva godsen av bränd plastisk lera\, såsom lergods\, stengods\, flintgods\, porslin\, fajans med mera. Ett av de äldsta kända föremålen i keramik är Venus från Dolní Věstonice\, omkring 26 000 år gammal\, tillverkad av lera magrad med benmjöl.Under utställningen ordnas en föreläsning om keramik.
URL:https://www.lyktan.net/event/keramik/2026-05-05/
LOCATION:Galleri Lyktan\, Skogåstorget 7-9\, Skogås\, 142 30\, Sweden
CATEGORIES:Utställning,Vernissage
END:VEVENT
BEGIN:VEVENT
DTSTART;TZID=Europe/Stockholm:20260506T120000
DTEND;TZID=Europe/Stockholm:20260506T180000
DTSTAMP:20260426T051512
CREATED:20260131T043356Z
LAST-MODIFIED:20260131T043359Z
UID:10008403-1778068800-1778090400@www.lyktan.net
SUMMARY:Keramik
DESCRIPTION:Keramik (av grekiska: keramos\, krukmakarlera) betecknar såväl framställningen\, som själva godsen av bränd plastisk lera\, såsom lergods\, stengods\, flintgods\, porslin\, fajans med mera. Ett av de äldsta kända föremålen i keramik är Venus från Dolní Věstonice\, omkring 26 000 år gammal\, tillverkad av lera magrad med benmjöl.Under utställningen ordnas en föreläsning om keramik.
URL:https://www.lyktan.net/event/keramik/2026-05-06/
LOCATION:Galleri Lyktan\, Skogåstorget 7-9\, Skogås\, 142 30\, Sweden
CATEGORIES:Utställning,Vernissage
END:VEVENT
BEGIN:VEVENT
DTSTART;TZID=Europe/Stockholm:20260507T120000
DTEND;TZID=Europe/Stockholm:20260507T180000
DTSTAMP:20260426T051512
CREATED:20260131T043356Z
LAST-MODIFIED:20260131T043359Z
UID:10008404-1778155200-1778176800@www.lyktan.net
SUMMARY:Keramik
DESCRIPTION:Keramik (av grekiska: keramos\, krukmakarlera) betecknar såväl framställningen\, som själva godsen av bränd plastisk lera\, såsom lergods\, stengods\, flintgods\, porslin\, fajans med mera. Ett av de äldsta kända föremålen i keramik är Venus från Dolní Věstonice\, omkring 26 000 år gammal\, tillverkad av lera magrad med benmjöl.Under utställningen ordnas en föreläsning om keramik.
URL:https://www.lyktan.net/event/keramik/2026-05-07/
LOCATION:Galleri Lyktan\, Skogåstorget 7-9\, Skogås\, 142 30\, Sweden
CATEGORIES:Utställning,Vernissage
END:VEVENT
BEGIN:VEVENT
DTSTART;TZID=Europe/Stockholm:20260507T180000
DTEND;TZID=Europe/Stockholm:20260507T200000
DTSTAMP:20260426T051512
CREATED:20250902T000603Z
LAST-MODIFIED:20250902T000603Z
UID:10005505-1778176800-1778184000@www.lyktan.net
SUMMARY:Torsdagsträffar
DESCRIPTION:
URL:https://www.lyktan.net/event/torsdagstraffar/2026-05-07/
CATEGORIES:Samtal
END:VEVENT
BEGIN:VEVENT
DTSTART;TZID=Europe/Stockholm:20260508T120000
DTEND;TZID=Europe/Stockholm:20260508T180000
DTSTAMP:20260426T051512
CREATED:20260131T043356Z
LAST-MODIFIED:20260131T043359Z
UID:10008405-1778241600-1778263200@www.lyktan.net
SUMMARY:Keramik
DESCRIPTION:Keramik (av grekiska: keramos\, krukmakarlera) betecknar såväl framställningen\, som själva godsen av bränd plastisk lera\, såsom lergods\, stengods\, flintgods\, porslin\, fajans med mera. Ett av de äldsta kända föremålen i keramik är Venus från Dolní Věstonice\, omkring 26 000 år gammal\, tillverkad av lera magrad med benmjöl.Under utställningen ordnas en föreläsning om keramik.
URL:https://www.lyktan.net/event/keramik/2026-05-08/
LOCATION:Galleri Lyktan\, Skogåstorget 7-9\, Skogås\, 142 30\, Sweden
CATEGORIES:Utställning,Vernissage
END:VEVENT
BEGIN:VEVENT
DTSTART;TZID=Europe/Stockholm:20260509T120000
DTEND;TZID=Europe/Stockholm:20260509T180000
DTSTAMP:20260426T051512
CREATED:20260131T043356Z
LAST-MODIFIED:20260131T043359Z
UID:10008406-1778328000-1778349600@www.lyktan.net
SUMMARY:Keramik
DESCRIPTION:Keramik (av grekiska: keramos\, krukmakarlera) betecknar såväl framställningen\, som själva godsen av bränd plastisk lera\, såsom lergods\, stengods\, flintgods\, porslin\, fajans med mera. Ett av de äldsta kända föremålen i keramik är Venus från Dolní Věstonice\, omkring 26 000 år gammal\, tillverkad av lera magrad med benmjöl.Under utställningen ordnas en föreläsning om keramik.
URL:https://www.lyktan.net/event/keramik/2026-05-09/
LOCATION:Galleri Lyktan\, Skogåstorget 7-9\, Skogås\, 142 30\, Sweden
CATEGORIES:Utställning,Vernissage
END:VEVENT
BEGIN:VEVENT
DTSTART;VALUE=DATE:20260510
DTEND;VALUE=DATE:20260511
DTSTAMP:20260426T051512
CREATED:20250907T085224Z
LAST-MODIFIED:20260131T045303Z
UID:10005821-1778371200-1778457599@www.lyktan.net
SUMMARY:STÄNGT
DESCRIPTION:Denna dagen har vi stängt
URL:https://www.lyktan.net/event/stangt/2026-05-10/
CATEGORIES:Stängd
ATTACH;FMTTYPE=image/jpeg:https://www.lyktan.net/wp-content/uploads/2025/09/R.jpeg
END:VEVENT
BEGIN:VEVENT
DTSTART;VALUE=DATE:20260511
DTEND;VALUE=DATE:20260512
DTSTAMP:20260426T051512
CREATED:20250907T085224Z
LAST-MODIFIED:20260131T045303Z
UID:10005822-1778457600-1778543999@www.lyktan.net
SUMMARY:STÄNGT
DESCRIPTION:Denna dagen har vi stängt
URL:https://www.lyktan.net/event/stangt/2026-05-11/
CATEGORIES:Stängd
ATTACH;FMTTYPE=image/jpeg:https://www.lyktan.net/wp-content/uploads/2025/09/R.jpeg
END:VEVENT
BEGIN:VEVENT
DTSTART;TZID=Europe/Stockholm:20260512T120000
DTEND;TZID=Europe/Stockholm:20260512T180000
DTSTAMP:20260426T051512
CREATED:20260131T043356Z
LAST-MODIFIED:20260131T043359Z
UID:10008407-1778587200-1778608800@www.lyktan.net
SUMMARY:Keramik
DESCRIPTION:Keramik (av grekiska: keramos\, krukmakarlera) betecknar såväl framställningen\, som själva godsen av bränd plastisk lera\, såsom lergods\, stengods\, flintgods\, porslin\, fajans med mera. Ett av de äldsta kända föremålen i keramik är Venus från Dolní Věstonice\, omkring 26 000 år gammal\, tillverkad av lera magrad med benmjöl.Under utställningen ordnas en föreläsning om keramik.
URL:https://www.lyktan.net/event/keramik/2026-05-12/
LOCATION:Galleri Lyktan\, Skogåstorget 7-9\, Skogås\, 142 30\, Sweden
CATEGORIES:Utställning,Vernissage
END:VEVENT
BEGIN:VEVENT
DTSTART;TZID=Europe/Stockholm:20260513T120000
DTEND;TZID=Europe/Stockholm:20260513T180000
DTSTAMP:20260426T051512
CREATED:20260131T043356Z
LAST-MODIFIED:20260131T043359Z
UID:10008408-1778673600-1778695200@www.lyktan.net
SUMMARY:Keramik
DESCRIPTION:Keramik (av grekiska: keramos\, krukmakarlera) betecknar såväl framställningen\, som själva godsen av bränd plastisk lera\, såsom lergods\, stengods\, flintgods\, porslin\, fajans med mera. Ett av de äldsta kända föremålen i keramik är Venus från Dolní Věstonice\, omkring 26 000 år gammal\, tillverkad av lera magrad med benmjöl.Under utställningen ordnas en föreläsning om keramik.
URL:https://www.lyktan.net/event/keramik/2026-05-13/
LOCATION:Galleri Lyktan\, Skogåstorget 7-9\, Skogås\, 142 30\, Sweden
CATEGORIES:Utställning,Vernissage
END:VEVENT
BEGIN:VEVENT
DTSTART;TZID=Europe/Stockholm:20260514T120000
DTEND;TZID=Europe/Stockholm:20260514T180000
DTSTAMP:20260426T051512
CREATED:20260131T043356Z
LAST-MODIFIED:20260131T043359Z
UID:10008409-1778760000-1778781600@www.lyktan.net
SUMMARY:Keramik
DESCRIPTION:Keramik (av grekiska: keramos\, krukmakarlera) betecknar såväl framställningen\, som själva godsen av bränd plastisk lera\, såsom lergods\, stengods\, flintgods\, porslin\, fajans med mera. Ett av de äldsta kända föremålen i keramik är Venus från Dolní Věstonice\, omkring 26 000 år gammal\, tillverkad av lera magrad med benmjöl.Under utställningen ordnas en föreläsning om keramik.
URL:https://www.lyktan.net/event/keramik/2026-05-14/
LOCATION:Galleri Lyktan\, Skogåstorget 7-9\, Skogås\, 142 30\, Sweden
CATEGORIES:Utställning,Vernissage
END:VEVENT
BEGIN:VEVENT
DTSTART;TZID=Europe/Stockholm:20260514T180000
DTEND;TZID=Europe/Stockholm:20260514T200000
DTSTAMP:20260426T051512
CREATED:20250902T000603Z
LAST-MODIFIED:20250902T000603Z
UID:10005506-1778781600-1778788800@www.lyktan.net
SUMMARY:Torsdagsträffar
DESCRIPTION:
URL:https://www.lyktan.net/event/torsdagstraffar/2026-05-14/
CATEGORIES:Samtal
END:VEVENT
END:VCALENDAR