BEGIN:VCALENDAR
VERSION:2.0
PRODID:-//Kulturföreningen Lyktan - ECPv6.15.17.1//NONSGML v1.0//EN
CALSCALE:GREGORIAN
METHOD:PUBLISH
X-WR-CALNAME:Kulturföreningen Lyktan
X-ORIGINAL-URL:https://www.lyktan.net
X-WR-CALDESC:Händelser för Kulturföreningen Lyktan
REFRESH-INTERVAL;VALUE=DURATION:PT1H
X-Robots-Tag:noindex
X-PUBLISHED-TTL:PT1H
BEGIN:VTIMEZONE
TZID:Europe/Stockholm
BEGIN:DAYLIGHT
TZOFFSETFROM:+0100
TZOFFSETTO:+0200
TZNAME:CEST
DTSTART:20250330T010000
END:DAYLIGHT
BEGIN:STANDARD
TZOFFSETFROM:+0200
TZOFFSETTO:+0100
TZNAME:CET
DTSTART:20251026T010000
END:STANDARD
BEGIN:DAYLIGHT
TZOFFSETFROM:+0100
TZOFFSETTO:+0200
TZNAME:CEST
DTSTART:20260329T010000
END:DAYLIGHT
BEGIN:STANDARD
TZOFFSETFROM:+0200
TZOFFSETTO:+0100
TZNAME:CET
DTSTART:20261025T010000
END:STANDARD
BEGIN:DAYLIGHT
TZOFFSETFROM:+0100
TZOFFSETTO:+0200
TZNAME:CEST
DTSTART:20270328T010000
END:DAYLIGHT
BEGIN:STANDARD
TZOFFSETFROM:+0200
TZOFFSETTO:+0100
TZNAME:CET
DTSTART:20271031T010000
END:STANDARD
END:VTIMEZONE
BEGIN:VEVENT
DTSTART;VALUE=DATE:20260301
DTEND;VALUE=DATE:20260302
DTSTAMP:20260426T051317
CREATED:20250907T085224Z
LAST-MODIFIED:20260131T045303Z
UID:10005801-1772323200-1772409599@www.lyktan.net
SUMMARY:STÄNGT
DESCRIPTION:Denna dagen har vi stängt
URL:https://www.lyktan.net/event/stangt/2026-03-01/
CATEGORIES:Stängd
ATTACH;FMTTYPE=image/jpeg:https://www.lyktan.net/wp-content/uploads/2025/09/R.jpeg
END:VEVENT
BEGIN:VEVENT
DTSTART;VALUE=DATE:20260302
DTEND;VALUE=DATE:20260303
DTSTAMP:20260426T051317
CREATED:20250907T085224Z
LAST-MODIFIED:20260131T045303Z
UID:10005802-1772409600-1772495999@www.lyktan.net
SUMMARY:STÄNGT
DESCRIPTION:Denna dagen har vi stängt
URL:https://www.lyktan.net/event/stangt/2026-03-02/
CATEGORIES:Stängd
ATTACH;FMTTYPE=image/jpeg:https://www.lyktan.net/wp-content/uploads/2025/09/R.jpeg
END:VEVENT
BEGIN:VEVENT
DTSTART;TZID=Europe/Stockholm:20260302T120000
DTEND;TZID=Europe/Stockholm:20260302T170000
DTSTAMP:20260426T051317
CREATED:20260131T040553Z
LAST-MODIFIED:20260131T040650Z
UID:10008362-1772452800-1772470800@www.lyktan.net
SUMMARY:Världens Teater
DESCRIPTION:2 februari – 14 mars 2026\nMåleriutställning av Roscislaw Klonowski\n \n\n\n\nI was born in 1972 in Poznań\, Poland. As a small child\, I moved with my parents to the small picturesque town of Warta on the Warta River. The beauty of nature\, especially in the summer\, colors and light were everyday life. When I was 14 I read a biographical story about Vincent van Gogh and it happened\, I felt that I wanted to be a painter too. And all the nature around me and its beauty have been and still are my inspiration. I have no artistic education\, I have been painting since I was 14. I paint\, I stop and then I paint again… I want to do it as long as possible. \nRoscislaw Artur Klonowski \n\n\n 
URL:https://www.lyktan.net/event/varldens-teater/2026-03-02/
LOCATION:Östra Gymnasiet\, Kvartettvägen 2-6\, Trångsund\, 14263\, Sweden
CATEGORIES:Vernissage
ATTACH;FMTTYPE=image/jpeg:https://www.lyktan.net/wp-content/uploads/2026/01/615702453_25524596447149668_7426301213432268054_n.jpg
GEO:59.2226737048;18.150960373
X-APPLE-STRUCTURED-LOCATION;VALUE=URI;X-ADDRESS=Östra Gymnasiet Kvartettvägen 2-6 Trångsund 14263 Sweden;X-APPLE-RADIUS=500;X-TITLE=Kvartettvägen 2-6:geo:18.150960373,59.2226737048
END:VEVENT
BEGIN:VEVENT
DTSTART;TZID=Europe/Stockholm:20260302T170000
DTEND;TZID=Europe/Stockholm:20260302T190000
DTSTAMP:20260426T051317
CREATED:20260131T022939Z
LAST-MODIFIED:20260131T041247Z
UID:10008215-1772470800-1772478000@www.lyktan.net
SUMMARY:Fotoklubben
DESCRIPTION:Lyktans Fotoklubb \n\n\n\nFör dig som är intresserad av bilder\, fotografering\, kameror och medlem. Lyktans fotoklubb träffas varannan måndag under jämna veckor\, kl. 17.00 i Galleri Lyktan.Vi tittar på andras foton\, visar våra egna\, får råd och tips av varandra och av de som kan lite mer. Kanske vi gör en fotoutflykt\, bjuder in en gästföreläsare\, anordnar en fotoutställning eller något annat kul för oss som tycker om att fotografera.
URL:https://www.lyktan.net/event/fotoklubben-2/2026-03-02/
LOCATION:Galleri Lyktan\, Skogåstorget 7-9\, Skogås\, 142 30\, Sweden
CATEGORIES:Fotoklubb
ATTACH;FMTTYPE=image/jpeg:https://www.lyktan.net/wp-content/uploads/2026/01/istockphoto-618066222-612x612-1.jpg
END:VEVENT
BEGIN:VEVENT
DTSTART;TZID=Europe/Stockholm:20260303T120000
DTEND;TZID=Europe/Stockholm:20260303T170000
DTSTAMP:20260426T051317
CREATED:20260131T040553Z
LAST-MODIFIED:20260131T040650Z
UID:10008363-1772539200-1772557200@www.lyktan.net
SUMMARY:Världens Teater
DESCRIPTION:2 februari – 14 mars 2026\nMåleriutställning av Roscislaw Klonowski\n \n\n\n\nI was born in 1972 in Poznań\, Poland. As a small child\, I moved with my parents to the small picturesque town of Warta on the Warta River. The beauty of nature\, especially in the summer\, colors and light were everyday life. When I was 14 I read a biographical story about Vincent van Gogh and it happened\, I felt that I wanted to be a painter too. And all the nature around me and its beauty have been and still are my inspiration. I have no artistic education\, I have been painting since I was 14. I paint\, I stop and then I paint again… I want to do it as long as possible. \nRoscislaw Artur Klonowski \n\n\n 
URL:https://www.lyktan.net/event/varldens-teater/2026-03-03/
LOCATION:Östra Gymnasiet\, Kvartettvägen 2-6\, Trångsund\, 14263\, Sweden
CATEGORIES:Vernissage
ATTACH;FMTTYPE=image/jpeg:https://www.lyktan.net/wp-content/uploads/2026/01/615702453_25524596447149668_7426301213432268054_n.jpg
GEO:59.2226737048;18.150960373
X-APPLE-STRUCTURED-LOCATION;VALUE=URI;X-ADDRESS=Östra Gymnasiet Kvartettvägen 2-6 Trångsund 14263 Sweden;X-APPLE-RADIUS=500;X-TITLE=Kvartettvägen 2-6:geo:18.150960373,59.2226737048
END:VEVENT
BEGIN:VEVENT
DTSTART;TZID=Europe/Stockholm:20260304T120000
DTEND;TZID=Europe/Stockholm:20260304T170000
DTSTAMP:20260426T051317
CREATED:20260131T040553Z
LAST-MODIFIED:20260131T040650Z
UID:10008364-1772625600-1772643600@www.lyktan.net
SUMMARY:Världens Teater
DESCRIPTION:2 februari – 14 mars 2026\nMåleriutställning av Roscislaw Klonowski\n \n\n\n\nI was born in 1972 in Poznań\, Poland. As a small child\, I moved with my parents to the small picturesque town of Warta on the Warta River. The beauty of nature\, especially in the summer\, colors and light were everyday life. When I was 14 I read a biographical story about Vincent van Gogh and it happened\, I felt that I wanted to be a painter too. And all the nature around me and its beauty have been and still are my inspiration. I have no artistic education\, I have been painting since I was 14. I paint\, I stop and then I paint again… I want to do it as long as possible. \nRoscislaw Artur Klonowski \n\n\n 
URL:https://www.lyktan.net/event/varldens-teater/2026-03-04/
LOCATION:Östra Gymnasiet\, Kvartettvägen 2-6\, Trångsund\, 14263\, Sweden
CATEGORIES:Vernissage
ATTACH;FMTTYPE=image/jpeg:https://www.lyktan.net/wp-content/uploads/2026/01/615702453_25524596447149668_7426301213432268054_n.jpg
GEO:59.2226737048;18.150960373
X-APPLE-STRUCTURED-LOCATION;VALUE=URI;X-ADDRESS=Östra Gymnasiet Kvartettvägen 2-6 Trångsund 14263 Sweden;X-APPLE-RADIUS=500;X-TITLE=Kvartettvägen 2-6:geo:18.150960373,59.2226737048
END:VEVENT
BEGIN:VEVENT
DTSTART;TZID=Europe/Stockholm:20260305T120000
DTEND;TZID=Europe/Stockholm:20260305T170000
DTSTAMP:20260426T051317
CREATED:20260131T040553Z
LAST-MODIFIED:20260131T040650Z
UID:10008365-1772712000-1772730000@www.lyktan.net
SUMMARY:Världens Teater
DESCRIPTION:2 februari – 14 mars 2026\nMåleriutställning av Roscislaw Klonowski\n \n\n\n\nI was born in 1972 in Poznań\, Poland. As a small child\, I moved with my parents to the small picturesque town of Warta on the Warta River. The beauty of nature\, especially in the summer\, colors and light were everyday life. When I was 14 I read a biographical story about Vincent van Gogh and it happened\, I felt that I wanted to be a painter too. And all the nature around me and its beauty have been and still are my inspiration. I have no artistic education\, I have been painting since I was 14. I paint\, I stop and then I paint again… I want to do it as long as possible. \nRoscislaw Artur Klonowski \n\n\n 
URL:https://www.lyktan.net/event/varldens-teater/2026-03-05/
LOCATION:Östra Gymnasiet\, Kvartettvägen 2-6\, Trångsund\, 14263\, Sweden
CATEGORIES:Vernissage
ATTACH;FMTTYPE=image/jpeg:https://www.lyktan.net/wp-content/uploads/2026/01/615702453_25524596447149668_7426301213432268054_n.jpg
GEO:59.2226737048;18.150960373
X-APPLE-STRUCTURED-LOCATION;VALUE=URI;X-ADDRESS=Östra Gymnasiet Kvartettvägen 2-6 Trångsund 14263 Sweden;X-APPLE-RADIUS=500;X-TITLE=Kvartettvägen 2-6:geo:18.150960373,59.2226737048
END:VEVENT
BEGIN:VEVENT
DTSTART;TZID=Europe/Stockholm:20260305T180000
DTEND;TZID=Europe/Stockholm:20260305T200000
DTSTAMP:20260426T051317
CREATED:20250902T000603Z
LAST-MODIFIED:20250902T000603Z
UID:10005496-1772733600-1772740800@www.lyktan.net
SUMMARY:Torsdagsträffar
DESCRIPTION:
URL:https://www.lyktan.net/event/torsdagstraffar/2026-03-05/
CATEGORIES:Samtal
END:VEVENT
BEGIN:VEVENT
DTSTART;TZID=Europe/Stockholm:20260305T180000
DTEND;TZID=Europe/Stockholm:20260305T200000
DTSTAMP:20260426T051317
CREATED:20260131T024428Z
LAST-MODIFIED:20260131T042227Z
UID:10008223-1772733600-1772740800@www.lyktan.net
SUMMARY:Konstnärsträff med Zahavi Sanjavi
DESCRIPTION:Regissören Zahavi Sanjavi\n\n\n\n\nRegissören Zahavi Sanjavi berättar på Galleri Lyktan om sitt arbete som regissör. \n\n\nEn av hans filmer visas. \n\n\nSanjavi fick Guldbaggen för sin dokumentär om människor som drabbas avkrig.
URL:https://www.lyktan.net/event/konstnarstraff-med-zahavi-sanjavi/
LOCATION:Galleri Lyktan\, Skogåstorget 7-9\, Skogås\, 142 30\, Sweden
CATEGORIES:Filmvisning,Konstnärsträff
ATTACH;FMTTYPE=image/jpeg:https://www.lyktan.net/wp-content/uploads/2026/01/maxresdefault.jpg
END:VEVENT
BEGIN:VEVENT
DTSTART;TZID=Europe/Stockholm:20260306T120000
DTEND;TZID=Europe/Stockholm:20260306T170000
DTSTAMP:20260426T051317
CREATED:20260131T040553Z
LAST-MODIFIED:20260131T040650Z
UID:10008366-1772798400-1772816400@www.lyktan.net
SUMMARY:Världens Teater
DESCRIPTION:2 februari – 14 mars 2026\nMåleriutställning av Roscislaw Klonowski\n \n\n\n\nI was born in 1972 in Poznań\, Poland. As a small child\, I moved with my parents to the small picturesque town of Warta on the Warta River. The beauty of nature\, especially in the summer\, colors and light were everyday life. When I was 14 I read a biographical story about Vincent van Gogh and it happened\, I felt that I wanted to be a painter too. And all the nature around me and its beauty have been and still are my inspiration. I have no artistic education\, I have been painting since I was 14. I paint\, I stop and then I paint again… I want to do it as long as possible. \nRoscislaw Artur Klonowski \n\n\n 
URL:https://www.lyktan.net/event/varldens-teater/2026-03-06/
LOCATION:Östra Gymnasiet\, Kvartettvägen 2-6\, Trångsund\, 14263\, Sweden
CATEGORIES:Vernissage
ATTACH;FMTTYPE=image/jpeg:https://www.lyktan.net/wp-content/uploads/2026/01/615702453_25524596447149668_7426301213432268054_n.jpg
GEO:59.2226737048;18.150960373
X-APPLE-STRUCTURED-LOCATION;VALUE=URI;X-ADDRESS=Östra Gymnasiet Kvartettvägen 2-6 Trångsund 14263 Sweden;X-APPLE-RADIUS=500;X-TITLE=Kvartettvägen 2-6:geo:18.150960373,59.2226737048
END:VEVENT
BEGIN:VEVENT
DTSTART;VALUE=DATE:20260308
DTEND;VALUE=DATE:20260309
DTSTAMP:20260426T051317
CREATED:20250907T085224Z
LAST-MODIFIED:20260131T045303Z
UID:10005803-1772928000-1773014399@www.lyktan.net
SUMMARY:STÄNGT
DESCRIPTION:Denna dagen har vi stängt
URL:https://www.lyktan.net/event/stangt/2026-03-08/
CATEGORIES:Stängd
ATTACH;FMTTYPE=image/jpeg:https://www.lyktan.net/wp-content/uploads/2025/09/R.jpeg
END:VEVENT
BEGIN:VEVENT
DTSTART;VALUE=DATE:20260309
DTEND;VALUE=DATE:20260310
DTSTAMP:20260426T051317
CREATED:20250907T085224Z
LAST-MODIFIED:20260131T045303Z
UID:10005804-1773014400-1773100799@www.lyktan.net
SUMMARY:STÄNGT
DESCRIPTION:Denna dagen har vi stängt
URL:https://www.lyktan.net/event/stangt/2026-03-09/
CATEGORIES:Stängd
ATTACH;FMTTYPE=image/jpeg:https://www.lyktan.net/wp-content/uploads/2025/09/R.jpeg
END:VEVENT
BEGIN:VEVENT
DTSTART;TZID=Europe/Stockholm:20260309T120000
DTEND;TZID=Europe/Stockholm:20260309T170000
DTSTAMP:20260426T051317
CREATED:20260131T040553Z
LAST-MODIFIED:20260131T040650Z
UID:10008367-1773057600-1773075600@www.lyktan.net
SUMMARY:Världens Teater
DESCRIPTION:2 februari – 14 mars 2026\nMåleriutställning av Roscislaw Klonowski\n \n\n\n\nI was born in 1972 in Poznań\, Poland. As a small child\, I moved with my parents to the small picturesque town of Warta on the Warta River. The beauty of nature\, especially in the summer\, colors and light were everyday life. When I was 14 I read a biographical story about Vincent van Gogh and it happened\, I felt that I wanted to be a painter too. And all the nature around me and its beauty have been and still are my inspiration. I have no artistic education\, I have been painting since I was 14. I paint\, I stop and then I paint again… I want to do it as long as possible. \nRoscislaw Artur Klonowski \n\n\n 
URL:https://www.lyktan.net/event/varldens-teater/2026-03-09/
LOCATION:Östra Gymnasiet\, Kvartettvägen 2-6\, Trångsund\, 14263\, Sweden
CATEGORIES:Vernissage
ATTACH;FMTTYPE=image/jpeg:https://www.lyktan.net/wp-content/uploads/2026/01/615702453_25524596447149668_7426301213432268054_n.jpg
GEO:59.2226737048;18.150960373
X-APPLE-STRUCTURED-LOCATION;VALUE=URI;X-ADDRESS=Östra Gymnasiet Kvartettvägen 2-6 Trångsund 14263 Sweden;X-APPLE-RADIUS=500;X-TITLE=Kvartettvägen 2-6:geo:18.150960373,59.2226737048
END:VEVENT
BEGIN:VEVENT
DTSTART;TZID=Europe/Stockholm:20260310T120000
DTEND;TZID=Europe/Stockholm:20260310T170000
DTSTAMP:20260426T051317
CREATED:20260131T040553Z
LAST-MODIFIED:20260131T040650Z
UID:10008368-1773144000-1773162000@www.lyktan.net
SUMMARY:Världens Teater
DESCRIPTION:2 februari – 14 mars 2026\nMåleriutställning av Roscislaw Klonowski\n \n\n\n\nI was born in 1972 in Poznań\, Poland. As a small child\, I moved with my parents to the small picturesque town of Warta on the Warta River. The beauty of nature\, especially in the summer\, colors and light were everyday life. When I was 14 I read a biographical story about Vincent van Gogh and it happened\, I felt that I wanted to be a painter too. And all the nature around me and its beauty have been and still are my inspiration. I have no artistic education\, I have been painting since I was 14. I paint\, I stop and then I paint again… I want to do it as long as possible. \nRoscislaw Artur Klonowski \n\n\n 
URL:https://www.lyktan.net/event/varldens-teater/2026-03-10/
LOCATION:Östra Gymnasiet\, Kvartettvägen 2-6\, Trångsund\, 14263\, Sweden
CATEGORIES:Vernissage
ATTACH;FMTTYPE=image/jpeg:https://www.lyktan.net/wp-content/uploads/2026/01/615702453_25524596447149668_7426301213432268054_n.jpg
GEO:59.2226737048;18.150960373
X-APPLE-STRUCTURED-LOCATION;VALUE=URI;X-ADDRESS=Östra Gymnasiet Kvartettvägen 2-6 Trångsund 14263 Sweden;X-APPLE-RADIUS=500;X-TITLE=Kvartettvägen 2-6:geo:18.150960373,59.2226737048
END:VEVENT
BEGIN:VEVENT
DTSTART;TZID=Europe/Stockholm:20260311T120000
DTEND;TZID=Europe/Stockholm:20260311T170000
DTSTAMP:20260426T051317
CREATED:20260131T040553Z
LAST-MODIFIED:20260131T040650Z
UID:10008369-1773230400-1773248400@www.lyktan.net
SUMMARY:Världens Teater
DESCRIPTION:2 februari – 14 mars 2026\nMåleriutställning av Roscislaw Klonowski\n \n\n\n\nI was born in 1972 in Poznań\, Poland. As a small child\, I moved with my parents to the small picturesque town of Warta on the Warta River. The beauty of nature\, especially in the summer\, colors and light were everyday life. When I was 14 I read a biographical story about Vincent van Gogh and it happened\, I felt that I wanted to be a painter too. And all the nature around me and its beauty have been and still are my inspiration. I have no artistic education\, I have been painting since I was 14. I paint\, I stop and then I paint again… I want to do it as long as possible. \nRoscislaw Artur Klonowski \n\n\n 
URL:https://www.lyktan.net/event/varldens-teater/2026-03-11/
LOCATION:Östra Gymnasiet\, Kvartettvägen 2-6\, Trångsund\, 14263\, Sweden
CATEGORIES:Vernissage
ATTACH;FMTTYPE=image/jpeg:https://www.lyktan.net/wp-content/uploads/2026/01/615702453_25524596447149668_7426301213432268054_n.jpg
GEO:59.2226737048;18.150960373
X-APPLE-STRUCTURED-LOCATION;VALUE=URI;X-ADDRESS=Östra Gymnasiet Kvartettvägen 2-6 Trångsund 14263 Sweden;X-APPLE-RADIUS=500;X-TITLE=Kvartettvägen 2-6:geo:18.150960373,59.2226737048
END:VEVENT
BEGIN:VEVENT
DTSTART;TZID=Europe/Stockholm:20260312T120000
DTEND;TZID=Europe/Stockholm:20260312T170000
DTSTAMP:20260426T051317
CREATED:20260131T040553Z
LAST-MODIFIED:20260131T040650Z
UID:10008370-1773316800-1773334800@www.lyktan.net
SUMMARY:Världens Teater
DESCRIPTION:2 februari – 14 mars 2026\nMåleriutställning av Roscislaw Klonowski\n \n\n\n\nI was born in 1972 in Poznań\, Poland. As a small child\, I moved with my parents to the small picturesque town of Warta on the Warta River. The beauty of nature\, especially in the summer\, colors and light were everyday life. When I was 14 I read a biographical story about Vincent van Gogh and it happened\, I felt that I wanted to be a painter too. And all the nature around me and its beauty have been and still are my inspiration. I have no artistic education\, I have been painting since I was 14. I paint\, I stop and then I paint again… I want to do it as long as possible. \nRoscislaw Artur Klonowski \n\n\n 
URL:https://www.lyktan.net/event/varldens-teater/2026-03-12/
LOCATION:Östra Gymnasiet\, Kvartettvägen 2-6\, Trångsund\, 14263\, Sweden
CATEGORIES:Vernissage
ATTACH;FMTTYPE=image/jpeg:https://www.lyktan.net/wp-content/uploads/2026/01/615702453_25524596447149668_7426301213432268054_n.jpg
GEO:59.2226737048;18.150960373
X-APPLE-STRUCTURED-LOCATION;VALUE=URI;X-ADDRESS=Östra Gymnasiet Kvartettvägen 2-6 Trångsund 14263 Sweden;X-APPLE-RADIUS=500;X-TITLE=Kvartettvägen 2-6:geo:18.150960373,59.2226737048
END:VEVENT
BEGIN:VEVENT
DTSTART;TZID=Europe/Stockholm:20260312T180000
DTEND;TZID=Europe/Stockholm:20260312T200000
DTSTAMP:20260426T051317
CREATED:20250902T000603Z
LAST-MODIFIED:20250902T000603Z
UID:10005497-1773338400-1773345600@www.lyktan.net
SUMMARY:Torsdagsträffar
DESCRIPTION:
URL:https://www.lyktan.net/event/torsdagstraffar/2026-03-12/
CATEGORIES:Samtal
END:VEVENT
BEGIN:VEVENT
DTSTART;TZID=Europe/Stockholm:20260313T120000
DTEND;TZID=Europe/Stockholm:20260313T170000
DTSTAMP:20260426T051317
CREATED:20260131T040553Z
LAST-MODIFIED:20260131T040650Z
UID:10008371-1773403200-1773421200@www.lyktan.net
SUMMARY:Världens Teater
DESCRIPTION:2 februari – 14 mars 2026\nMåleriutställning av Roscislaw Klonowski\n \n\n\n\nI was born in 1972 in Poznań\, Poland. As a small child\, I moved with my parents to the small picturesque town of Warta on the Warta River. The beauty of nature\, especially in the summer\, colors and light were everyday life. When I was 14 I read a biographical story about Vincent van Gogh and it happened\, I felt that I wanted to be a painter too. And all the nature around me and its beauty have been and still are my inspiration. I have no artistic education\, I have been painting since I was 14. I paint\, I stop and then I paint again… I want to do it as long as possible. \nRoscislaw Artur Klonowski \n\n\n 
URL:https://www.lyktan.net/event/varldens-teater/2026-03-13/
LOCATION:Östra Gymnasiet\, Kvartettvägen 2-6\, Trångsund\, 14263\, Sweden
CATEGORIES:Vernissage
ATTACH;FMTTYPE=image/jpeg:https://www.lyktan.net/wp-content/uploads/2026/01/615702453_25524596447149668_7426301213432268054_n.jpg
GEO:59.2226737048;18.150960373
X-APPLE-STRUCTURED-LOCATION;VALUE=URI;X-ADDRESS=Östra Gymnasiet Kvartettvägen 2-6 Trångsund 14263 Sweden;X-APPLE-RADIUS=500;X-TITLE=Kvartettvägen 2-6:geo:18.150960373,59.2226737048
END:VEVENT
BEGIN:VEVENT
DTSTART;TZID=Europe/Stockholm:20260314T120000
DTEND;TZID=Europe/Stockholm:20260314T180000
DTSTAMP:20260426T051317
CREATED:20260131T024639Z
LAST-MODIFIED:20260308T114920Z
UID:10008224-1773489600-1773511200@www.lyktan.net
SUMMARY:Poesifestival
DESCRIPTION:Poesifestival på Galleri Lyktan med regler för poetry slam. \n\n\n\nMed Joel Friberg som är en Stockholm-baserad jazzpianist med ett lyhört och nyanserat uttryck. Med rötter i improvisationstraditionen formar han levande och följsamma klangbilder som samspelar med det talade ordet. Under detta dagsevenemang ackompanjerar han poeterna med ett varmt\, dynamiskt pianospel som skapar närvaro och fördjupar stämningarna i rummet. \n\n\n\nPoesifestival på Galleri Lyktan med regler för poetry slam. StockholmspoetenErkki Lappalainen introducerade 1995 poetry slam i Sverige.Poesiböcker från poeter som deltar i festivalen till försäljning. Pianokonsert av poeten och musikern Ninna Gudmundsson. Pianoackompanjemang av Jasmin H. Hovhannesyan.
URL:https://www.lyktan.net/event/poesifestival/
LOCATION:Galleri Lyktan\, Skogåstorget 7-9\, Skogås\, 142 30\, Sweden
CATEGORIES:Poesi
ATTACH;FMTTYPE=image/jpeg:https://www.lyktan.net/wp-content/uploads/2026/01/Poesifestivalen14mars-red-2-scaled.jpg
END:VEVENT
BEGIN:VEVENT
DTSTART;VALUE=DATE:20260315
DTEND;VALUE=DATE:20260316
DTSTAMP:20260426T051317
CREATED:20250907T085224Z
LAST-MODIFIED:20260131T045303Z
UID:10005805-1773532800-1773619199@www.lyktan.net
SUMMARY:STÄNGT
DESCRIPTION:Denna dagen har vi stängt
URL:https://www.lyktan.net/event/stangt/2026-03-15/
CATEGORIES:Stängd
ATTACH;FMTTYPE=image/jpeg:https://www.lyktan.net/wp-content/uploads/2025/09/R.jpeg
END:VEVENT
BEGIN:VEVENT
DTSTART;VALUE=DATE:20260316
DTEND;VALUE=DATE:20260317
DTSTAMP:20260426T051317
CREATED:20250907T085224Z
LAST-MODIFIED:20260131T045303Z
UID:10005806-1773619200-1773705599@www.lyktan.net
SUMMARY:STÄNGT
DESCRIPTION:Denna dagen har vi stängt
URL:https://www.lyktan.net/event/stangt/2026-03-16/
CATEGORIES:Stängd
ATTACH;FMTTYPE=image/jpeg:https://www.lyktan.net/wp-content/uploads/2025/09/R.jpeg
END:VEVENT
BEGIN:VEVENT
DTSTART;TZID=Europe/Stockholm:20260316T170000
DTEND;TZID=Europe/Stockholm:20260316T190000
DTSTAMP:20260426T051317
CREATED:20260131T022939Z
LAST-MODIFIED:20260131T041247Z
UID:10008216-1773680400-1773687600@www.lyktan.net
SUMMARY:Fotoklubben
DESCRIPTION:Lyktans Fotoklubb \n\n\n\nFör dig som är intresserad av bilder\, fotografering\, kameror och medlem. Lyktans fotoklubb träffas varannan måndag under jämna veckor\, kl. 17.00 i Galleri Lyktan.Vi tittar på andras foton\, visar våra egna\, får råd och tips av varandra och av de som kan lite mer. Kanske vi gör en fotoutflykt\, bjuder in en gästföreläsare\, anordnar en fotoutställning eller något annat kul för oss som tycker om att fotografera.
URL:https://www.lyktan.net/event/fotoklubben-2/2026-03-16/
LOCATION:Galleri Lyktan\, Skogåstorget 7-9\, Skogås\, 142 30\, Sweden
CATEGORIES:Fotoklubb
ATTACH;FMTTYPE=image/jpeg:https://www.lyktan.net/wp-content/uploads/2026/01/istockphoto-618066222-612x612-1.jpg
END:VEVENT
BEGIN:VEVENT
DTSTART;TZID=Europe/Stockholm:20260319T180000
DTEND;TZID=Europe/Stockholm:20260319T200000
DTSTAMP:20260426T051317
CREATED:20250902T000603Z
LAST-MODIFIED:20250902T000603Z
UID:10005498-1773943200-1773950400@www.lyktan.net
SUMMARY:Torsdagsträffar
DESCRIPTION:
URL:https://www.lyktan.net/event/torsdagstraffar/2026-03-19/
CATEGORIES:Samtal
END:VEVENT
BEGIN:VEVENT
DTSTART;TZID=Europe/Stockholm:20260321T120000
DTEND;TZID=Europe/Stockholm:20260321T160000
DTSTAMP:20260426T051317
CREATED:20260304T015601Z
LAST-MODIFIED:20260304T232346Z
UID:10009011-1774094400-1774108800@www.lyktan.net
SUMMARY:Vernissage Anita Wernström
DESCRIPTION:Anita Wernström är aktuell med två utställningar som är sammankopplade och sträcker sig från Östra Gymnasiet till Galleri Lyktan. \n\n\n\n\n\n\n\nCirkelns mitt – Mötesplatser\n\n\n\nUtställningen grundas i cirkeln som form och från mötesplatsen som begrepp. Verken kan ses som kontemplationer runt skapande och gemenskap. \n\n\n\nArbetet tar form i stora kolteckningar och måleri. Teckningar på golvet skapar en cirkulär struktur för gemensamma workshops. Stencirkeln återkommer genomgående som bärande struktur i gallerirummet öppnar upp för frågorna: Vad kan en mötesplats vara? Vad behöver du för mötesplatser?  \n\n\n\nHur lever vi cirkulärt och hur finner vi vår egen kärna att utgå ifrån? För mig är konsten ett sätt att försöka hitta denna plats och att undersöka relationen mellan form\, plats\, kunskap och gemenskap som en del av samhällskroppen. \n\n\n\nCirkelns mitt – Mötesplatser är också en konstnärlig workshop som hålls på Galleri Lyktan i Skogås centrum där konstnärens utställning fortsätter:
URL:https://www.lyktan.net/event/vernissage-anita-wernstrom/
LOCATION:Galleri Lyktan\, Skogåstorget 7-9\, Skogås\, 142 30\, Sweden
CATEGORIES:Utställning,Vernissage
ATTACH;FMTTYPE=image/jpeg:https://www.lyktan.net/wp-content/uploads/2026/03/Affich_Circelns_mitt.1-scaled.jpg
END:VEVENT
BEGIN:VEVENT
DTSTART;VALUE=DATE:20260322
DTEND;VALUE=DATE:20260323
DTSTAMP:20260426T051317
CREATED:20250907T085224Z
LAST-MODIFIED:20260131T045303Z
UID:10005807-1774137600-1774223999@www.lyktan.net
SUMMARY:STÄNGT
DESCRIPTION:Denna dagen har vi stängt
URL:https://www.lyktan.net/event/stangt/2026-03-22/
CATEGORIES:Stängd
ATTACH;FMTTYPE=image/jpeg:https://www.lyktan.net/wp-content/uploads/2025/09/R.jpeg
END:VEVENT
BEGIN:VEVENT
DTSTART;TZID=Europe/Stockholm:20260322T130000
DTEND;TZID=Europe/Stockholm:20260322T140000
DTSTAMP:20260426T051317
CREATED:20260304T021711Z
LAST-MODIFIED:20260304T234108Z
UID:10009034-1774184400-1774188000@www.lyktan.net
SUMMARY:Cirkelns mitt – Mötesplatser - Workshop
DESCRIPTION:Cirkelns mitt – Mötesplatser är också en konstnärlig workshop som hålls på Galleri Lyktan i Skogås centrum där konstnärens utställning fortsätter: \n\n\n\n22 & 29 mars \n\n\n\n12 & 19 aprilkl. 13–14 \n\n\n\nAlla är välkomna. Avgiftsfritt. Ingen förkunskap behövs. \n\n\n\nAnita Wernström (f. 1980) är en konstnär baserad i Stockholm\, uppvuxen i Skogås.  \n\n\n\nHon arbetar med materialitet\, lärande och det kollektiva genom ett intuitivt och konceptuellt uttryck. Wernström har en Bachelor of Arts i fri konst från The Slade School of Fine Art\, University College London. Hennes verk har visats internationellt\, bland annat på Bloomsbury New Contemporaries och Camden Art Centre i London. På Statens Konstråd samt Färgfabriken i Stockholm. 
URL:https://www.lyktan.net/event/cirkelns-mitt-motesplatser-workshop/2026-03-22/
LOCATION:Galleri Lyktan\, Skogåstorget 7-9\, Skogås\, 142 30\, Sweden
CATEGORIES:Utställning,Workshop
ATTACH;FMTTYPE=image/jpeg:https://www.lyktan.net/wp-content/uploads/2026/03/Affich_Circelns_mitt.1-scaled.jpg
END:VEVENT
BEGIN:VEVENT
DTSTART;VALUE=DATE:20260323
DTEND;VALUE=DATE:20260324
DTSTAMP:20260426T051317
CREATED:20250907T085224Z
LAST-MODIFIED:20260131T045303Z
UID:10005808-1774224000-1774310399@www.lyktan.net
SUMMARY:STÄNGT
DESCRIPTION:Denna dagen har vi stängt
URL:https://www.lyktan.net/event/stangt/2026-03-23/
CATEGORIES:Stängd
ATTACH;FMTTYPE=image/jpeg:https://www.lyktan.net/wp-content/uploads/2025/09/R.jpeg
END:VEVENT
BEGIN:VEVENT
DTSTART;TZID=Europe/Stockholm:20260326T180000
DTEND;TZID=Europe/Stockholm:20260326T200000
DTSTAMP:20260426T051317
CREATED:20250902T000603Z
LAST-MODIFIED:20250902T000603Z
UID:10005499-1774548000-1774555200@www.lyktan.net
SUMMARY:Torsdagsträffar
DESCRIPTION:
URL:https://www.lyktan.net/event/torsdagstraffar/2026-03-26/
CATEGORIES:Samtal
END:VEVENT
BEGIN:VEVENT
DTSTART;TZID=Europe/Stockholm:20260328T110000
DTEND;TZID=Europe/Stockholm:20260328T170000
DTSTAMP:20260426T051317
CREATED:20260131T042811Z
LAST-MODIFIED:20260131T042814Z
UID:10008394-1774695600-1774717200@www.lyktan.net
SUMMARY:Påskmarknad med pyssel för barn
DESCRIPTION:
URL:https://www.lyktan.net/event/paskmarknad-med-pyssel-for-barn/
LOCATION:Galleri Lyktan\, Skogåstorget 7-9\, Skogås\, 142 30\, Sweden
CATEGORIES:Workshop
ATTACH;FMTTYPE=image/webp:https://www.lyktan.net/wp-content/uploads/2025/04/56189_3.webp
END:VEVENT
BEGIN:VEVENT
DTSTART;VALUE=DATE:20260329
DTEND;VALUE=DATE:20260331
DTSTAMP:20260426T051317
CREATED:20250907T085224Z
LAST-MODIFIED:20260131T045303Z
UID:10005809-1774742400-1774832399@www.lyktan.net
SUMMARY:STÄNGT
DESCRIPTION:Denna dagen har vi stängt
URL:https://www.lyktan.net/event/stangt/2026-03-29/
CATEGORIES:Stängd
ATTACH;FMTTYPE=image/jpeg:https://www.lyktan.net/wp-content/uploads/2025/09/R.jpeg
END:VEVENT
END:VCALENDAR